BEGIN:VCALENDAR
VERSION:2.0
PRODID:icalendar-ruby
CALSCALE:GREGORIAN
METHOD:PUBLISH
BEGIN:VTIMEZONE
TZID:America/New_York
BEGIN:DAYLIGHT
DTSTART:20190310T030000
TZOFFSETFROM:-0500
TZOFFSETTO:-0400
RRULE:FREQ=YEARLY;BYDAY=2SU;BYMONTH=3
TZNAME:EDT
END:DAYLIGHT
BEGIN:STANDARD
DTSTART:20181104T010000
TZOFFSETFROM:-0400
TZOFFSETTO:-0500
RRULE:FREQ=YEARLY;BYDAY=1SU;BYMONTH=11
TZNAME:EST
END:STANDARD
END:VTIMEZONE
BEGIN:VEVENT
DTSTAMP:20260421T122137Z
UID:https://www.schedulegalaxy.com/schools/936/teams/347421/games/234578
DTSTART;TZID=America/New_York:20190211T173000
DTEND;TZID=America/New_York:20190211T184500
CREATED;TZID=America/New_York:20190206T131444
LAST-MODIFIED;TZID=America/New_York:20190211T120223
LOCATION:Whitehall Jr/Sr High School
SUMMARY:Boys Junior Varsity Basketball @ Whitehall
URL:https://www.schedulegalaxy.com/schools/936/teams/347421/games/234578
END:VEVENT
END:VCALENDAR
