BEGIN:VCALENDAR
VERSION:2.0
PRODID:icalendar-ruby
CALSCALE:GREGORIAN
METHOD:PUBLISH
BEGIN:VTIMEZONE
TZID:America/New_York
BEGIN:DAYLIGHT
DTSTART:20180311T030000
TZOFFSETFROM:-0500
TZOFFSETTO:-0400
RRULE:FREQ=YEARLY;BYDAY=2SU;BYMONTH=3
TZNAME:EDT
END:DAYLIGHT
BEGIN:STANDARD
DTSTART:20171105T010000
TZOFFSETFROM:-0400
TZOFFSETTO:-0500
RRULE:FREQ=YEARLY;BYDAY=1SU;BYMONTH=11
TZNAME:EST
END:STANDARD
END:VTIMEZONE
BEGIN:VTIMEZONE
TZID:America/New_York
BEGIN:DAYLIGHT
DTSTART:20180311T030000
TZOFFSETFROM:-0500
TZOFFSETTO:-0400
RRULE:FREQ=YEARLY;BYDAY=2SU;BYMONTH=3
TZNAME:EDT
END:DAYLIGHT
BEGIN:STANDARD
DTSTART:20171105T010000
TZOFFSETFROM:-0400
TZOFFSETTO:-0500
RRULE:FREQ=YEARLY;BYDAY=1SU;BYMONTH=11
TZNAME:EST
END:STANDARD
END:VTIMEZONE
BEGIN:VTIMEZONE
TZID:America/New_York
BEGIN:DAYLIGHT
DTSTART:20180311T030000
TZOFFSETFROM:-0500
TZOFFSETTO:-0400
RRULE:FREQ=YEARLY;BYDAY=2SU;BYMONTH=3
TZNAME:EDT
END:DAYLIGHT
BEGIN:STANDARD
DTSTART:20171105T010000
TZOFFSETFROM:-0400
TZOFFSETTO:-0500
RRULE:FREQ=YEARLY;BYDAY=1SU;BYMONTH=11
TZNAME:EST
END:STANDARD
END:VTIMEZONE
BEGIN:VTIMEZONE
TZID:America/New_York
BEGIN:DAYLIGHT
DTSTART:20180311T030000
TZOFFSETFROM:-0500
TZOFFSETTO:-0400
RRULE:FREQ=YEARLY;BYDAY=2SU;BYMONTH=3
TZNAME:EDT
END:DAYLIGHT
BEGIN:STANDARD
DTSTART:20171105T010000
TZOFFSETFROM:-0400
TZOFFSETTO:-0500
RRULE:FREQ=YEARLY;BYDAY=1SU;BYMONTH=11
TZNAME:EST
END:STANDARD
END:VTIMEZONE
BEGIN:VTIMEZONE
TZID:America/New_York
BEGIN:DAYLIGHT
DTSTART:20180311T030000
TZOFFSETFROM:-0500
TZOFFSETTO:-0400
RRULE:FREQ=YEARLY;BYDAY=2SU;BYMONTH=3
TZNAME:EDT
END:DAYLIGHT
BEGIN:STANDARD
DTSTART:20171105T010000
TZOFFSETFROM:-0400
TZOFFSETTO:-0500
RRULE:FREQ=YEARLY;BYDAY=1SU;BYMONTH=11
TZNAME:EST
END:STANDARD
END:VTIMEZONE
BEGIN:VTIMEZONE
TZID:America/New_York
BEGIN:DAYLIGHT
DTSTART:20180311T030000
TZOFFSETFROM:-0500
TZOFFSETTO:-0400
RRULE:FREQ=YEARLY;BYDAY=2SU;BYMONTH=3
TZNAME:EDT
END:DAYLIGHT
BEGIN:STANDARD
DTSTART:20171105T010000
TZOFFSETFROM:-0400
TZOFFSETTO:-0500
RRULE:FREQ=YEARLY;BYDAY=1SU;BYMONTH=11
TZNAME:EST
END:STANDARD
END:VTIMEZONE
BEGIN:VTIMEZONE
TZID:America/New_York
BEGIN:DAYLIGHT
DTSTART:20180311T030000
TZOFFSETFROM:-0500
TZOFFSETTO:-0400
RRULE:FREQ=YEARLY;BYDAY=2SU;BYMONTH=3
TZNAME:EDT
END:DAYLIGHT
BEGIN:STANDARD
DTSTART:20171105T010000
TZOFFSETFROM:-0400
TZOFFSETTO:-0500
RRULE:FREQ=YEARLY;BYDAY=1SU;BYMONTH=11
TZNAME:EST
END:STANDARD
END:VTIMEZONE
BEGIN:VTIMEZONE
TZID:America/New_York
BEGIN:DAYLIGHT
DTSTART:20180311T030000
TZOFFSETFROM:-0500
TZOFFSETTO:-0400
RRULE:FREQ=YEARLY;BYDAY=2SU;BYMONTH=3
TZNAME:EDT
END:DAYLIGHT
BEGIN:STANDARD
DTSTART:20171105T010000
TZOFFSETFROM:-0400
TZOFFSETTO:-0500
RRULE:FREQ=YEARLY;BYDAY=1SU;BYMONTH=11
TZNAME:EST
END:STANDARD
END:VTIMEZONE
BEGIN:VTIMEZONE
TZID:America/New_York
BEGIN:DAYLIGHT
DTSTART:20180311T030000
TZOFFSETFROM:-0500
TZOFFSETTO:-0400
RRULE:FREQ=YEARLY;BYDAY=2SU;BYMONTH=3
TZNAME:EDT
END:DAYLIGHT
BEGIN:STANDARD
DTSTART:20171105T010000
TZOFFSETFROM:-0400
TZOFFSETTO:-0500
RRULE:FREQ=YEARLY;BYDAY=1SU;BYMONTH=11
TZNAME:EST
END:STANDARD
END:VTIMEZONE
BEGIN:VTIMEZONE
TZID:America/New_York
BEGIN:DAYLIGHT
DTSTART:20180311T030000
TZOFFSETFROM:-0500
TZOFFSETTO:-0400
RRULE:FREQ=YEARLY;BYDAY=2SU;BYMONTH=3
TZNAME:EDT
END:DAYLIGHT
BEGIN:STANDARD
DTSTART:20171105T010000
TZOFFSETFROM:-0400
TZOFFSETTO:-0500
RRULE:FREQ=YEARLY;BYDAY=1SU;BYMONTH=11
TZNAME:EST
END:STANDARD
END:VTIMEZONE
BEGIN:VTIMEZONE
TZID:America/New_York
BEGIN:DAYLIGHT
DTSTART:20180311T030000
TZOFFSETFROM:-0500
TZOFFSETTO:-0400
RRULE:FREQ=YEARLY;BYDAY=2SU;BYMONTH=3
TZNAME:EDT
END:DAYLIGHT
BEGIN:STANDARD
DTSTART:20171105T010000
TZOFFSETFROM:-0400
TZOFFSETTO:-0500
RRULE:FREQ=YEARLY;BYDAY=1SU;BYMONTH=11
TZNAME:EST
END:STANDARD
END:VTIMEZONE
BEGIN:VTIMEZONE
TZID:America/New_York
BEGIN:DAYLIGHT
DTSTART:20180311T030000
TZOFFSETFROM:-0500
TZOFFSETTO:-0400
RRULE:FREQ=YEARLY;BYDAY=2SU;BYMONTH=3
TZNAME:EDT
END:DAYLIGHT
BEGIN:STANDARD
DTSTART:20171105T010000
TZOFFSETFROM:-0400
TZOFFSETTO:-0500
RRULE:FREQ=YEARLY;BYDAY=1SU;BYMONTH=11
TZNAME:EST
END:STANDARD
END:VTIMEZONE
BEGIN:VTIMEZONE
TZID:America/New_York
BEGIN:DAYLIGHT
DTSTART:20180311T030000
TZOFFSETFROM:-0500
TZOFFSETTO:-0400
RRULE:FREQ=YEARLY;BYDAY=2SU;BYMONTH=3
TZNAME:EDT
END:DAYLIGHT
BEGIN:STANDARD
DTSTART:20171105T010000
TZOFFSETFROM:-0400
TZOFFSETTO:-0500
RRULE:FREQ=YEARLY;BYDAY=1SU;BYMONTH=11
TZNAME:EST
END:STANDARD
END:VTIMEZONE
BEGIN:VTIMEZONE
TZID:America/New_York
BEGIN:DAYLIGHT
DTSTART:20180311T030000
TZOFFSETFROM:-0500
TZOFFSETTO:-0400
RRULE:FREQ=YEARLY;BYDAY=2SU;BYMONTH=3
TZNAME:EDT
END:DAYLIGHT
BEGIN:STANDARD
DTSTART:20171105T010000
TZOFFSETFROM:-0400
TZOFFSETTO:-0500
RRULE:FREQ=YEARLY;BYDAY=1SU;BYMONTH=11
TZNAME:EST
END:STANDARD
END:VTIMEZONE
BEGIN:VTIMEZONE
TZID:America/New_York
BEGIN:DAYLIGHT
DTSTART:20180311T030000
TZOFFSETFROM:-0500
TZOFFSETTO:-0400
RRULE:FREQ=YEARLY;BYDAY=2SU;BYMONTH=3
TZNAME:EDT
END:DAYLIGHT
BEGIN:STANDARD
DTSTART:20171105T010000
TZOFFSETFROM:-0400
TZOFFSETTO:-0500
RRULE:FREQ=YEARLY;BYDAY=1SU;BYMONTH=11
TZNAME:EST
END:STANDARD
END:VTIMEZONE
BEGIN:VTIMEZONE
TZID:America/New_York
BEGIN:DAYLIGHT
DTSTART:20180311T030000
TZOFFSETFROM:-0500
TZOFFSETTO:-0400
RRULE:FREQ=YEARLY;BYDAY=2SU;BYMONTH=3
TZNAME:EDT
END:DAYLIGHT
BEGIN:STANDARD
DTSTART:20171105T010000
TZOFFSETFROM:-0400
TZOFFSETTO:-0500
RRULE:FREQ=YEARLY;BYDAY=1SU;BYMONTH=11
TZNAME:EST
END:STANDARD
END:VTIMEZONE
BEGIN:VTIMEZONE
TZID:America/New_York
BEGIN:DAYLIGHT
DTSTART:20180311T030000
TZOFFSETFROM:-0500
TZOFFSETTO:-0400
RRULE:FREQ=YEARLY;BYDAY=2SU;BYMONTH=3
TZNAME:EDT
END:DAYLIGHT
BEGIN:STANDARD
DTSTART:20171105T010000
TZOFFSETFROM:-0400
TZOFFSETTO:-0500
RRULE:FREQ=YEARLY;BYDAY=1SU;BYMONTH=11
TZNAME:EST
END:STANDARD
END:VTIMEZONE
BEGIN:VTIMEZONE
TZID:America/New_York
BEGIN:DAYLIGHT
DTSTART:20180311T030000
TZOFFSETFROM:-0500
TZOFFSETTO:-0400
RRULE:FREQ=YEARLY;BYDAY=2SU;BYMONTH=3
TZNAME:EDT
END:DAYLIGHT
BEGIN:STANDARD
DTSTART:20171105T010000
TZOFFSETFROM:-0400
TZOFFSETTO:-0500
RRULE:FREQ=YEARLY;BYDAY=1SU;BYMONTH=11
TZNAME:EST
END:STANDARD
END:VTIMEZONE
BEGIN:VTIMEZONE
TZID:America/New_York
BEGIN:DAYLIGHT
DTSTART:20180311T030000
TZOFFSETFROM:-0500
TZOFFSETTO:-0400
RRULE:FREQ=YEARLY;BYDAY=2SU;BYMONTH=3
TZNAME:EDT
END:DAYLIGHT
BEGIN:STANDARD
DTSTART:20171105T010000
TZOFFSETFROM:-0400
TZOFFSETTO:-0500
RRULE:FREQ=YEARLY;BYDAY=1SU;BYMONTH=11
TZNAME:EST
END:STANDARD
END:VTIMEZONE
BEGIN:VTIMEZONE
TZID:America/New_York
BEGIN:DAYLIGHT
DTSTART:20180311T030000
TZOFFSETFROM:-0500
TZOFFSETTO:-0400
RRULE:FREQ=YEARLY;BYDAY=2SU;BYMONTH=3
TZNAME:EDT
END:DAYLIGHT
BEGIN:STANDARD
DTSTART:20171105T010000
TZOFFSETFROM:-0400
TZOFFSETTO:-0500
RRULE:FREQ=YEARLY;BYDAY=1SU;BYMONTH=11
TZNAME:EST
END:STANDARD
END:VTIMEZONE
BEGIN:VTIMEZONE
TZID:America/New_York
BEGIN:DAYLIGHT
DTSTART:20180311T030000
TZOFFSETFROM:-0500
TZOFFSETTO:-0400
RRULE:FREQ=YEARLY;BYDAY=2SU;BYMONTH=3
TZNAME:EDT
END:DAYLIGHT
BEGIN:STANDARD
DTSTART:20171105T010000
TZOFFSETFROM:-0400
TZOFFSETTO:-0500
RRULE:FREQ=YEARLY;BYDAY=1SU;BYMONTH=11
TZNAME:EST
END:STANDARD
END:VTIMEZONE
BEGIN:VTIMEZONE
TZID:America/New_York
BEGIN:DAYLIGHT
DTSTART:20180311T030000
TZOFFSETFROM:-0500
TZOFFSETTO:-0400
RRULE:FREQ=YEARLY;BYDAY=2SU;BYMONTH=3
TZNAME:EDT
END:DAYLIGHT
BEGIN:STANDARD
DTSTART:20171105T010000
TZOFFSETFROM:-0400
TZOFFSETTO:-0500
RRULE:FREQ=YEARLY;BYDAY=1SU;BYMONTH=11
TZNAME:EST
END:STANDARD
END:VTIMEZONE
BEGIN:VTIMEZONE
TZID:America/New_York
BEGIN:DAYLIGHT
DTSTART:20180311T030000
TZOFFSETFROM:-0500
TZOFFSETTO:-0400
RRULE:FREQ=YEARLY;BYDAY=2SU;BYMONTH=3
TZNAME:EDT
END:DAYLIGHT
BEGIN:STANDARD
DTSTART:20171105T010000
TZOFFSETFROM:-0400
TZOFFSETTO:-0500
RRULE:FREQ=YEARLY;BYDAY=1SU;BYMONTH=11
TZNAME:EST
END:STANDARD
END:VTIMEZONE
BEGIN:VTIMEZONE
TZID:America/New_York
BEGIN:DAYLIGHT
DTSTART:20180311T030000
TZOFFSETFROM:-0500
TZOFFSETTO:-0400
RRULE:FREQ=YEARLY;BYDAY=2SU;BYMONTH=3
TZNAME:EDT
END:DAYLIGHT
BEGIN:STANDARD
DTSTART:20171105T010000
TZOFFSETFROM:-0400
TZOFFSETTO:-0500
RRULE:FREQ=YEARLY;BYDAY=1SU;BYMONTH=11
TZNAME:EST
END:STANDARD
END:VTIMEZONE
BEGIN:VTIMEZONE
TZID:America/New_York
BEGIN:DAYLIGHT
DTSTART:20180311T030000
TZOFFSETFROM:-0500
TZOFFSETTO:-0400
RRULE:FREQ=YEARLY;BYDAY=2SU;BYMONTH=3
TZNAME:EDT
END:DAYLIGHT
BEGIN:STANDARD
DTSTART:20171105T010000
TZOFFSETFROM:-0400
TZOFFSETTO:-0500
RRULE:FREQ=YEARLY;BYDAY=1SU;BYMONTH=11
TZNAME:EST
END:STANDARD
END:VTIMEZONE
BEGIN:VEVENT
DTSTAMP:20260422T071855Z
UID:https://www.schedulegalaxy.com/schools/92/teams/32923/games/58073
DTSTART;TZID=America/New_York:20180201T190000
CREATED;TZID=America/New_York:20170426T192835
LAST-MODIFIED;TZID=America/New_York:20190528T164505
LOCATION:
SUMMARY:Boys Varsity Basketball v. TBD
URL:https://www.schedulegalaxy.com/schools/92/teams/32923/games/58073
END:VEVENT
BEGIN:VEVENT
DTSTAMP:20260422T071855Z
UID:https://www.schedulegalaxy.com/schools/92/teams/32923/games/58339
DTSTART;TZID=America/New_York:20171129T183000
CREATED;TZID=America/New_York:20170427T135804
LAST-MODIFIED;TZID=America/New_York:20171102T161046
LOCATION:JCB Gym
SUMMARY:Boys Varsity Basketball @ Phoenix
URL:https://www.schedulegalaxy.com/schools/92/teams/32923/games/58339
END:VEVENT
BEGIN:VEVENT
DTSTAMP:20260422T071855Z
UID:https://www.schedulegalaxy.com/schools/92/teams/32923/games/58455
DTSTART;TZID=America/New_York:20171205T190000
CREATED;TZID=America/New_York:20170428T085557
LAST-MODIFIED;TZID=America/New_York:20170428T085725
LOCATION:Skaneateles HS gymnasium
SUMMARY:Boys Varsity Basketball v. Homer
URL:https://www.schedulegalaxy.com/schools/92/teams/32923/games/58455
END:VEVENT
BEGIN:VEVENT
DTSTAMP:20260422T071855Z
UID:https://www.schedulegalaxy.com/schools/92/teams/32923/games/58457
DTSTART;TZID=America/New_York:20180102T190000
CREATED;TZID=America/New_York:20170428T085840
LAST-MODIFIED;TZID=America/New_York:20171214T101425
LOCATION:Skaneateles HS gymnasium
SUMMARY:Boys Varsity Basketball v. Solvay
URL:https://www.schedulegalaxy.com/schools/92/teams/32923/games/58457
END:VEVENT
BEGIN:VEVENT
DTSTAMP:20260422T071855Z
UID:https://www.schedulegalaxy.com/schools/92/teams/32923/games/58459
DTSTART;TZID=America/New_York:20171215T190000
CREATED;TZID=America/New_York:20170428T085916
LAST-MODIFIED;TZID=America/New_York:20170428T093324
LOCATION:Skaneateles HS gymnasium
SUMMARY:Boys Varsity Basketball v. Marcellus
URL:https://www.schedulegalaxy.com/schools/92/teams/32923/games/58459
END:VEVENT
BEGIN:VEVENT
DTSTAMP:20260422T071855Z
UID:https://www.schedulegalaxy.com/schools/92/teams/32923/games/58461
DTSTART;TZID=America/New_York:20171219T190000
CREATED;TZID=America/New_York:20170428T090006
LAST-MODIFIED;TZID=America/New_York:20170428T090006
LOCATION:Skaneateles HS gymnasium
SUMMARY:Boys Varsity Basketball v. Hannibal
URL:https://www.schedulegalaxy.com/schools/92/teams/32923/games/58461
END:VEVENT
BEGIN:VEVENT
DTSTAMP:20260422T071855Z
UID:https://www.schedulegalaxy.com/schools/92/teams/32923/games/58463
DTSTART;TZID=America/New_York:20180212T190000
CREATED;TZID=America/New_York:20170428T090043
LAST-MODIFIED;TZID=America/New_York:20180104T121526
LOCATION:Skaneateles HS gymnasium
SUMMARY:Boys Varsity Basketball v. Cazenovia
URL:https://www.schedulegalaxy.com/schools/92/teams/32923/games/58463
END:VEVENT
BEGIN:VEVENT
DTSTAMP:20260422T071855Z
UID:https://www.schedulegalaxy.com/schools/92/teams/32923/games/58467
DTSTART;TZID=America/New_York:20180210T143000
CREATED;TZID=America/New_York:20170428T090251
LAST-MODIFIED;TZID=America/New_York:20180201T084143
LOCATION:Skaneateles HS gymnasium
SUMMARY:Boys Varsity Basketball v. Jordan-Elbridge
URL:https://www.schedulegalaxy.com/schools/92/teams/32923/games/58467
END:VEVENT
BEGIN:VEVENT
DTSTAMP:20260422T071855Z
UID:https://www.schedulegalaxy.com/schools/92/teams/32923/games/58470
DTSTART;TZID=America/New_York:20180109T190000
CREATED;TZID=America/New_York:20170428T090505
LAST-MODIFIED;TZID=America/New_York:20180124T113039
LOCATION:Mexico HS-Gymnasium
SUMMARY:Boys Varsity Basketball @ Mexico
URL:https://www.schedulegalaxy.com/schools/92/teams/32923/games/58470
END:VEVENT
BEGIN:VEVENT
DTSTAMP:20260422T071855Z
UID:https://www.schedulegalaxy.com/schools/92/teams/32923/games/58472
DTSTART;TZID=America/New_York:20180117T190000
CREATED;TZID=America/New_York:20170428T090616
LAST-MODIFIED;TZID=America/New_York:20171102T161047
LOCATION:Syracuse Academy of Science
SUMMARY:Boys Varsity Basketball @ Syracuse Academy of Science
URL:https://www.schedulegalaxy.com/schools/92/teams/32923/games/58472
END:VEVENT
BEGIN:VEVENT
DTSTAMP:20260422T071855Z
UID:https://www.schedulegalaxy.com/schools/92/teams/32923/games/58474
DTSTART;TZID=America/New_York:20180119T190000
CREATED;TZID=America/New_York:20170428T090712
LAST-MODIFIED;TZID=America/New_York:20171102T161047
LOCATION:Marcellus HS Gym
SUMMARY:Boys Varsity Basketball @ Marcellus
URL:https://www.schedulegalaxy.com/schools/92/teams/32923/games/58474
END:VEVENT
BEGIN:VEVENT
DTSTAMP:20260422T071855Z
UID:https://www.schedulegalaxy.com/schools/92/teams/32923/games/58476
DTSTART;TZID=America/New_York:20180123T183000
CREATED;TZID=America/New_York:20170428T090847
LAST-MODIFIED;TZID=America/New_York:20171102T161048
LOCATION:A-P-W High School
SUMMARY:Boys Varsity Basketball @ Altmar-Parish-Williamstown (APW Rebels)
URL:https://www.schedulegalaxy.com/schools/92/teams/32923/games/58476
END:VEVENT
BEGIN:VEVENT
DTSTAMP:20260422T071855Z
UID:https://www.schedulegalaxy.com/schools/92/teams/32923/games/58478
DTSTART;TZID=America/New_York:20180126T190000
CREATED;TZID=America/New_York:20170428T090948
LAST-MODIFIED;TZID=America/New_York:20171102T161048
LOCATION:Tully HS Gym #1
SUMMARY:Boys Varsity Basketball @ Tully
URL:https://www.schedulegalaxy.com/schools/92/teams/32923/games/58478
END:VEVENT
BEGIN:VEVENT
DTSTAMP:20260422T071855Z
UID:https://www.schedulegalaxy.com/schools/92/teams/32923/games/58480
DTSTART;TZID=America/New_York:20180205T183000
CREATED;TZID=America/New_York:20170428T091323
LAST-MODIFIED;TZID=America/New_York:20180202T133245
LOCATION:Solvay HS Large Gym
SUMMARY:Boys Varsity Basketball @ Solvay
URL:https://www.schedulegalaxy.com/schools/92/teams/32923/games/58480
END:VEVENT
BEGIN:VEVENT
DTSTAMP:20260422T071855Z
UID:https://www.schedulegalaxy.com/schools/92/teams/32923/games/58482
DTSTART;TZID=America/New_York:20180206T190000
CREATED;TZID=America/New_York:20170428T091634
LAST-MODIFIED;TZID=America/New_York:20171012T122443
LOCATION:Skaneateles HS gymnasium
SUMMARY:Boys Varsity Basketball v. Institute of Technology\, Syracuse
URL:https://www.schedulegalaxy.com/schools/92/teams/32923/games/58482
END:VEVENT
BEGIN:VEVENT
DTSTAMP:20260422T071855Z
UID:https://www.schedulegalaxy.com/schools/92/teams/32923/games/58484
DTSTART;TZID=America/New_York:20180208T190000
CREATED;TZID=America/New_York:20170428T091755
LAST-MODIFIED;TZID=America/New_York:20171102T161138
LOCATION:Chittenango HS
SUMMARY:Boys Varsity Basketball @ Chittenango
URL:https://www.schedulegalaxy.com/schools/92/teams/32923/games/58484
END:VEVENT
BEGIN:VEVENT
DTSTAMP:20260422T071855Z
UID:https://www.schedulegalaxy.com/schools/92/teams/32923/games/60165
DTSTART;TZID=America/New_York:20171211T183000
CREATED;TZID=America/New_York:20170516T155201
LAST-MODIFIED;TZID=America/New_York:20171030T115715
LOCATION:Skaneateles HS gymnasium
SUMMARY:Boys Varsity Basketball v. Cortland
URL:https://www.schedulegalaxy.com/schools/92/teams/32923/games/60165
END:VEVENT
BEGIN:VEVENT
DTSTAMP:20260422T071855Z
UID:https://www.schedulegalaxy.com/schools/92/teams/32923/games/86981
DTSTART;TZID=America/New_York:20171121T170000
CREATED;TZID=America/New_York:20170915T153530
LAST-MODIFIED;TZID=America/New_York:20180604T221026
LOCATION:NY Chiropractic College Athletic Ctr
SUMMARY:Boys Varsity Basketball Lyons\, Auburn @ TBD
URL:https://www.schedulegalaxy.com/schools/92/teams/32923/games/86981
END:VEVENT
BEGIN:VEVENT
DTSTAMP:20260422T071855Z
UID:https://www.schedulegalaxy.com/schools/92/teams/32923/games/91062
DTSTART;TZID=America/New_York:20171227T173000
CREATED;TZID=America/New_York:20171003T134432
LAST-MODIFIED;TZID=America/New_York:20171102T161046
LOCATION:Chittenango High School
SUMMARY:Boys Varsity Basketball @ Whitesboro
URL:https://www.schedulegalaxy.com/schools/92/teams/32923/games/91062
END:VEVENT
BEGIN:VEVENT
DTSTAMP:20260422T071855Z
UID:https://www.schedulegalaxy.com/schools/92/teams/32923/games/91117
DTSTART;TZID=America/New_York:20171228T000000
CREATED;TZID=America/New_York:20171003T143452
LAST-MODIFIED;TZID=America/New_York:20171228T084105
LOCATION:Chittenango High School
SUMMARY:Boys Varsity Basketball @ TBD
URL:https://www.schedulegalaxy.com/schools/92/teams/32923/games/91117
END:VEVENT
BEGIN:VEVENT
DTSTAMP:20260422T071855Z
UID:https://www.schedulegalaxy.com/schools/92/teams/32923/games/97118
DTSTART;TZID=America/New_York:20171118T120000
CREATED;TZID=America/New_York:20171023T075212
LAST-MODIFIED;TZID=America/New_York:20171106T141131
LOCATION:Skaneateles HS gymnasium
SUMMARY:Boys Varsity Basketball v. Weedsport
URL:https://www.schedulegalaxy.com/schools/92/teams/32923/games/97118
END:VEVENT
BEGIN:VEVENT
DTSTAMP:20260422T071855Z
UID:https://www.schedulegalaxy.com/schools/92/teams/32923/games/106924
DTSTART;TZID=America/New_York:20171116T173000
CREATED;TZID=America/New_York:20171109T090658
LAST-MODIFIED;TZID=America/New_York:20171115T133323
LOCATION:Skaneateles HS gymnasium
SUMMARY:Boys Varsity Basketball v. Oswego
URL:https://www.schedulegalaxy.com/schools/92/teams/32923/games/106924
END:VEVENT
BEGIN:VEVENT
DTSTAMP:20260422T071855Z
UID:https://www.schedulegalaxy.com/schools/92/teams/32923/games/114779
DTSTART;TZID=America/New_York:20180122T190000
CREATED;TZID=America/New_York:20180104T141525
LAST-MODIFIED;TZID=America/New_York:20180626T105724
LOCATION:
SUMMARY:Boys Varsity Basketball @ Jordan-Elbridge
URL:https://www.schedulegalaxy.com/schools/92/teams/32923/games/114779
END:VEVENT
BEGIN:VEVENT
DTSTAMP:20260422T071855Z
UID:https://www.schedulegalaxy.com/schools/92/teams/32923/games/125933
DTSTART;TZID=America/New_York:20180215T190000
CREATED;TZID=America/New_York:20180214T101243
LAST-MODIFIED;TZID=America/New_York:20180214T101723
LOCATION:Skaneateles HS gymnasium
SUMMARY:Boys Varsity Basketball v. Solvay
URL:https://www.schedulegalaxy.com/schools/92/teams/32923/games/125933
END:VEVENT
BEGIN:VEVENT
DTSTAMP:20260422T071855Z
UID:https://www.schedulegalaxy.com/schools/92/teams/32923/games/126267
DTSTART;TZID=America/New_York:20180217T160000
CREATED;TZID=America/New_York:20180216T074705
LAST-MODIFIED;TZID=America/New_York:20190528T164505
LOCATION:Westhill High School
SUMMARY:Boys Varsity Basketball @ TBD
URL:https://www.schedulegalaxy.com/schools/92/teams/32923/games/126267
END:VEVENT
END:VCALENDAR
