BEGIN:VCALENDAR
VERSION:2.0
PRODID:icalendar-ruby
CALSCALE:GREGORIAN
METHOD:PUBLISH
BEGIN:VTIMEZONE
TZID:America/New_York
BEGIN:DAYLIGHT
DTSTART:20170312T030000
TZOFFSETFROM:-0500
TZOFFSETTO:-0400
RRULE:FREQ=YEARLY;BYDAY=2SU;BYMONTH=3
TZNAME:EDT
END:DAYLIGHT
BEGIN:STANDARD
DTSTART:20161106T010000
TZOFFSETFROM:-0400
TZOFFSETTO:-0500
RRULE:FREQ=YEARLY;BYDAY=1SU;BYMONTH=11
TZNAME:EST
END:STANDARD
END:VTIMEZONE
BEGIN:VTIMEZONE
TZID:America/New_York
BEGIN:DAYLIGHT
DTSTART:20170312T030000
TZOFFSETFROM:-0500
TZOFFSETTO:-0400
RRULE:FREQ=YEARLY;BYDAY=2SU;BYMONTH=3
TZNAME:EDT
END:DAYLIGHT
BEGIN:STANDARD
DTSTART:20161106T010000
TZOFFSETFROM:-0400
TZOFFSETTO:-0500
RRULE:FREQ=YEARLY;BYDAY=1SU;BYMONTH=11
TZNAME:EST
END:STANDARD
END:VTIMEZONE
BEGIN:VTIMEZONE
TZID:America/New_York
BEGIN:DAYLIGHT
DTSTART:20170312T030000
TZOFFSETFROM:-0500
TZOFFSETTO:-0400
RRULE:FREQ=YEARLY;BYDAY=2SU;BYMONTH=3
TZNAME:EDT
END:DAYLIGHT
BEGIN:STANDARD
DTSTART:20161106T010000
TZOFFSETFROM:-0400
TZOFFSETTO:-0500
RRULE:FREQ=YEARLY;BYDAY=1SU;BYMONTH=11
TZNAME:EST
END:STANDARD
END:VTIMEZONE
BEGIN:VTIMEZONE
TZID:America/New_York
BEGIN:DAYLIGHT
DTSTART:20170312T030000
TZOFFSETFROM:-0500
TZOFFSETTO:-0400
RRULE:FREQ=YEARLY;BYDAY=2SU;BYMONTH=3
TZNAME:EDT
END:DAYLIGHT
BEGIN:STANDARD
DTSTART:20161106T010000
TZOFFSETFROM:-0400
TZOFFSETTO:-0500
RRULE:FREQ=YEARLY;BYDAY=1SU;BYMONTH=11
TZNAME:EST
END:STANDARD
END:VTIMEZONE
BEGIN:VTIMEZONE
TZID:America/New_York
BEGIN:DAYLIGHT
DTSTART:20170312T030000
TZOFFSETFROM:-0500
TZOFFSETTO:-0400
RRULE:FREQ=YEARLY;BYDAY=2SU;BYMONTH=3
TZNAME:EDT
END:DAYLIGHT
BEGIN:STANDARD
DTSTART:20161106T010000
TZOFFSETFROM:-0400
TZOFFSETTO:-0500
RRULE:FREQ=YEARLY;BYDAY=1SU;BYMONTH=11
TZNAME:EST
END:STANDARD
END:VTIMEZONE
BEGIN:VTIMEZONE
TZID:America/New_York
BEGIN:DAYLIGHT
DTSTART:20170312T030000
TZOFFSETFROM:-0500
TZOFFSETTO:-0400
RRULE:FREQ=YEARLY;BYDAY=2SU;BYMONTH=3
TZNAME:EDT
END:DAYLIGHT
BEGIN:STANDARD
DTSTART:20161106T010000
TZOFFSETFROM:-0400
TZOFFSETTO:-0500
RRULE:FREQ=YEARLY;BYDAY=1SU;BYMONTH=11
TZNAME:EST
END:STANDARD
END:VTIMEZONE
BEGIN:VTIMEZONE
TZID:America/New_York
BEGIN:DAYLIGHT
DTSTART:20170312T030000
TZOFFSETFROM:-0500
TZOFFSETTO:-0400
RRULE:FREQ=YEARLY;BYDAY=2SU;BYMONTH=3
TZNAME:EDT
END:DAYLIGHT
BEGIN:STANDARD
DTSTART:20161106T010000
TZOFFSETFROM:-0400
TZOFFSETTO:-0500
RRULE:FREQ=YEARLY;BYDAY=1SU;BYMONTH=11
TZNAME:EST
END:STANDARD
END:VTIMEZONE
BEGIN:VTIMEZONE
TZID:America/New_York
BEGIN:DAYLIGHT
DTSTART:20170312T030000
TZOFFSETFROM:-0500
TZOFFSETTO:-0400
RRULE:FREQ=YEARLY;BYDAY=2SU;BYMONTH=3
TZNAME:EDT
END:DAYLIGHT
BEGIN:STANDARD
DTSTART:20161106T010000
TZOFFSETFROM:-0400
TZOFFSETTO:-0500
RRULE:FREQ=YEARLY;BYDAY=1SU;BYMONTH=11
TZNAME:EST
END:STANDARD
END:VTIMEZONE
BEGIN:VTIMEZONE
TZID:America/New_York
BEGIN:DAYLIGHT
DTSTART:20170312T030000
TZOFFSETFROM:-0500
TZOFFSETTO:-0400
RRULE:FREQ=YEARLY;BYDAY=2SU;BYMONTH=3
TZNAME:EDT
END:DAYLIGHT
BEGIN:STANDARD
DTSTART:20161106T010000
TZOFFSETFROM:-0400
TZOFFSETTO:-0500
RRULE:FREQ=YEARLY;BYDAY=1SU;BYMONTH=11
TZNAME:EST
END:STANDARD
END:VTIMEZONE
BEGIN:VTIMEZONE
TZID:America/New_York
BEGIN:DAYLIGHT
DTSTART:20170312T030000
TZOFFSETFROM:-0500
TZOFFSETTO:-0400
RRULE:FREQ=YEARLY;BYDAY=2SU;BYMONTH=3
TZNAME:EDT
END:DAYLIGHT
BEGIN:STANDARD
DTSTART:20161106T010000
TZOFFSETFROM:-0400
TZOFFSETTO:-0500
RRULE:FREQ=YEARLY;BYDAY=1SU;BYMONTH=11
TZNAME:EST
END:STANDARD
END:VTIMEZONE
BEGIN:VTIMEZONE
TZID:America/New_York
BEGIN:DAYLIGHT
DTSTART:20170312T030000
TZOFFSETFROM:-0500
TZOFFSETTO:-0400
RRULE:FREQ=YEARLY;BYDAY=2SU;BYMONTH=3
TZNAME:EDT
END:DAYLIGHT
BEGIN:STANDARD
DTSTART:20161106T010000
TZOFFSETFROM:-0400
TZOFFSETTO:-0500
RRULE:FREQ=YEARLY;BYDAY=1SU;BYMONTH=11
TZNAME:EST
END:STANDARD
END:VTIMEZONE
BEGIN:VTIMEZONE
TZID:America/New_York
BEGIN:DAYLIGHT
DTSTART:20170312T030000
TZOFFSETFROM:-0500
TZOFFSETTO:-0400
RRULE:FREQ=YEARLY;BYDAY=2SU;BYMONTH=3
TZNAME:EDT
END:DAYLIGHT
BEGIN:STANDARD
DTSTART:20161106T010000
TZOFFSETFROM:-0400
TZOFFSETTO:-0500
RRULE:FREQ=YEARLY;BYDAY=1SU;BYMONTH=11
TZNAME:EST
END:STANDARD
END:VTIMEZONE
BEGIN:VTIMEZONE
TZID:America/New_York
BEGIN:DAYLIGHT
DTSTART:20170312T030000
TZOFFSETFROM:-0500
TZOFFSETTO:-0400
RRULE:FREQ=YEARLY;BYDAY=2SU;BYMONTH=3
TZNAME:EDT
END:DAYLIGHT
BEGIN:STANDARD
DTSTART:20161106T010000
TZOFFSETFROM:-0400
TZOFFSETTO:-0500
RRULE:FREQ=YEARLY;BYDAY=1SU;BYMONTH=11
TZNAME:EST
END:STANDARD
END:VTIMEZONE
BEGIN:VTIMEZONE
TZID:America/New_York
BEGIN:DAYLIGHT
DTSTART:20170312T030000
TZOFFSETFROM:-0500
TZOFFSETTO:-0400
RRULE:FREQ=YEARLY;BYDAY=2SU;BYMONTH=3
TZNAME:EDT
END:DAYLIGHT
BEGIN:STANDARD
DTSTART:20161106T010000
TZOFFSETFROM:-0400
TZOFFSETTO:-0500
RRULE:FREQ=YEARLY;BYDAY=1SU;BYMONTH=11
TZNAME:EST
END:STANDARD
END:VTIMEZONE
BEGIN:VTIMEZONE
TZID:America/New_York
BEGIN:DAYLIGHT
DTSTART:20170312T030000
TZOFFSETFROM:-0500
TZOFFSETTO:-0400
RRULE:FREQ=YEARLY;BYDAY=2SU;BYMONTH=3
TZNAME:EDT
END:DAYLIGHT
BEGIN:STANDARD
DTSTART:20161106T010000
TZOFFSETFROM:-0400
TZOFFSETTO:-0500
RRULE:FREQ=YEARLY;BYDAY=1SU;BYMONTH=11
TZNAME:EST
END:STANDARD
END:VTIMEZONE
BEGIN:VTIMEZONE
TZID:America/New_York
BEGIN:DAYLIGHT
DTSTART:20170312T030000
TZOFFSETFROM:-0500
TZOFFSETTO:-0400
RRULE:FREQ=YEARLY;BYDAY=2SU;BYMONTH=3
TZNAME:EDT
END:DAYLIGHT
BEGIN:STANDARD
DTSTART:20161106T010000
TZOFFSETFROM:-0400
TZOFFSETTO:-0500
RRULE:FREQ=YEARLY;BYDAY=1SU;BYMONTH=11
TZNAME:EST
END:STANDARD
END:VTIMEZONE
BEGIN:VTIMEZONE
TZID:America/New_York
BEGIN:DAYLIGHT
DTSTART:20170312T030000
TZOFFSETFROM:-0500
TZOFFSETTO:-0400
RRULE:FREQ=YEARLY;BYDAY=2SU;BYMONTH=3
TZNAME:EDT
END:DAYLIGHT
BEGIN:STANDARD
DTSTART:20161106T010000
TZOFFSETFROM:-0400
TZOFFSETTO:-0500
RRULE:FREQ=YEARLY;BYDAY=1SU;BYMONTH=11
TZNAME:EST
END:STANDARD
END:VTIMEZONE
BEGIN:VTIMEZONE
TZID:America/New_York
BEGIN:DAYLIGHT
DTSTART:20170312T030000
TZOFFSETFROM:-0500
TZOFFSETTO:-0400
RRULE:FREQ=YEARLY;BYDAY=2SU;BYMONTH=3
TZNAME:EDT
END:DAYLIGHT
BEGIN:STANDARD
DTSTART:20161106T010000
TZOFFSETFROM:-0400
TZOFFSETTO:-0500
RRULE:FREQ=YEARLY;BYDAY=1SU;BYMONTH=11
TZNAME:EST
END:STANDARD
END:VTIMEZONE
BEGIN:VTIMEZONE
TZID:America/New_York
BEGIN:DAYLIGHT
DTSTART:20170312T030000
TZOFFSETFROM:-0500
TZOFFSETTO:-0400
RRULE:FREQ=YEARLY;BYDAY=2SU;BYMONTH=3
TZNAME:EDT
END:DAYLIGHT
BEGIN:STANDARD
DTSTART:20161106T010000
TZOFFSETFROM:-0400
TZOFFSETTO:-0500
RRULE:FREQ=YEARLY;BYDAY=1SU;BYMONTH=11
TZNAME:EST
END:STANDARD
END:VTIMEZONE
BEGIN:VTIMEZONE
TZID:America/New_York
BEGIN:DAYLIGHT
DTSTART:20170312T030000
TZOFFSETFROM:-0500
TZOFFSETTO:-0400
RRULE:FREQ=YEARLY;BYDAY=2SU;BYMONTH=3
TZNAME:EDT
END:DAYLIGHT
BEGIN:STANDARD
DTSTART:20161106T010000
TZOFFSETFROM:-0400
TZOFFSETTO:-0500
RRULE:FREQ=YEARLY;BYDAY=1SU;BYMONTH=11
TZNAME:EST
END:STANDARD
END:VTIMEZONE
BEGIN:VTIMEZONE
TZID:America/New_York
BEGIN:DAYLIGHT
DTSTART:20170312T030000
TZOFFSETFROM:-0500
TZOFFSETTO:-0400
RRULE:FREQ=YEARLY;BYDAY=2SU;BYMONTH=3
TZNAME:EDT
END:DAYLIGHT
BEGIN:STANDARD
DTSTART:20161106T010000
TZOFFSETFROM:-0400
TZOFFSETTO:-0500
RRULE:FREQ=YEARLY;BYDAY=1SU;BYMONTH=11
TZNAME:EST
END:STANDARD
END:VTIMEZONE
BEGIN:VTIMEZONE
TZID:America/New_York
BEGIN:DAYLIGHT
DTSTART:20170312T030000
TZOFFSETFROM:-0500
TZOFFSETTO:-0400
RRULE:FREQ=YEARLY;BYDAY=2SU;BYMONTH=3
TZNAME:EDT
END:DAYLIGHT
BEGIN:STANDARD
DTSTART:20161106T010000
TZOFFSETFROM:-0400
TZOFFSETTO:-0500
RRULE:FREQ=YEARLY;BYDAY=1SU;BYMONTH=11
TZNAME:EST
END:STANDARD
END:VTIMEZONE
BEGIN:VTIMEZONE
TZID:America/New_York
BEGIN:DAYLIGHT
DTSTART:20170312T030000
TZOFFSETFROM:-0500
TZOFFSETTO:-0400
RRULE:FREQ=YEARLY;BYDAY=2SU;BYMONTH=3
TZNAME:EDT
END:DAYLIGHT
BEGIN:STANDARD
DTSTART:20161106T010000
TZOFFSETFROM:-0400
TZOFFSETTO:-0500
RRULE:FREQ=YEARLY;BYDAY=1SU;BYMONTH=11
TZNAME:EST
END:STANDARD
END:VTIMEZONE
BEGIN:VTIMEZONE
TZID:America/New_York
BEGIN:DAYLIGHT
DTSTART:20170312T030000
TZOFFSETFROM:-0500
TZOFFSETTO:-0400
RRULE:FREQ=YEARLY;BYDAY=2SU;BYMONTH=3
TZNAME:EDT
END:DAYLIGHT
BEGIN:STANDARD
DTSTART:20161106T010000
TZOFFSETFROM:-0400
TZOFFSETTO:-0500
RRULE:FREQ=YEARLY;BYDAY=1SU;BYMONTH=11
TZNAME:EST
END:STANDARD
END:VTIMEZONE
BEGIN:VTIMEZONE
TZID:America/New_York
BEGIN:DAYLIGHT
DTSTART:20170312T030000
TZOFFSETFROM:-0500
TZOFFSETTO:-0400
RRULE:FREQ=YEARLY;BYDAY=2SU;BYMONTH=3
TZNAME:EDT
END:DAYLIGHT
BEGIN:STANDARD
DTSTART:20161106T010000
TZOFFSETFROM:-0400
TZOFFSETTO:-0500
RRULE:FREQ=YEARLY;BYDAY=1SU;BYMONTH=11
TZNAME:EST
END:STANDARD
END:VTIMEZONE
BEGIN:VTIMEZONE
TZID:America/New_York
BEGIN:DAYLIGHT
DTSTART:20170312T030000
TZOFFSETFROM:-0500
TZOFFSETTO:-0400
RRULE:FREQ=YEARLY;BYDAY=2SU;BYMONTH=3
TZNAME:EDT
END:DAYLIGHT
BEGIN:STANDARD
DTSTART:20161106T010000
TZOFFSETFROM:-0400
TZOFFSETTO:-0500
RRULE:FREQ=YEARLY;BYDAY=1SU;BYMONTH=11
TZNAME:EST
END:STANDARD
END:VTIMEZONE
BEGIN:VEVENT
DTSTAMP:20260422T013803Z
UID:https://www.schedulegalaxy.com/schools/92/teams/32923/games/31789
DTSTART;TZID=America/New_York:20161208T183000
CREATED;TZID=America/New_York:20160504T122045
LAST-MODIFIED;TZID=America/New_York:20190528T164505
LOCATION:Westhill High School
SUMMARY:Boys Varsity Basketball @ TBD
URL:https://www.schedulegalaxy.com/schools/92/teams/32923/games/31789
END:VEVENT
BEGIN:VEVENT
DTSTAMP:20260422T013803Z
UID:https://www.schedulegalaxy.com/schools/92/teams/32923/games/32300
DTSTART;TZID=America/New_York:20161129T190000
CREATED;TZID=America/New_York:20160513T081731
LAST-MODIFIED;TZID=America/New_York:20180626T105723
LOCATION:
SUMMARY:Boys Varsity Basketball @ Jordan-Elbridge
URL:https://www.schedulegalaxy.com/schools/92/teams/32923/games/32300
END:VEVENT
BEGIN:VEVENT
DTSTAMP:20260422T013803Z
UID:https://www.schedulegalaxy.com/schools/92/teams/32923/games/32304
DTSTART;TZID=America/New_York:20161213T190000
CREATED;TZID=America/New_York:20160513T082944
LAST-MODIFIED;TZID=America/New_York:20160919T043243
LOCATION:Skaneateles HS gymnasium
SUMMARY:Boys Varsity Basketball v. Jamesville-Dewitt (RED RAMS)
URL:https://www.schedulegalaxy.com/schools/92/teams/32923/games/32304
END:VEVENT
BEGIN:VEVENT
DTSTAMP:20260422T013803Z
UID:https://www.schedulegalaxy.com/schools/92/teams/32923/games/32012
DTSTART;TZID=America/New_York:20170203T190000
CREATED;TZID=America/New_York:20160507T152535
LAST-MODIFIED;TZID=America/New_York:20180321T215040
LOCATION:
SUMMARY:Boys Varsity Basketball v. Phoenix
URL:https://www.schedulegalaxy.com/schools/92/teams/32923/games/32012
END:VEVENT
BEGIN:VEVENT
DTSTAMP:20260422T013803Z
UID:https://www.schedulegalaxy.com/schools/92/teams/32923/games/32302
DTSTART;TZID=America/New_York:20161202T190000
CREATED;TZID=America/New_York:20160513T082855
LAST-MODIFIED;TZID=America/New_York:20160919T043243
LOCATION:Skaneateles HS gymnasium
SUMMARY:Boys Varsity Basketball v. Chittenango
URL:https://www.schedulegalaxy.com/schools/92/teams/32923/games/32302
END:VEVENT
BEGIN:VEVENT
DTSTAMP:20260422T013803Z
UID:https://www.schedulegalaxy.com/schools/92/teams/32923/games/32318
DTSTART;TZID=America/New_York:20170120T190000
CREATED;TZID=America/New_York:20160513T091605
LAST-MODIFIED;TZID=America/New_York:20160919T043243
LOCATION:Skaneateles HS gymnasium
SUMMARY:Boys Varsity Basketball v. Altmar-Parish-Williamstown (APW Rebels)
URL:https://www.schedulegalaxy.com/schools/92/teams/32923/games/32318
END:VEVENT
BEGIN:VEVENT
DTSTAMP:20260422T013803Z
UID:https://www.schedulegalaxy.com/schools/92/teams/32923/games/32306
DTSTART;TZID=America/New_York:20161216T190000
DTEND;TZID=America/New_York:20161216T203000
CREATED;TZID=America/New_York:20160513T083044
LAST-MODIFIED;TZID=America/New_York:20161011T160731
LOCATION:Skaneateles HS gymnasium
SUMMARY:Boys Varsity Basketball v. Pulaski
URL:https://www.schedulegalaxy.com/schools/92/teams/32923/games/32306
END:VEVENT
BEGIN:VEVENT
DTSTAMP:20260422T013803Z
UID:https://www.schedulegalaxy.com/schools/92/teams/32923/games/32310
DTSTART;TZID=America/New_York:20170106T190000
CREATED;TZID=America/New_York:20160513T090156
LAST-MODIFIED;TZID=America/New_York:20160919T043243
LOCATION:Marcellus HS Gym
SUMMARY:Boys Varsity Basketball @ Marcellus
URL:https://www.schedulegalaxy.com/schools/92/teams/32923/games/32310
END:VEVENT
BEGIN:VEVENT
DTSTAMP:20260422T013803Z
UID:https://www.schedulegalaxy.com/schools/92/teams/32923/games/32308
DTSTART;TZID=America/New_York:20161220T190000
CREATED;TZID=America/New_York:20160513T090115
LAST-MODIFIED;TZID=America/New_York:20160919T043243
LOCATION:Skaneateles HS gymnasium
SUMMARY:Boys Varsity Basketball v. Institute of Technology\, Syracuse
URL:https://www.schedulegalaxy.com/schools/92/teams/32923/games/32308
END:VEVENT
BEGIN:VEVENT
DTSTAMP:20260422T013803Z
UID:https://www.schedulegalaxy.com/schools/92/teams/32923/games/32322
DTSTART;TZID=America/New_York:20170207T180000
CREATED;TZID=America/New_York:20160513T091936
LAST-MODIFIED;TZID=America/New_York:20160919T043243
LOCATION:Hannibal H S
SUMMARY:Boys Varsity Basketball @ Hannibal
URL:https://www.schedulegalaxy.com/schools/92/teams/32923/games/32322
END:VEVENT
BEGIN:VEVENT
DTSTAMP:20260422T013803Z
UID:https://www.schedulegalaxy.com/schools/92/teams/32923/games/32320
DTSTART;TZID=America/New_York:20170127T183000
CREATED;TZID=America/New_York:20160513T091756
LAST-MODIFIED;TZID=America/New_York:20160919T043243
LOCATION:Institute of Technology
SUMMARY:Boys Varsity Basketball @ Institute of Technology\, Syracuse
URL:https://www.schedulegalaxy.com/schools/92/teams/32923/games/32320
END:VEVENT
BEGIN:VEVENT
DTSTAMP:20260422T013803Z
UID:https://www.schedulegalaxy.com/schools/92/teams/32923/games/32316
DTSTART;TZID=America/New_York:20170118T190000
CREATED;TZID=America/New_York:20160513T091449
LAST-MODIFIED;TZID=America/New_York:20170112T085915
LOCATION:Skaneateles HS gymnasium
SUMMARY:Boys Varsity Basketball v. Jordan-Elbridge
URL:https://www.schedulegalaxy.com/schools/92/teams/32923/games/32316
END:VEVENT
BEGIN:VEVENT
DTSTAMP:20260422T013803Z
UID:https://www.schedulegalaxy.com/schools/92/teams/32923/games/32314
DTSTART;TZID=America/New_York:20170113T190000
CREATED;TZID=America/New_York:20160513T091315
LAST-MODIFIED;TZID=America/New_York:20170911T024816
LOCATION:
SUMMARY:Boys Varsity Basketball @ Cazenovia
URL:https://www.schedulegalaxy.com/schools/92/teams/32923/games/32314
END:VEVENT
BEGIN:VEVENT
DTSTAMP:20260422T013803Z
UID:https://www.schedulegalaxy.com/schools/92/teams/32923/games/32401
DTSTART;TZID=America/New_York:20170124T190000
CREATED;TZID=America/New_York:20160516T130636
LAST-MODIFIED;TZID=America/New_York:20170124T114948
LOCATION:Skaneateles HS gymnasium
SUMMARY:Boys Varsity Basketball v. Central Square
URL:https://www.schedulegalaxy.com/schools/92/teams/32923/games/32401
END:VEVENT
BEGIN:VEVENT
DTSTAMP:20260422T013803Z
UID:https://www.schedulegalaxy.com/schools/92/teams/32923/games/32399
DTSTART;TZID=America/New_York:20170201T183000
CREATED;TZID=America/New_York:20160516T130544
LAST-MODIFIED;TZID=America/New_York:20161216T130048
LOCATION:CS: Paul V. Moore Gymnasium
SUMMARY:Boys Varsity Basketball @ Central Square
URL:https://www.schedulegalaxy.com/schools/92/teams/32923/games/32399
END:VEVENT
BEGIN:VEVENT
DTSTAMP:20260422T013803Z
UID:https://www.schedulegalaxy.com/schools/92/teams/32923/games/39754
DTSTART;TZID=America/New_York:20161126T181500
CREATED;TZID=America/New_York:20160926T133629
LAST-MODIFIED;TZID=America/New_York:20161122T083006
LOCATION:SRC Arena @ O.C.C.
SUMMARY:Boys Varsity Basketball @ New Hartford
URL:https://www.schedulegalaxy.com/schools/92/teams/32923/games/39754
END:VEVENT
BEGIN:VEVENT
DTSTAMP:20260422T013803Z
UID:https://www.schedulegalaxy.com/schools/92/tournaments/218/games/39773
DTSTART;TZID=America/New_York:20161228T190000
CREATED;TZID=America/New_York:20160927T091953
LAST-MODIFIED;TZID=America/New_York:20161018T081744
LOCATION:Skaneateles HS gymnasium
SUMMARY:Boys Varsity Basketball v. Marcellus
URL:https://www.schedulegalaxy.com/schools/92/tournaments/218/games/39773
END:VEVENT
BEGIN:VEVENT
DTSTAMP:20260422T013803Z
UID:https://www.schedulegalaxy.com/schools/92/teams/32923/games/40372
DTSTART;TZID=America/New_York:20161229T143000
CREATED;TZID=America/New_York:20161006T110444
LAST-MODIFIED;TZID=America/New_York:20161228T211124
LOCATION:SRC Arena @ O.C.C.
SUMMARY:Boys Varsity Basketball @ TBD
URL:https://www.schedulegalaxy.com/schools/92/teams/32923/games/40372
END:VEVENT
BEGIN:VEVENT
DTSTAMP:20260422T013803Z
UID:https://www.schedulegalaxy.com/schools/92/teams/32923/games/42093
DTSTART;TZID=America/New_York:20161116T180000
CREATED;TZID=America/New_York:20161025T112201
LAST-MODIFIED;TZID=America/New_York:20171121T134625
LOCATION:
SUMMARY:Boys Varsity Basketball @ Mexico
URL:https://www.schedulegalaxy.com/schools/92/teams/32923/games/42093
END:VEVENT
BEGIN:VEVENT
DTSTAMP:20260422T013803Z
UID:https://www.schedulegalaxy.com/schools/92/teams/32923/games/42094
DTSTART;TZID=America/New_York:20161119T093000
CREATED;TZID=America/New_York:20161025T112321
LAST-MODIFIED;TZID=America/New_York:20180306T101931
LOCATION:
SUMMARY:Boys Varsity Basketball @ Weedsport
URL:https://www.schedulegalaxy.com/schools/92/teams/32923/games/42094
END:VEVENT
BEGIN:VEVENT
DTSTAMP:20260422T013803Z
UID:https://www.schedulegalaxy.com/schools/92/teams/32923/games/42095
DTSTART;TZID=America/New_York:20161123T100000
CREATED;TZID=America/New_York:20161025T112501
LAST-MODIFIED;TZID=America/New_York:20161122T083555
LOCATION:Skaneateles HS gymnasium
SUMMARY:Boys Varsity Basketball v. Homer
URL:https://www.schedulegalaxy.com/schools/92/teams/32923/games/42095
END:VEVENT
BEGIN:VEVENT
DTSTAMP:20260422T013803Z
UID:https://www.schedulegalaxy.com/schools/92/teams/32923/games/42445
DTSTART;TZID=America/New_York:20170116T183000
CREATED;TZID=America/New_York:20161031T111017
LAST-MODIFIED;TZID=America/New_York:20161220T103400
LOCATION:Skaneateles HS gymnasium
SUMMARY:Boys Varsity Basketball v. Syracuse Academy of Science
URL:https://www.schedulegalaxy.com/schools/92/teams/32923/games/42445
END:VEVENT
BEGIN:VEVENT
DTSTAMP:20260422T013803Z
UID:https://www.schedulegalaxy.com/schools/92/teams/32923/games/46157
DTSTART;TZID=America/New_York:20170111T190000
CREATED;TZID=America/New_York:20170112T091307
LAST-MODIFIED;TZID=America/New_York:20170112T091316
LOCATION:Skaneateles HS gymnasium
SUMMARY:Boys Varsity Basketball v. Solvay
URL:https://www.schedulegalaxy.com/schools/92/teams/32923/games/46157
END:VEVENT
BEGIN:VEVENT
DTSTAMP:20260422T013803Z
UID:https://www.schedulegalaxy.com/schools/92/teams/32923/games/49372
DTSTART;TZID=America/New_York:20170217T194500
CREATED;TZID=America/New_York:20170215T111355
LAST-MODIFIED;TZID=America/New_York:20170215T114457
LOCATION:Sherburne-Earlville HS
SUMMARY:Boys Varsity Basketball @ Sherburne-Earlville
URL:https://www.schedulegalaxy.com/schools/92/teams/32923/games/49372
END:VEVENT
BEGIN:VEVENT
DTSTAMP:20260422T013803Z
UID:https://www.schedulegalaxy.com/schools/92/teams/32923/games/49509
DTSTART;TZID=America/New_York:20170221T190000
CREATED;TZID=America/New_York:20170219T151422
LAST-MODIFIED;TZID=America/New_York:20170219T152011
LOCATION:Cazenovia HS Buckley Gym
SUMMARY:Boys Varsity Basketball @ Cazenovia
URL:https://www.schedulegalaxy.com/schools/92/teams/32923/games/49509
END:VEVENT
BEGIN:VEVENT
DTSTAMP:20260422T013803Z
UID:https://www.schedulegalaxy.com/schools/92/teams/32923/games/49630
DTSTART;TZID=America/New_York:20170225T170000
CREATED;TZID=America/New_York:20170222T092253
LAST-MODIFIED;TZID=America/New_York:20190528T164505
LOCATION:Lemoyne College
SUMMARY:Boys Varsity Basketball @ TBD
URL:https://www.schedulegalaxy.com/schools/92/teams/32923/games/49630
END:VEVENT
END:VCALENDAR
