BEGIN:VCALENDAR
VERSION:2.0
PRODID:icalendar-ruby
CALSCALE:GREGORIAN
METHOD:PUBLISH
BEGIN:VTIMEZONE
TZID:America/New_York
BEGIN:DAYLIGHT
DTSTART:20160313T030000
TZOFFSETFROM:-0500
TZOFFSETTO:-0400
RRULE:FREQ=YEARLY;BYDAY=2SU;BYMONTH=3
TZNAME:EDT
END:DAYLIGHT
BEGIN:STANDARD
DTSTART:20151101T010000
TZOFFSETFROM:-0400
TZOFFSETTO:-0500
RRULE:FREQ=YEARLY;BYDAY=1SU;BYMONTH=11
TZNAME:EST
END:STANDARD
END:VTIMEZONE
BEGIN:VTIMEZONE
TZID:America/New_York
BEGIN:DAYLIGHT
DTSTART:20160313T030000
TZOFFSETFROM:-0500
TZOFFSETTO:-0400
RRULE:FREQ=YEARLY;BYDAY=2SU;BYMONTH=3
TZNAME:EDT
END:DAYLIGHT
BEGIN:STANDARD
DTSTART:20151101T010000
TZOFFSETFROM:-0400
TZOFFSETTO:-0500
RRULE:FREQ=YEARLY;BYDAY=1SU;BYMONTH=11
TZNAME:EST
END:STANDARD
END:VTIMEZONE
BEGIN:VTIMEZONE
TZID:America/New_York
BEGIN:DAYLIGHT
DTSTART:20160313T030000
TZOFFSETFROM:-0500
TZOFFSETTO:-0400
RRULE:FREQ=YEARLY;BYDAY=2SU;BYMONTH=3
TZNAME:EDT
END:DAYLIGHT
BEGIN:STANDARD
DTSTART:20151101T010000
TZOFFSETFROM:-0400
TZOFFSETTO:-0500
RRULE:FREQ=YEARLY;BYDAY=1SU;BYMONTH=11
TZNAME:EST
END:STANDARD
END:VTIMEZONE
BEGIN:VTIMEZONE
TZID:America/New_York
BEGIN:DAYLIGHT
DTSTART:20160313T030000
TZOFFSETFROM:-0500
TZOFFSETTO:-0400
RRULE:FREQ=YEARLY;BYDAY=2SU;BYMONTH=3
TZNAME:EDT
END:DAYLIGHT
BEGIN:STANDARD
DTSTART:20151101T010000
TZOFFSETFROM:-0400
TZOFFSETTO:-0500
RRULE:FREQ=YEARLY;BYDAY=1SU;BYMONTH=11
TZNAME:EST
END:STANDARD
END:VTIMEZONE
BEGIN:VTIMEZONE
TZID:America/New_York
BEGIN:DAYLIGHT
DTSTART:20160313T030000
TZOFFSETFROM:-0500
TZOFFSETTO:-0400
RRULE:FREQ=YEARLY;BYDAY=2SU;BYMONTH=3
TZNAME:EDT
END:DAYLIGHT
BEGIN:STANDARD
DTSTART:20151101T010000
TZOFFSETFROM:-0400
TZOFFSETTO:-0500
RRULE:FREQ=YEARLY;BYDAY=1SU;BYMONTH=11
TZNAME:EST
END:STANDARD
END:VTIMEZONE
BEGIN:VTIMEZONE
TZID:America/New_York
BEGIN:DAYLIGHT
DTSTART:20160313T030000
TZOFFSETFROM:-0500
TZOFFSETTO:-0400
RRULE:FREQ=YEARLY;BYDAY=2SU;BYMONTH=3
TZNAME:EDT
END:DAYLIGHT
BEGIN:STANDARD
DTSTART:20151101T010000
TZOFFSETFROM:-0400
TZOFFSETTO:-0500
RRULE:FREQ=YEARLY;BYDAY=1SU;BYMONTH=11
TZNAME:EST
END:STANDARD
END:VTIMEZONE
BEGIN:VTIMEZONE
TZID:America/New_York
BEGIN:DAYLIGHT
DTSTART:20160313T030000
TZOFFSETFROM:-0500
TZOFFSETTO:-0400
RRULE:FREQ=YEARLY;BYDAY=2SU;BYMONTH=3
TZNAME:EDT
END:DAYLIGHT
BEGIN:STANDARD
DTSTART:20151101T010000
TZOFFSETFROM:-0400
TZOFFSETTO:-0500
RRULE:FREQ=YEARLY;BYDAY=1SU;BYMONTH=11
TZNAME:EST
END:STANDARD
END:VTIMEZONE
BEGIN:VTIMEZONE
TZID:America/New_York
BEGIN:DAYLIGHT
DTSTART:20160313T030000
TZOFFSETFROM:-0500
TZOFFSETTO:-0400
RRULE:FREQ=YEARLY;BYDAY=2SU;BYMONTH=3
TZNAME:EDT
END:DAYLIGHT
BEGIN:STANDARD
DTSTART:20151101T010000
TZOFFSETFROM:-0400
TZOFFSETTO:-0500
RRULE:FREQ=YEARLY;BYDAY=1SU;BYMONTH=11
TZNAME:EST
END:STANDARD
END:VTIMEZONE
BEGIN:VTIMEZONE
TZID:America/New_York
BEGIN:DAYLIGHT
DTSTART:20160313T030000
TZOFFSETFROM:-0500
TZOFFSETTO:-0400
RRULE:FREQ=YEARLY;BYDAY=2SU;BYMONTH=3
TZNAME:EDT
END:DAYLIGHT
BEGIN:STANDARD
DTSTART:20151101T010000
TZOFFSETFROM:-0400
TZOFFSETTO:-0500
RRULE:FREQ=YEARLY;BYDAY=1SU;BYMONTH=11
TZNAME:EST
END:STANDARD
END:VTIMEZONE
BEGIN:VTIMEZONE
TZID:America/New_York
BEGIN:DAYLIGHT
DTSTART:20160313T030000
TZOFFSETFROM:-0500
TZOFFSETTO:-0400
RRULE:FREQ=YEARLY;BYDAY=2SU;BYMONTH=3
TZNAME:EDT
END:DAYLIGHT
BEGIN:STANDARD
DTSTART:20151101T010000
TZOFFSETFROM:-0400
TZOFFSETTO:-0500
RRULE:FREQ=YEARLY;BYDAY=1SU;BYMONTH=11
TZNAME:EST
END:STANDARD
END:VTIMEZONE
BEGIN:VTIMEZONE
TZID:America/New_York
BEGIN:DAYLIGHT
DTSTART:20160313T030000
TZOFFSETFROM:-0500
TZOFFSETTO:-0400
RRULE:FREQ=YEARLY;BYDAY=2SU;BYMONTH=3
TZNAME:EDT
END:DAYLIGHT
BEGIN:STANDARD
DTSTART:20151101T010000
TZOFFSETFROM:-0400
TZOFFSETTO:-0500
RRULE:FREQ=YEARLY;BYDAY=1SU;BYMONTH=11
TZNAME:EST
END:STANDARD
END:VTIMEZONE
BEGIN:VTIMEZONE
TZID:America/New_York
BEGIN:DAYLIGHT
DTSTART:20160313T030000
TZOFFSETFROM:-0500
TZOFFSETTO:-0400
RRULE:FREQ=YEARLY;BYDAY=2SU;BYMONTH=3
TZNAME:EDT
END:DAYLIGHT
BEGIN:STANDARD
DTSTART:20151101T010000
TZOFFSETFROM:-0400
TZOFFSETTO:-0500
RRULE:FREQ=YEARLY;BYDAY=1SU;BYMONTH=11
TZNAME:EST
END:STANDARD
END:VTIMEZONE
BEGIN:VTIMEZONE
TZID:America/New_York
BEGIN:DAYLIGHT
DTSTART:20160313T030000
TZOFFSETFROM:-0500
TZOFFSETTO:-0400
RRULE:FREQ=YEARLY;BYDAY=2SU;BYMONTH=3
TZNAME:EDT
END:DAYLIGHT
BEGIN:STANDARD
DTSTART:20151101T010000
TZOFFSETFROM:-0400
TZOFFSETTO:-0500
RRULE:FREQ=YEARLY;BYDAY=1SU;BYMONTH=11
TZNAME:EST
END:STANDARD
END:VTIMEZONE
BEGIN:VTIMEZONE
TZID:America/New_York
BEGIN:DAYLIGHT
DTSTART:20160313T030000
TZOFFSETFROM:-0500
TZOFFSETTO:-0400
RRULE:FREQ=YEARLY;BYDAY=2SU;BYMONTH=3
TZNAME:EDT
END:DAYLIGHT
BEGIN:STANDARD
DTSTART:20151101T010000
TZOFFSETFROM:-0400
TZOFFSETTO:-0500
RRULE:FREQ=YEARLY;BYDAY=1SU;BYMONTH=11
TZNAME:EST
END:STANDARD
END:VTIMEZONE
BEGIN:VTIMEZONE
TZID:America/New_York
BEGIN:DAYLIGHT
DTSTART:20160313T030000
TZOFFSETFROM:-0500
TZOFFSETTO:-0400
RRULE:FREQ=YEARLY;BYDAY=2SU;BYMONTH=3
TZNAME:EDT
END:DAYLIGHT
BEGIN:STANDARD
DTSTART:20151101T010000
TZOFFSETFROM:-0400
TZOFFSETTO:-0500
RRULE:FREQ=YEARLY;BYDAY=1SU;BYMONTH=11
TZNAME:EST
END:STANDARD
END:VTIMEZONE
BEGIN:VTIMEZONE
TZID:America/New_York
BEGIN:DAYLIGHT
DTSTART:20160313T030000
TZOFFSETFROM:-0500
TZOFFSETTO:-0400
RRULE:FREQ=YEARLY;BYDAY=2SU;BYMONTH=3
TZNAME:EDT
END:DAYLIGHT
BEGIN:STANDARD
DTSTART:20151101T010000
TZOFFSETFROM:-0400
TZOFFSETTO:-0500
RRULE:FREQ=YEARLY;BYDAY=1SU;BYMONTH=11
TZNAME:EST
END:STANDARD
END:VTIMEZONE
BEGIN:VTIMEZONE
TZID:America/New_York
BEGIN:DAYLIGHT
DTSTART:20160313T030000
TZOFFSETFROM:-0500
TZOFFSETTO:-0400
RRULE:FREQ=YEARLY;BYDAY=2SU;BYMONTH=3
TZNAME:EDT
END:DAYLIGHT
BEGIN:STANDARD
DTSTART:20151101T010000
TZOFFSETFROM:-0400
TZOFFSETTO:-0500
RRULE:FREQ=YEARLY;BYDAY=1SU;BYMONTH=11
TZNAME:EST
END:STANDARD
END:VTIMEZONE
BEGIN:VTIMEZONE
TZID:America/New_York
BEGIN:DAYLIGHT
DTSTART:20160313T030000
TZOFFSETFROM:-0500
TZOFFSETTO:-0400
RRULE:FREQ=YEARLY;BYDAY=2SU;BYMONTH=3
TZNAME:EDT
END:DAYLIGHT
BEGIN:STANDARD
DTSTART:20151101T010000
TZOFFSETFROM:-0400
TZOFFSETTO:-0500
RRULE:FREQ=YEARLY;BYDAY=1SU;BYMONTH=11
TZNAME:EST
END:STANDARD
END:VTIMEZONE
BEGIN:VTIMEZONE
TZID:America/New_York
BEGIN:DAYLIGHT
DTSTART:20160313T030000
TZOFFSETFROM:-0500
TZOFFSETTO:-0400
RRULE:FREQ=YEARLY;BYDAY=2SU;BYMONTH=3
TZNAME:EDT
END:DAYLIGHT
BEGIN:STANDARD
DTSTART:20151101T010000
TZOFFSETFROM:-0400
TZOFFSETTO:-0500
RRULE:FREQ=YEARLY;BYDAY=1SU;BYMONTH=11
TZNAME:EST
END:STANDARD
END:VTIMEZONE
BEGIN:VTIMEZONE
TZID:America/New_York
BEGIN:DAYLIGHT
DTSTART:20160313T030000
TZOFFSETFROM:-0500
TZOFFSETTO:-0400
RRULE:FREQ=YEARLY;BYDAY=2SU;BYMONTH=3
TZNAME:EDT
END:DAYLIGHT
BEGIN:STANDARD
DTSTART:20151101T010000
TZOFFSETFROM:-0400
TZOFFSETTO:-0500
RRULE:FREQ=YEARLY;BYDAY=1SU;BYMONTH=11
TZNAME:EST
END:STANDARD
END:VTIMEZONE
BEGIN:VTIMEZONE
TZID:America/New_York
BEGIN:DAYLIGHT
DTSTART:20160313T030000
TZOFFSETFROM:-0500
TZOFFSETTO:-0400
RRULE:FREQ=YEARLY;BYDAY=2SU;BYMONTH=3
TZNAME:EDT
END:DAYLIGHT
BEGIN:STANDARD
DTSTART:20151101T010000
TZOFFSETFROM:-0400
TZOFFSETTO:-0500
RRULE:FREQ=YEARLY;BYDAY=1SU;BYMONTH=11
TZNAME:EST
END:STANDARD
END:VTIMEZONE
BEGIN:VTIMEZONE
TZID:America/New_York
BEGIN:DAYLIGHT
DTSTART:20160313T030000
TZOFFSETFROM:-0500
TZOFFSETTO:-0400
RRULE:FREQ=YEARLY;BYDAY=2SU;BYMONTH=3
TZNAME:EDT
END:DAYLIGHT
BEGIN:STANDARD
DTSTART:20151101T010000
TZOFFSETFROM:-0400
TZOFFSETTO:-0500
RRULE:FREQ=YEARLY;BYDAY=1SU;BYMONTH=11
TZNAME:EST
END:STANDARD
END:VTIMEZONE
BEGIN:VTIMEZONE
TZID:America/New_York
BEGIN:DAYLIGHT
DTSTART:20160313T030000
TZOFFSETFROM:-0500
TZOFFSETTO:-0400
RRULE:FREQ=YEARLY;BYDAY=2SU;BYMONTH=3
TZNAME:EDT
END:DAYLIGHT
BEGIN:STANDARD
DTSTART:20151101T010000
TZOFFSETFROM:-0400
TZOFFSETTO:-0500
RRULE:FREQ=YEARLY;BYDAY=1SU;BYMONTH=11
TZNAME:EST
END:STANDARD
END:VTIMEZONE
BEGIN:VTIMEZONE
TZID:America/New_York
BEGIN:DAYLIGHT
DTSTART:20160313T030000
TZOFFSETFROM:-0500
TZOFFSETTO:-0400
RRULE:FREQ=YEARLY;BYDAY=2SU;BYMONTH=3
TZNAME:EDT
END:DAYLIGHT
BEGIN:STANDARD
DTSTART:20151101T010000
TZOFFSETFROM:-0400
TZOFFSETTO:-0500
RRULE:FREQ=YEARLY;BYDAY=1SU;BYMONTH=11
TZNAME:EST
END:STANDARD
END:VTIMEZONE
BEGIN:VTIMEZONE
TZID:America/New_York
BEGIN:DAYLIGHT
DTSTART:20160313T030000
TZOFFSETFROM:-0500
TZOFFSETTO:-0400
RRULE:FREQ=YEARLY;BYDAY=2SU;BYMONTH=3
TZNAME:EDT
END:DAYLIGHT
BEGIN:STANDARD
DTSTART:20151101T010000
TZOFFSETFROM:-0400
TZOFFSETTO:-0500
RRULE:FREQ=YEARLY;BYDAY=1SU;BYMONTH=11
TZNAME:EST
END:STANDARD
END:VTIMEZONE
BEGIN:VTIMEZONE
TZID:America/New_York
BEGIN:DAYLIGHT
DTSTART:20160313T030000
TZOFFSETFROM:-0500
TZOFFSETTO:-0400
RRULE:FREQ=YEARLY;BYDAY=2SU;BYMONTH=3
TZNAME:EDT
END:DAYLIGHT
BEGIN:STANDARD
DTSTART:20151101T010000
TZOFFSETFROM:-0400
TZOFFSETTO:-0500
RRULE:FREQ=YEARLY;BYDAY=1SU;BYMONTH=11
TZNAME:EST
END:STANDARD
END:VTIMEZONE
BEGIN:VEVENT
DTSTAMP:20260421T062527Z
UID:https://www.schedulegalaxy.com/schools/92/teams/32923/games/16049
DTSTART;TZID=America/New_York:20160107T190000
CREATED;TZID=America/New_York:20150424T091158
LAST-MODIFIED;TZID=America/New_York:20160919T043243
LOCATION:Marcellus HS Gym
SUMMARY:Boys Varsity Basketball @ Marcellus
URL:https://www.schedulegalaxy.com/schools/92/teams/32923/games/16049
END:VEVENT
BEGIN:VEVENT
DTSTAMP:20260421T062527Z
UID:https://www.schedulegalaxy.com/schools/92/teams/32923/games/16043
DTSTART;TZID=America/New_York:20151208T190000
CREATED;TZID=America/New_York:20150424T082601
LAST-MODIFIED;TZID=America/New_York:20160919T043243
LOCATION:Skaneateles HS gymnasium
SUMMARY:Boys Varsity Basketball v. Marcellus
URL:https://www.schedulegalaxy.com/schools/92/teams/32923/games/16043
END:VEVENT
BEGIN:VEVENT
DTSTAMP:20260421T062528Z
UID:https://www.schedulegalaxy.com/schools/92/teams/32923/games/16073
DTSTART;TZID=America/New_York:20151124T190000
CREATED;TZID=America/New_York:20150424T124329
LAST-MODIFIED;TZID=America/New_York:20160919T043243
LOCATION:Skaneateles HS gymnasium
SUMMARY:Boys Varsity Basketball v. Fulton
URL:https://www.schedulegalaxy.com/schools/92/teams/32923/games/16073
END:VEVENT
BEGIN:VEVENT
DTSTAMP:20260421T062528Z
UID:https://www.schedulegalaxy.com/schools/92/teams/32923/games/16214
DTSTART;TZID=America/New_York:20160129T190000
CREATED;TZID=America/New_York:20150427T135750
LAST-MODIFIED;TZID=America/New_York:20160919T043243
LOCATION:Cazenovia HS Buckley Gym
SUMMARY:Boys Varsity Basketball @ Cazenovia
URL:https://www.schedulegalaxy.com/schools/92/teams/32923/games/16214
END:VEVENT
BEGIN:VEVENT
DTSTAMP:20260421T062528Z
UID:https://www.schedulegalaxy.com/schools/92/teams/32923/games/16196
DTSTART;TZID=America/New_York:20151210T190000
CREATED;TZID=America/New_York:20150427T134853
LAST-MODIFIED;TZID=America/New_York:20160919T043243
LOCATION:Skaneateles HS gymnasium
SUMMARY:Boys Varsity Basketball v. Cazenovia
URL:https://www.schedulegalaxy.com/schools/92/teams/32923/games/16196
END:VEVENT
BEGIN:VEVENT
DTSTAMP:20260421T062528Z
UID:https://www.schedulegalaxy.com/schools/92/teams/32923/games/16400
DTSTART;TZID=America/New_York:20151217T190000
CREATED;TZID=America/New_York:20150429T205721
LAST-MODIFIED;TZID=America/New_York:20190528T164504
LOCATION:Skaneateles HS gymnasium
SUMMARY:Boys Varsity Basketball v. TBD
URL:https://www.schedulegalaxy.com/schools/92/teams/32923/games/16400
END:VEVENT
BEGIN:VEVENT
DTSTAMP:20260421T062528Z
UID:https://www.schedulegalaxy.com/schools/92/teams/32923/games/16525
DTSTART;TZID=America/New_York:20160122T190000
CREATED;TZID=America/New_York:20150506T112052
LAST-MODIFIED;TZID=America/New_York:20160919T043243
LOCATION:A-P-W High School
SUMMARY:Boys Varsity Basketball @ Altmar-Parish-Williamstown (APW Rebels)
URL:https://www.schedulegalaxy.com/schools/92/teams/32923/games/16525
END:VEVENT
BEGIN:VEVENT
DTSTAMP:20260421T062528Z
UID:https://www.schedulegalaxy.com/schools/92/teams/32923/games/25695
DTSTART;TZID=America/New_York:20151229T000000
CREATED;TZID=America/New_York:20151203T080204
LAST-MODIFIED;TZID=America/New_York:20160919T043243
LOCATION:SRC Arena @ O.C.C.
SUMMARY:Boys Varsity Basketball @ TBD
URL:https://www.schedulegalaxy.com/schools/92/teams/32923/games/25695
END:VEVENT
BEGIN:VEVENT
DTSTAMP:20260421T062528Z
UID:https://www.schedulegalaxy.com/schools/92/teams/32923/games/19832
DTSTART;TZID=America/New_York:20151205T190000
CREATED;TZID=America/New_York:20150706T135824
LAST-MODIFIED;TZID=America/New_York:20180626T105723
LOCATION:
SUMMARY:Boys Varsity Basketball @ Jordan-Elbridge
URL:https://www.schedulegalaxy.com/schools/92/teams/32923/games/19832
END:VEVENT
BEGIN:VEVENT
DTSTAMP:20260421T062528Z
UID:https://www.schedulegalaxy.com/schools/92/teams/32923/games/19859
DTSTART;TZID=America/New_York:20160204T190000
CREATED;TZID=America/New_York:20150706T142328
LAST-MODIFIED;TZID=America/New_York:20160919T043243
LOCATION:Skaneateles HS gymnasium
SUMMARY:Boys Varsity Basketball v. Jordan-Elbridge
URL:https://www.schedulegalaxy.com/schools/92/teams/32923/games/19859
END:VEVENT
BEGIN:VEVENT
DTSTAMP:20260421T062528Z
UID:https://www.schedulegalaxy.com/schools/92/teams/32923/games/20553
DTSTART;TZID=America/New_York:20160115T190000
CREATED;TZID=America/New_York:20150723T232642
LAST-MODIFIED;TZID=America/New_York:20160919T043243
LOCATION:Bishop Grimes Main Gym
SUMMARY:Boys Varsity Basketball @ Bishop Grimes
URL:https://www.schedulegalaxy.com/schools/92/teams/32923/games/20553
END:VEVENT
BEGIN:VEVENT
DTSTAMP:20260421T062528Z
UID:https://www.schedulegalaxy.com/schools/13/tournaments/152/games/20549
DTSTART;TZID=America/New_York:20151228T200000
CREATED;TZID=America/New_York:20150723T225236
LAST-MODIFIED;TZID=America/New_York:20160919T043243
LOCATION:OCC SRC Arena
SUMMARY:Boys Varsity Basketball @ Marcellus
URL:https://www.schedulegalaxy.com/schools/13/tournaments/152/games/20549
END:VEVENT
BEGIN:VEVENT
DTSTAMP:20260421T062528Z
UID:https://www.schedulegalaxy.com/schools/13/tournaments/152/games/20550
DTSTART;TZID=America/New_York:20151229T200000
CREATED;TZID=America/New_York:20150723T225314
LAST-MODIFIED;TZID=America/New_York:20160919T043243
LOCATION:OCC SRC Arena
SUMMARY:Boys Varsity Basketball @ Bishop Grimes
URL:https://www.schedulegalaxy.com/schools/13/tournaments/152/games/20550
END:VEVENT
BEGIN:VEVENT
DTSTAMP:20260421T062528Z
UID:https://www.schedulegalaxy.com/schools/92/teams/32923/games/21291
DTSTART;TZID=America/New_York:20151215T190000
CREATED;TZID=America/New_York:20150825T151046
LAST-MODIFIED;TZID=America/New_York:20180321T215039
LOCATION:
SUMMARY:Boys Varsity Basketball v. Solvay
URL:https://www.schedulegalaxy.com/schools/92/teams/32923/games/21291
END:VEVENT
BEGIN:VEVENT
DTSTAMP:20260421T062528Z
UID:https://www.schedulegalaxy.com/schools/92/teams/32923/games/22423
DTSTART;TZID=America/New_York:20160116T134500
CREATED;TZID=America/New_York:20150927T102401
LAST-MODIFIED;TZID=America/New_York:20190528T164504
LOCATION:OCC Allyn Gym
SUMMARY:Boys Varsity Basketball v. TBD
URL:https://www.schedulegalaxy.com/schools/92/teams/32923/games/22423
END:VEVENT
BEGIN:VEVENT
DTSTAMP:20260421T062528Z
UID:https://www.schedulegalaxy.com/schools/92/teams/32923/games/22556
DTSTART;TZID=America/New_York:20160208T190000
CREATED;TZID=America/New_York:20150929T122511
LAST-MODIFIED;TZID=America/New_York:20160919T043243
LOCATION:Skaneateles HS gymnasium
SUMMARY:Boys Varsity Basketball v. Hannibal
URL:https://www.schedulegalaxy.com/schools/92/teams/32923/games/22556
END:VEVENT
BEGIN:VEVENT
DTSTAMP:20260421T062528Z
UID:https://www.schedulegalaxy.com/schools/92/teams/32923/games/22551
DTSTART;TZID=America/New_York:20151222T190000
CREATED;TZID=America/New_York:20150929T121739
LAST-MODIFIED;TZID=America/New_York:20160919T043243
LOCATION:Skaneateles HS gymnasium
SUMMARY:Boys Varsity Basketball v. Syracuse Academy of Science
URL:https://www.schedulegalaxy.com/schools/92/teams/32923/games/22551
END:VEVENT
BEGIN:VEVENT
DTSTAMP:20260421T062528Z
UID:https://www.schedulegalaxy.com/schools/92/teams/32923/games/22552
DTSTART;TZID=America/New_York:20160105T190000
CREATED;TZID=America/New_York:20150929T121925
LAST-MODIFIED;TZID=America/New_York:20160919T043243
LOCATION:Skaneateles HS gymnasium
SUMMARY:Boys Varsity Basketball v. Institute of Technology\, Syracuse
URL:https://www.schedulegalaxy.com/schools/92/teams/32923/games/22552
END:VEVENT
BEGIN:VEVENT
DTSTAMP:20260421T062528Z
UID:https://www.schedulegalaxy.com/schools/92/teams/32923/games/22557
DTSTART;TZID=America/New_York:20160209T183000
CREATED;TZID=America/New_York:20150929T122803
LAST-MODIFIED;TZID=America/New_York:20160919T043243
LOCATION:Syracuse Academy of Science
SUMMARY:Boys Varsity Basketball @ Syracuse Academy of Science
URL:https://www.schedulegalaxy.com/schools/92/teams/32923/games/22557
END:VEVENT
BEGIN:VEVENT
DTSTAMP:20260421T062528Z
UID:https://www.schedulegalaxy.com/schools/92/teams/32923/games/23263
DTSTART;TZID=America/New_York:20151118T153000
CREATED;TZID=America/New_York:20151007T083158
LAST-MODIFIED;TZID=America/New_York:20160919T043243
LOCATION:Skaneateles HS gymnasium
SUMMARY:Boys Varsity Basketball v. Auburn
URL:https://www.schedulegalaxy.com/schools/92/teams/32923/games/23263
END:VEVENT
BEGIN:VEVENT
DTSTAMP:20260421T062528Z
UID:https://www.schedulegalaxy.com/schools/92/teams/32923/games/23190
DTSTART;TZID=America/New_York:20160202T190000
CREATED;TZID=America/New_York:20151006T140332
LAST-MODIFIED;TZID=America/New_York:20160919T043243
LOCATION:Skaneateles HS gymnasium
SUMMARY:Boys Varsity Basketball v. Moravia
URL:https://www.schedulegalaxy.com/schools/92/teams/32923/games/23190
END:VEVENT
BEGIN:VEVENT
DTSTAMP:20260421T062528Z
UID:https://www.schedulegalaxy.com/schools/92/teams/32923/games/23512
DTSTART;TZID=America/New_York:20151121T120000
CREATED;TZID=America/New_York:20151009T110404
LAST-MODIFIED;TZID=America/New_York:20160919T043243
LOCATION:Skaneateles HS gymnasium
SUMMARY:Boys Varsity Basketball v. Mexico
URL:https://www.schedulegalaxy.com/schools/92/teams/32923/games/23512
END:VEVENT
BEGIN:VEVENT
DTSTAMP:20260421T062528Z
UID:https://www.schedulegalaxy.com/schools/92/teams/32923/games/27199
DTSTART;TZID=America/New_York:20160130T173000
CREATED;TZID=America/New_York:20160114T111123
LAST-MODIFIED;TZID=America/New_York:20160919T043243
LOCATION:Solvay HS Large Gym
SUMMARY:Boys Varsity Basketball @ Solvay
URL:https://www.schedulegalaxy.com/schools/92/teams/32923/games/27199
END:VEVENT
BEGIN:VEVENT
DTSTAMP:20260421T062528Z
UID:https://www.schedulegalaxy.com/schools/92/teams/32923/games/29134
DTSTART;TZID=America/New_York:20160213T160000
CREATED;TZID=America/New_York:20160210T144154
LAST-MODIFIED;TZID=America/New_York:20160919T043243
LOCATION:Skaneateles HS gymnasium
SUMMARY:Boys Varsity Basketball v. General Brown
URL:https://www.schedulegalaxy.com/schools/92/teams/32923/games/29134
END:VEVENT
BEGIN:VEVENT
DTSTAMP:20260421T062528Z
UID:https://www.schedulegalaxy.com/schools/92/teams/32923/games/29294
DTSTART;TZID=America/New_York:20160217T180000
CREATED;TZID=America/New_York:20160214T084152
LAST-MODIFIED;TZID=America/New_York:20160919T043243
LOCATION:Sherburne-Earlville HS
SUMMARY:Boys Varsity Basketball @ Sherburne-Earlville
URL:https://www.schedulegalaxy.com/schools/92/teams/32923/games/29294
END:VEVENT
BEGIN:VEVENT
DTSTAMP:20260421T062528Z
UID:https://www.schedulegalaxy.com/schools/92/teams/32923/games/29469
DTSTART;TZID=America/New_York:20160220T160000
CREATED;TZID=America/New_York:20160218T085705
LAST-MODIFIED;TZID=America/New_York:20160919T043243
LOCATION:OCC Allyn Hall
SUMMARY:Boys Varsity Basketball @ Bishop Grimes
URL:https://www.schedulegalaxy.com/schools/92/teams/32923/games/29469
END:VEVENT
END:VCALENDAR
