BEGIN:VCALENDAR
VERSION:2.0
PRODID:icalendar-ruby
CALSCALE:GREGORIAN
METHOD:PUBLISH
BEGIN:VTIMEZONE
TZID:America/New_York
BEGIN:DAYLIGHT
DTSTART:20150308T030000
TZOFFSETFROM:-0500
TZOFFSETTO:-0400
RRULE:FREQ=YEARLY;BYDAY=2SU;BYMONTH=3
TZNAME:EDT
END:DAYLIGHT
BEGIN:STANDARD
DTSTART:20141102T010000
TZOFFSETFROM:-0400
TZOFFSETTO:-0500
RRULE:FREQ=YEARLY;BYDAY=1SU;BYMONTH=11
TZNAME:EST
END:STANDARD
END:VTIMEZONE
BEGIN:VTIMEZONE
TZID:America/New_York
BEGIN:DAYLIGHT
DTSTART:20150308T030000
TZOFFSETFROM:-0500
TZOFFSETTO:-0400
RRULE:FREQ=YEARLY;BYDAY=2SU;BYMONTH=3
TZNAME:EDT
END:DAYLIGHT
BEGIN:STANDARD
DTSTART:20141102T010000
TZOFFSETFROM:-0400
TZOFFSETTO:-0500
RRULE:FREQ=YEARLY;BYDAY=1SU;BYMONTH=11
TZNAME:EST
END:STANDARD
END:VTIMEZONE
BEGIN:VTIMEZONE
TZID:America/New_York
BEGIN:DAYLIGHT
DTSTART:20150308T030000
TZOFFSETFROM:-0500
TZOFFSETTO:-0400
RRULE:FREQ=YEARLY;BYDAY=2SU;BYMONTH=3
TZNAME:EDT
END:DAYLIGHT
BEGIN:STANDARD
DTSTART:20141102T010000
TZOFFSETFROM:-0400
TZOFFSETTO:-0500
RRULE:FREQ=YEARLY;BYDAY=1SU;BYMONTH=11
TZNAME:EST
END:STANDARD
END:VTIMEZONE
BEGIN:VTIMEZONE
TZID:America/New_York
BEGIN:DAYLIGHT
DTSTART:20150308T030000
TZOFFSETFROM:-0500
TZOFFSETTO:-0400
RRULE:FREQ=YEARLY;BYDAY=2SU;BYMONTH=3
TZNAME:EDT
END:DAYLIGHT
BEGIN:STANDARD
DTSTART:20141102T010000
TZOFFSETFROM:-0400
TZOFFSETTO:-0500
RRULE:FREQ=YEARLY;BYDAY=1SU;BYMONTH=11
TZNAME:EST
END:STANDARD
END:VTIMEZONE
BEGIN:VTIMEZONE
TZID:America/New_York
BEGIN:DAYLIGHT
DTSTART:20150308T030000
TZOFFSETFROM:-0500
TZOFFSETTO:-0400
RRULE:FREQ=YEARLY;BYDAY=2SU;BYMONTH=3
TZNAME:EDT
END:DAYLIGHT
BEGIN:STANDARD
DTSTART:20141102T010000
TZOFFSETFROM:-0400
TZOFFSETTO:-0500
RRULE:FREQ=YEARLY;BYDAY=1SU;BYMONTH=11
TZNAME:EST
END:STANDARD
END:VTIMEZONE
BEGIN:VTIMEZONE
TZID:America/New_York
BEGIN:DAYLIGHT
DTSTART:20150308T030000
TZOFFSETFROM:-0500
TZOFFSETTO:-0400
RRULE:FREQ=YEARLY;BYDAY=2SU;BYMONTH=3
TZNAME:EDT
END:DAYLIGHT
BEGIN:STANDARD
DTSTART:20141102T010000
TZOFFSETFROM:-0400
TZOFFSETTO:-0500
RRULE:FREQ=YEARLY;BYDAY=1SU;BYMONTH=11
TZNAME:EST
END:STANDARD
END:VTIMEZONE
BEGIN:VTIMEZONE
TZID:America/New_York
BEGIN:DAYLIGHT
DTSTART:20150308T030000
TZOFFSETFROM:-0500
TZOFFSETTO:-0400
RRULE:FREQ=YEARLY;BYDAY=2SU;BYMONTH=3
TZNAME:EDT
END:DAYLIGHT
BEGIN:STANDARD
DTSTART:20141102T010000
TZOFFSETFROM:-0400
TZOFFSETTO:-0500
RRULE:FREQ=YEARLY;BYDAY=1SU;BYMONTH=11
TZNAME:EST
END:STANDARD
END:VTIMEZONE
BEGIN:VTIMEZONE
TZID:America/New_York
BEGIN:DAYLIGHT
DTSTART:20150308T030000
TZOFFSETFROM:-0500
TZOFFSETTO:-0400
RRULE:FREQ=YEARLY;BYDAY=2SU;BYMONTH=3
TZNAME:EDT
END:DAYLIGHT
BEGIN:STANDARD
DTSTART:20141102T010000
TZOFFSETFROM:-0400
TZOFFSETTO:-0500
RRULE:FREQ=YEARLY;BYDAY=1SU;BYMONTH=11
TZNAME:EST
END:STANDARD
END:VTIMEZONE
BEGIN:VTIMEZONE
TZID:America/New_York
BEGIN:DAYLIGHT
DTSTART:20150308T030000
TZOFFSETFROM:-0500
TZOFFSETTO:-0400
RRULE:FREQ=YEARLY;BYDAY=2SU;BYMONTH=3
TZNAME:EDT
END:DAYLIGHT
BEGIN:STANDARD
DTSTART:20141102T010000
TZOFFSETFROM:-0400
TZOFFSETTO:-0500
RRULE:FREQ=YEARLY;BYDAY=1SU;BYMONTH=11
TZNAME:EST
END:STANDARD
END:VTIMEZONE
BEGIN:VTIMEZONE
TZID:America/New_York
BEGIN:DAYLIGHT
DTSTART:20150308T030000
TZOFFSETFROM:-0500
TZOFFSETTO:-0400
RRULE:FREQ=YEARLY;BYDAY=2SU;BYMONTH=3
TZNAME:EDT
END:DAYLIGHT
BEGIN:STANDARD
DTSTART:20141102T010000
TZOFFSETFROM:-0400
TZOFFSETTO:-0500
RRULE:FREQ=YEARLY;BYDAY=1SU;BYMONTH=11
TZNAME:EST
END:STANDARD
END:VTIMEZONE
BEGIN:VTIMEZONE
TZID:America/New_York
BEGIN:DAYLIGHT
DTSTART:20150308T030000
TZOFFSETFROM:-0500
TZOFFSETTO:-0400
RRULE:FREQ=YEARLY;BYDAY=2SU;BYMONTH=3
TZNAME:EDT
END:DAYLIGHT
BEGIN:STANDARD
DTSTART:20141102T010000
TZOFFSETFROM:-0400
TZOFFSETTO:-0500
RRULE:FREQ=YEARLY;BYDAY=1SU;BYMONTH=11
TZNAME:EST
END:STANDARD
END:VTIMEZONE
BEGIN:VTIMEZONE
TZID:America/New_York
BEGIN:DAYLIGHT
DTSTART:20150308T030000
TZOFFSETFROM:-0500
TZOFFSETTO:-0400
RRULE:FREQ=YEARLY;BYDAY=2SU;BYMONTH=3
TZNAME:EDT
END:DAYLIGHT
BEGIN:STANDARD
DTSTART:20141102T010000
TZOFFSETFROM:-0400
TZOFFSETTO:-0500
RRULE:FREQ=YEARLY;BYDAY=1SU;BYMONTH=11
TZNAME:EST
END:STANDARD
END:VTIMEZONE
BEGIN:VTIMEZONE
TZID:America/New_York
BEGIN:DAYLIGHT
DTSTART:20150308T030000
TZOFFSETFROM:-0500
TZOFFSETTO:-0400
RRULE:FREQ=YEARLY;BYDAY=2SU;BYMONTH=3
TZNAME:EDT
END:DAYLIGHT
BEGIN:STANDARD
DTSTART:20141102T010000
TZOFFSETFROM:-0400
TZOFFSETTO:-0500
RRULE:FREQ=YEARLY;BYDAY=1SU;BYMONTH=11
TZNAME:EST
END:STANDARD
END:VTIMEZONE
BEGIN:VTIMEZONE
TZID:America/New_York
BEGIN:DAYLIGHT
DTSTART:20150308T030000
TZOFFSETFROM:-0500
TZOFFSETTO:-0400
RRULE:FREQ=YEARLY;BYDAY=2SU;BYMONTH=3
TZNAME:EDT
END:DAYLIGHT
BEGIN:STANDARD
DTSTART:20141102T010000
TZOFFSETFROM:-0400
TZOFFSETTO:-0500
RRULE:FREQ=YEARLY;BYDAY=1SU;BYMONTH=11
TZNAME:EST
END:STANDARD
END:VTIMEZONE
BEGIN:VTIMEZONE
TZID:America/New_York
BEGIN:DAYLIGHT
DTSTART:20150308T030000
TZOFFSETFROM:-0500
TZOFFSETTO:-0400
RRULE:FREQ=YEARLY;BYDAY=2SU;BYMONTH=3
TZNAME:EDT
END:DAYLIGHT
BEGIN:STANDARD
DTSTART:20141102T010000
TZOFFSETFROM:-0400
TZOFFSETTO:-0500
RRULE:FREQ=YEARLY;BYDAY=1SU;BYMONTH=11
TZNAME:EST
END:STANDARD
END:VTIMEZONE
BEGIN:VTIMEZONE
TZID:America/New_York
BEGIN:DAYLIGHT
DTSTART:20150308T030000
TZOFFSETFROM:-0500
TZOFFSETTO:-0400
RRULE:FREQ=YEARLY;BYDAY=2SU;BYMONTH=3
TZNAME:EDT
END:DAYLIGHT
BEGIN:STANDARD
DTSTART:20141102T010000
TZOFFSETFROM:-0400
TZOFFSETTO:-0500
RRULE:FREQ=YEARLY;BYDAY=1SU;BYMONTH=11
TZNAME:EST
END:STANDARD
END:VTIMEZONE
BEGIN:VTIMEZONE
TZID:America/New_York
BEGIN:DAYLIGHT
DTSTART:20150308T030000
TZOFFSETFROM:-0500
TZOFFSETTO:-0400
RRULE:FREQ=YEARLY;BYDAY=2SU;BYMONTH=3
TZNAME:EDT
END:DAYLIGHT
BEGIN:STANDARD
DTSTART:20141102T010000
TZOFFSETFROM:-0400
TZOFFSETTO:-0500
RRULE:FREQ=YEARLY;BYDAY=1SU;BYMONTH=11
TZNAME:EST
END:STANDARD
END:VTIMEZONE
BEGIN:VTIMEZONE
TZID:America/New_York
BEGIN:DAYLIGHT
DTSTART:20150308T030000
TZOFFSETFROM:-0500
TZOFFSETTO:-0400
RRULE:FREQ=YEARLY;BYDAY=2SU;BYMONTH=3
TZNAME:EDT
END:DAYLIGHT
BEGIN:STANDARD
DTSTART:20141102T010000
TZOFFSETFROM:-0400
TZOFFSETTO:-0500
RRULE:FREQ=YEARLY;BYDAY=1SU;BYMONTH=11
TZNAME:EST
END:STANDARD
END:VTIMEZONE
BEGIN:VTIMEZONE
TZID:America/New_York
BEGIN:DAYLIGHT
DTSTART:20150308T030000
TZOFFSETFROM:-0500
TZOFFSETTO:-0400
RRULE:FREQ=YEARLY;BYDAY=2SU;BYMONTH=3
TZNAME:EDT
END:DAYLIGHT
BEGIN:STANDARD
DTSTART:20141102T010000
TZOFFSETFROM:-0400
TZOFFSETTO:-0500
RRULE:FREQ=YEARLY;BYDAY=1SU;BYMONTH=11
TZNAME:EST
END:STANDARD
END:VTIMEZONE
BEGIN:VTIMEZONE
TZID:America/New_York
BEGIN:DAYLIGHT
DTSTART:20150308T030000
TZOFFSETFROM:-0500
TZOFFSETTO:-0400
RRULE:FREQ=YEARLY;BYDAY=2SU;BYMONTH=3
TZNAME:EDT
END:DAYLIGHT
BEGIN:STANDARD
DTSTART:20141102T010000
TZOFFSETFROM:-0400
TZOFFSETTO:-0500
RRULE:FREQ=YEARLY;BYDAY=1SU;BYMONTH=11
TZNAME:EST
END:STANDARD
END:VTIMEZONE
BEGIN:VTIMEZONE
TZID:America/New_York
BEGIN:DAYLIGHT
DTSTART:20150308T030000
TZOFFSETFROM:-0500
TZOFFSETTO:-0400
RRULE:FREQ=YEARLY;BYDAY=2SU;BYMONTH=3
TZNAME:EDT
END:DAYLIGHT
BEGIN:STANDARD
DTSTART:20141102T010000
TZOFFSETFROM:-0400
TZOFFSETTO:-0500
RRULE:FREQ=YEARLY;BYDAY=1SU;BYMONTH=11
TZNAME:EST
END:STANDARD
END:VTIMEZONE
BEGIN:VTIMEZONE
TZID:America/New_York
BEGIN:DAYLIGHT
DTSTART:20150308T030000
TZOFFSETFROM:-0500
TZOFFSETTO:-0400
RRULE:FREQ=YEARLY;BYDAY=2SU;BYMONTH=3
TZNAME:EDT
END:DAYLIGHT
BEGIN:STANDARD
DTSTART:20141102T010000
TZOFFSETFROM:-0400
TZOFFSETTO:-0500
RRULE:FREQ=YEARLY;BYDAY=1SU;BYMONTH=11
TZNAME:EST
END:STANDARD
END:VTIMEZONE
BEGIN:VTIMEZONE
TZID:America/New_York
BEGIN:DAYLIGHT
DTSTART:20150308T030000
TZOFFSETFROM:-0500
TZOFFSETTO:-0400
RRULE:FREQ=YEARLY;BYDAY=2SU;BYMONTH=3
TZNAME:EDT
END:DAYLIGHT
BEGIN:STANDARD
DTSTART:20141102T010000
TZOFFSETFROM:-0400
TZOFFSETTO:-0500
RRULE:FREQ=YEARLY;BYDAY=1SU;BYMONTH=11
TZNAME:EST
END:STANDARD
END:VTIMEZONE
BEGIN:VTIMEZONE
TZID:America/New_York
BEGIN:DAYLIGHT
DTSTART:20150308T030000
TZOFFSETFROM:-0500
TZOFFSETTO:-0400
RRULE:FREQ=YEARLY;BYDAY=2SU;BYMONTH=3
TZNAME:EDT
END:DAYLIGHT
BEGIN:STANDARD
DTSTART:20141102T010000
TZOFFSETFROM:-0400
TZOFFSETTO:-0500
RRULE:FREQ=YEARLY;BYDAY=1SU;BYMONTH=11
TZNAME:EST
END:STANDARD
END:VTIMEZONE
BEGIN:VEVENT
DTSTAMP:20260422T063201Z
UID:https://www.schedulegalaxy.com/schools/92/teams/32923/games/10433
DTSTART;TZID=America/New_York:20141121T170000
CREATED;TZID=America/New_York:20141114T103203
LAST-MODIFIED;TZID=America/New_York:20160919T043243
LOCATION:Oswego HS
SUMMARY:Boys Varsity Basketball @ TBD
URL:https://www.schedulegalaxy.com/schools/92/teams/32923/games/10433
END:VEVENT
BEGIN:VEVENT
DTSTAMP:20260422T063201Z
UID:https://www.schedulegalaxy.com/schools/92/teams/32923/games/3519
DTSTART;TZID=America/New_York:20141212T190000
CREATED;TZID=America/New_York:20140611T142626
LAST-MODIFIED;TZID=America/New_York:20160919T043243
LOCATION:Cazenovia HS Buckley Gym
SUMMARY:Boys Varsity Basketball @ Cazenovia
URL:https://www.schedulegalaxy.com/schools/92/teams/32923/games/3519
END:VEVENT
BEGIN:VEVENT
DTSTAMP:20260422T063201Z
UID:https://www.schedulegalaxy.com/schools/92/teams/32923/games/3525
DTSTART;TZID=America/New_York:20150113T190000
CREATED;TZID=America/New_York:20140611T142955
LAST-MODIFIED;TZID=America/New_York:20160919T043243
LOCATION:Skaneateles HS gymnasium
SUMMARY:Boys Varsity Basketball v. Cazenovia
URL:https://www.schedulegalaxy.com/schools/92/teams/32923/games/3525
END:VEVENT
BEGIN:VEVENT
DTSTAMP:20260422T063201Z
UID:https://www.schedulegalaxy.com/schools/92/teams/32923/games/5686
DTSTART;TZID=America/New_York:20141205T183000
CREATED;TZID=America/New_York:20140717T141603
LAST-MODIFIED;TZID=America/New_York:20180626T105723
LOCATION:
SUMMARY:Boys Varsity Basketball @ Jordan-Elbridge
URL:https://www.schedulegalaxy.com/schools/92/teams/32923/games/5686
END:VEVENT
BEGIN:VEVENT
DTSTAMP:20260422T063201Z
UID:https://www.schedulegalaxy.com/schools/92/teams/32923/games/4570
DTSTART;TZID=America/New_York:20150123T190000
CREATED;TZID=America/New_York:20140619T223631
LAST-MODIFIED;TZID=America/New_York:20160919T043243
LOCATION:Skaneateles HS gymnasium
SUMMARY:Boys Varsity Basketball v. Bishop Grimes
URL:https://www.schedulegalaxy.com/schools/92/teams/32923/games/4570
END:VEVENT
BEGIN:VEVENT
DTSTAMP:20260422T063201Z
UID:https://www.schedulegalaxy.com/schools/92/teams/32923/games/6438
DTSTART;TZID=America/New_York:20150115T183000
CREATED;TZID=America/New_York:20140728T102552
LAST-MODIFIED;TZID=America/New_York:20160919T043243
LOCATION:Hannibal H S
SUMMARY:Boys Varsity Basketball @ Hannibal
URL:https://www.schedulegalaxy.com/schools/92/teams/32923/games/6438
END:VEVENT
BEGIN:VEVENT
DTSTAMP:20260422T063201Z
UID:https://www.schedulegalaxy.com/schools/92/teams/32923/games/7539
DTSTART;TZID=America/New_York:20150210T183000
CREATED;TZID=America/New_York:20140909T094023
LAST-MODIFIED;TZID=America/New_York:20160919T043243
LOCATION:Solvay HS Large Gym
SUMMARY:Boys Varsity Basketball @ Solvay
URL:https://www.schedulegalaxy.com/schools/92/teams/32923/games/7539
END:VEVENT
BEGIN:VEVENT
DTSTAMP:20260422T063201Z
UID:https://www.schedulegalaxy.com/schools/92/teams/32923/games/6414
DTSTART;TZID=America/New_York:20141215T190000
CREATED;TZID=America/New_York:20140728T094700
LAST-MODIFIED;TZID=America/New_York:20160919T043243
LOCATION:Skaneateles HS gymnasium
SUMMARY:Boys Varsity Basketball v. Hannibal
URL:https://www.schedulegalaxy.com/schools/92/teams/32923/games/6414
END:VEVENT
BEGIN:VEVENT
DTSTAMP:20260422T063201Z
UID:https://www.schedulegalaxy.com/schools/92/teams/32923/games/5498
DTSTART;TZID=America/New_York:20150106T190000
CREATED;TZID=America/New_York:20140717T112617
LAST-MODIFIED;TZID=America/New_York:20160919T043243
LOCATION:Skaneateles HS gymnasium
SUMMARY:Boys Varsity Basketball v. Jordan-Elbridge
URL:https://www.schedulegalaxy.com/schools/92/teams/32923/games/5498
END:VEVENT
BEGIN:VEVENT
DTSTAMP:20260422T063201Z
UID:https://www.schedulegalaxy.com/schools/92/teams/32923/games/8270
DTSTART;TZID=America/New_York:20150211T173000
CREATED;TZID=America/New_York:20140923T093543
LAST-MODIFIED;TZID=America/New_York:20160919T043243
LOCATION:Skaneateles HS gymnasium
SUMMARY:Boys Varsity Basketball v. Altmar-Parish-Williamstown (APW Rebels)
URL:https://www.schedulegalaxy.com/schools/92/teams/32923/games/8270
END:VEVENT
BEGIN:VEVENT
DTSTAMP:20260422T063201Z
UID:https://www.schedulegalaxy.com/schools/92/teams/32923/games/8267
DTSTART;TZID=America/New_York:20150109T190000
CREATED;TZID=America/New_York:20140923T093053
LAST-MODIFIED;TZID=America/New_York:20190528T164504
LOCATION:Westhill High School
SUMMARY:Boys Varsity Basketball @ TBD
URL:https://www.schedulegalaxy.com/schools/92/teams/32923/games/8267
END:VEVENT
BEGIN:VEVENT
DTSTAMP:20260422T063201Z
UID:https://www.schedulegalaxy.com/schools/92/teams/32923/games/8268
DTSTART;TZID=America/New_York:20150120T183000
CREATED;TZID=America/New_York:20140923T093240
LAST-MODIFIED;TZID=America/New_York:20160919T043243
LOCATION:Institute of Technology
SUMMARY:Boys Varsity Basketball @ Institute of Technology\, Syracuse
URL:https://www.schedulegalaxy.com/schools/92/teams/32923/games/8268
END:VEVENT
BEGIN:VEVENT
DTSTAMP:20260422T063201Z
UID:https://www.schedulegalaxy.com/schools/92/teams/32923/games/8261
DTSTART;TZID=America/New_York:20141201T190000
CREATED;TZID=America/New_York:20140923T091815
LAST-MODIFIED;TZID=America/New_York:20160919T043243
LOCATION:Skaneateles HS gymnasium
SUMMARY:Boys Varsity Basketball v. Syracuse Academy of Science
URL:https://www.schedulegalaxy.com/schools/92/teams/32923/games/8261
END:VEVENT
BEGIN:VEVENT
DTSTAMP:20260422T063201Z
UID:https://www.schedulegalaxy.com/schools/92/teams/32923/games/8269
DTSTART;TZID=America/New_York:20150130T190000
CREATED;TZID=America/New_York:20140923T093420
LAST-MODIFIED;TZID=America/New_York:20160919T043243
LOCATION:Skaneateles HS gymnasium
SUMMARY:Boys Varsity Basketball v. Marcellus
URL:https://www.schedulegalaxy.com/schools/92/teams/32923/games/8269
END:VEVENT
BEGIN:VEVENT
DTSTAMP:20260422T063201Z
UID:https://www.schedulegalaxy.com/schools/92/teams/32923/games/8263
DTSTART;TZID=America/New_York:20141222T183000
CREATED;TZID=America/New_York:20140923T092239
LAST-MODIFIED;TZID=America/New_York:20160919T043243
LOCATION:Syracuse Academy of Science
SUMMARY:Boys Varsity Basketball @ Syracuse Academy of Science
URL:https://www.schedulegalaxy.com/schools/92/teams/32923/games/8263
END:VEVENT
BEGIN:VEVENT
DTSTAMP:20260422T063201Z
UID:https://www.schedulegalaxy.com/schools/92/teams/32923/games/8265
DTSTART;TZID=America/New_York:20141229T200000
CREATED;TZID=America/New_York:20140923T092636
LAST-MODIFIED;TZID=America/New_York:20160919T043243
LOCATION:
SUMMARY:Boys Varsity Basketball @ Marcellus
URL:https://www.schedulegalaxy.com/schools/92/teams/32923/games/8265
END:VEVENT
BEGIN:VEVENT
DTSTAMP:20260422T063201Z
UID:https://www.schedulegalaxy.com/schools/92/teams/32923/games/8022
DTSTART;TZID=America/New_York:20150127T190000
CREATED;TZID=America/New_York:20140918T112310
LAST-MODIFIED;TZID=America/New_York:20180321T215039
LOCATION:
SUMMARY:Boys Varsity Basketball v. Homer
URL:https://www.schedulegalaxy.com/schools/92/teams/32923/games/8022
END:VEVENT
BEGIN:VEVENT
DTSTAMP:20260422T063201Z
UID:https://www.schedulegalaxy.com/schools/92/teams/32923/games/9711
DTSTART;TZID=America/New_York:20141124T170000
CREATED;TZID=America/New_York:20141024T151042
LAST-MODIFIED;TZID=America/New_York:20171121T134625
LOCATION:
SUMMARY:Boys Varsity Basketball @ Mexico
URL:https://www.schedulegalaxy.com/schools/92/teams/32923/games/9711
END:VEVENT
BEGIN:VEVENT
DTSTAMP:20260422T063201Z
UID:https://www.schedulegalaxy.com/schools/92/teams/32923/games/9712
DTSTART;TZID=America/New_York:20141126T100000
CREATED;TZID=America/New_York:20141024T151156
LAST-MODIFIED;TZID=America/New_York:20160919T043243
LOCATION:Skaneateles HS gymnasium
SUMMARY:Boys Varsity Basketball v. Auburn
URL:https://www.schedulegalaxy.com/schools/92/teams/32923/games/9712
END:VEVENT
BEGIN:VEVENT
DTSTAMP:20260422T063201Z
UID:https://www.schedulegalaxy.com/schools/92/teams/32923/games/8266
DTSTART;TZID=America/New_York:20141230T000000
CREATED;TZID=America/New_York:20140923T092920
LAST-MODIFIED;TZID=America/New_York:20160919T043243
LOCATION:
SUMMARY:Boys Varsity Basketball @ TBD
URL:https://www.schedulegalaxy.com/schools/92/teams/32923/games/8266
END:VEVENT
BEGIN:VEVENT
DTSTAMP:20260422T063201Z
UID:https://www.schedulegalaxy.com/schools/92/teams/32923/games/9939
DTSTART;TZID=America/New_York:20141119T190000
CREATED;TZID=America/New_York:20141029T101454
LAST-MODIFIED;TZID=America/New_York:20160919T043243
LOCATION:Skaneateles HS gymnasium
SUMMARY:Boys Varsity Basketball v. West Genesee
URL:https://www.schedulegalaxy.com/schools/92/teams/32923/games/9939
END:VEVENT
BEGIN:VEVENT
DTSTAMP:20260422T063201Z
UID:https://www.schedulegalaxy.com/schools/92/teams/32923/games/11232
DTSTART;TZID=America/New_York:20141217T190000
CREATED;TZID=America/New_York:20141209T152814
LAST-MODIFIED;TZID=America/New_York:20160919T043243
LOCATION:Skaneateles HS gymnasium
SUMMARY:Boys Varsity Basketball v. Phoenix
URL:https://www.schedulegalaxy.com/schools/92/teams/32923/games/11232
END:VEVENT
BEGIN:VEVENT
DTSTAMP:20260422T063201Z
UID:https://www.schedulegalaxy.com/schools/92/teams/32923/games/13392
DTSTART;TZID=America/New_York:20150220T200000
CREATED;TZID=America/New_York:20150220T092238
LAST-MODIFIED;TZID=America/New_York:20160919T043243
LOCATION:Skaneateles HS gymnasium
SUMMARY:Boys Varsity Basketball v. Holland Patent
URL:https://www.schedulegalaxy.com/schools/92/teams/32923/games/13392
END:VEVENT
BEGIN:VEVENT
DTSTAMP:20260422T063201Z
UID:https://www.schedulegalaxy.com/schools/92/teams/32923/games/13448
DTSTART;TZID=America/New_York:20150225T190000
CREATED;TZID=America/New_York:20150223T090014
LAST-MODIFIED;TZID=America/New_York:20160919T043243
LOCATION:Cazenovia HS Buckley Gym
SUMMARY:Boys Varsity Basketball @ Cazenovia
URL:https://www.schedulegalaxy.com/schools/92/teams/32923/games/13448
END:VEVENT
END:VCALENDAR
