BEGIN:VCALENDAR
VERSION:2.0
PRODID:icalendar-ruby
CALSCALE:GREGORIAN
METHOD:PUBLISH
BEGIN:VTIMEZONE
TZID:America/New_York
BEGIN:DAYLIGHT
DTSTART:20200308T030000
TZOFFSETFROM:-0500
TZOFFSETTO:-0400
RRULE:FREQ=YEARLY;BYDAY=2SU;BYMONTH=3
TZNAME:EDT
END:DAYLIGHT
BEGIN:STANDARD
DTSTART:20191103T010000
TZOFFSETFROM:-0400
TZOFFSETTO:-0500
RRULE:FREQ=YEARLY;BYDAY=1SU;BYMONTH=11
TZNAME:EST
END:STANDARD
END:VTIMEZONE
BEGIN:VTIMEZONE
TZID:America/New_York
BEGIN:DAYLIGHT
DTSTART:20200308T030000
TZOFFSETFROM:-0500
TZOFFSETTO:-0400
RRULE:FREQ=YEARLY;BYDAY=2SU;BYMONTH=3
TZNAME:EDT
END:DAYLIGHT
BEGIN:STANDARD
DTSTART:20191103T010000
TZOFFSETFROM:-0400
TZOFFSETTO:-0500
RRULE:FREQ=YEARLY;BYDAY=1SU;BYMONTH=11
TZNAME:EST
END:STANDARD
END:VTIMEZONE
BEGIN:VTIMEZONE
TZID:America/New_York
BEGIN:DAYLIGHT
DTSTART:20200308T030000
TZOFFSETFROM:-0500
TZOFFSETTO:-0400
RRULE:FREQ=YEARLY;BYDAY=2SU;BYMONTH=3
TZNAME:EDT
END:DAYLIGHT
BEGIN:STANDARD
DTSTART:20191103T010000
TZOFFSETFROM:-0400
TZOFFSETTO:-0500
RRULE:FREQ=YEARLY;BYDAY=1SU;BYMONTH=11
TZNAME:EST
END:STANDARD
END:VTIMEZONE
BEGIN:VTIMEZONE
TZID:America/New_York
BEGIN:DAYLIGHT
DTSTART:20200308T030000
TZOFFSETFROM:-0500
TZOFFSETTO:-0400
RRULE:FREQ=YEARLY;BYDAY=2SU;BYMONTH=3
TZNAME:EDT
END:DAYLIGHT
BEGIN:STANDARD
DTSTART:20191103T010000
TZOFFSETFROM:-0400
TZOFFSETTO:-0500
RRULE:FREQ=YEARLY;BYDAY=1SU;BYMONTH=11
TZNAME:EST
END:STANDARD
END:VTIMEZONE
BEGIN:VTIMEZONE
TZID:America/New_York
BEGIN:DAYLIGHT
DTSTART:20200308T030000
TZOFFSETFROM:-0500
TZOFFSETTO:-0400
RRULE:FREQ=YEARLY;BYDAY=2SU;BYMONTH=3
TZNAME:EDT
END:DAYLIGHT
BEGIN:STANDARD
DTSTART:20191103T010000
TZOFFSETFROM:-0400
TZOFFSETTO:-0500
RRULE:FREQ=YEARLY;BYDAY=1SU;BYMONTH=11
TZNAME:EST
END:STANDARD
END:VTIMEZONE
BEGIN:VTIMEZONE
TZID:America/New_York
BEGIN:DAYLIGHT
DTSTART:20200308T030000
TZOFFSETFROM:-0500
TZOFFSETTO:-0400
RRULE:FREQ=YEARLY;BYDAY=2SU;BYMONTH=3
TZNAME:EDT
END:DAYLIGHT
BEGIN:STANDARD
DTSTART:20191103T010000
TZOFFSETFROM:-0400
TZOFFSETTO:-0500
RRULE:FREQ=YEARLY;BYDAY=1SU;BYMONTH=11
TZNAME:EST
END:STANDARD
END:VTIMEZONE
BEGIN:VTIMEZONE
TZID:America/New_York
BEGIN:DAYLIGHT
DTSTART:20200308T030000
TZOFFSETFROM:-0500
TZOFFSETTO:-0400
RRULE:FREQ=YEARLY;BYDAY=2SU;BYMONTH=3
TZNAME:EDT
END:DAYLIGHT
BEGIN:STANDARD
DTSTART:20191103T010000
TZOFFSETFROM:-0400
TZOFFSETTO:-0500
RRULE:FREQ=YEARLY;BYDAY=1SU;BYMONTH=11
TZNAME:EST
END:STANDARD
END:VTIMEZONE
BEGIN:VTIMEZONE
TZID:America/New_York
BEGIN:DAYLIGHT
DTSTART:20200308T030000
TZOFFSETFROM:-0500
TZOFFSETTO:-0400
RRULE:FREQ=YEARLY;BYDAY=2SU;BYMONTH=3
TZNAME:EDT
END:DAYLIGHT
BEGIN:STANDARD
DTSTART:20191103T010000
TZOFFSETFROM:-0400
TZOFFSETTO:-0500
RRULE:FREQ=YEARLY;BYDAY=1SU;BYMONTH=11
TZNAME:EST
END:STANDARD
END:VTIMEZONE
BEGIN:VTIMEZONE
TZID:America/New_York
BEGIN:DAYLIGHT
DTSTART:20200308T030000
TZOFFSETFROM:-0500
TZOFFSETTO:-0400
RRULE:FREQ=YEARLY;BYDAY=2SU;BYMONTH=3
TZNAME:EDT
END:DAYLIGHT
BEGIN:STANDARD
DTSTART:20191103T010000
TZOFFSETFROM:-0400
TZOFFSETTO:-0500
RRULE:FREQ=YEARLY;BYDAY=1SU;BYMONTH=11
TZNAME:EST
END:STANDARD
END:VTIMEZONE
BEGIN:VTIMEZONE
TZID:America/New_York
BEGIN:DAYLIGHT
DTSTART:20200308T030000
TZOFFSETFROM:-0500
TZOFFSETTO:-0400
RRULE:FREQ=YEARLY;BYDAY=2SU;BYMONTH=3
TZNAME:EDT
END:DAYLIGHT
BEGIN:STANDARD
DTSTART:20191103T010000
TZOFFSETFROM:-0400
TZOFFSETTO:-0500
RRULE:FREQ=YEARLY;BYDAY=1SU;BYMONTH=11
TZNAME:EST
END:STANDARD
END:VTIMEZONE
BEGIN:VTIMEZONE
TZID:America/New_York
BEGIN:DAYLIGHT
DTSTART:20200308T030000
TZOFFSETFROM:-0500
TZOFFSETTO:-0400
RRULE:FREQ=YEARLY;BYDAY=2SU;BYMONTH=3
TZNAME:EDT
END:DAYLIGHT
BEGIN:STANDARD
DTSTART:20191103T010000
TZOFFSETFROM:-0400
TZOFFSETTO:-0500
RRULE:FREQ=YEARLY;BYDAY=1SU;BYMONTH=11
TZNAME:EST
END:STANDARD
END:VTIMEZONE
BEGIN:VTIMEZONE
TZID:America/New_York
BEGIN:DAYLIGHT
DTSTART:20200308T030000
TZOFFSETFROM:-0500
TZOFFSETTO:-0400
RRULE:FREQ=YEARLY;BYDAY=2SU;BYMONTH=3
TZNAME:EDT
END:DAYLIGHT
BEGIN:STANDARD
DTSTART:20191103T010000
TZOFFSETFROM:-0400
TZOFFSETTO:-0500
RRULE:FREQ=YEARLY;BYDAY=1SU;BYMONTH=11
TZNAME:EST
END:STANDARD
END:VTIMEZONE
BEGIN:VTIMEZONE
TZID:America/New_York
BEGIN:DAYLIGHT
DTSTART:20200308T030000
TZOFFSETFROM:-0500
TZOFFSETTO:-0400
RRULE:FREQ=YEARLY;BYDAY=2SU;BYMONTH=3
TZNAME:EDT
END:DAYLIGHT
BEGIN:STANDARD
DTSTART:20191103T010000
TZOFFSETFROM:-0400
TZOFFSETTO:-0500
RRULE:FREQ=YEARLY;BYDAY=1SU;BYMONTH=11
TZNAME:EST
END:STANDARD
END:VTIMEZONE
BEGIN:VTIMEZONE
TZID:America/New_York
BEGIN:DAYLIGHT
DTSTART:20200308T030000
TZOFFSETFROM:-0500
TZOFFSETTO:-0400
RRULE:FREQ=YEARLY;BYDAY=2SU;BYMONTH=3
TZNAME:EDT
END:DAYLIGHT
BEGIN:STANDARD
DTSTART:20191103T010000
TZOFFSETFROM:-0400
TZOFFSETTO:-0500
RRULE:FREQ=YEARLY;BYDAY=1SU;BYMONTH=11
TZNAME:EST
END:STANDARD
END:VTIMEZONE
BEGIN:VEVENT
DTSTAMP:20260422T092936Z
UID:https://www.schedulegalaxy.com/schools/92/teams/32921/games/332318
DTSTART;TZID=America/New_York:20200124T163000
CREATED;TZID=America/New_York:20190918T094145
LAST-MODIFIED;TZID=America/New_York:20190918T094145
LOCATION:Skaneateles MS gymnasium
SUMMARY:Girls (Blue) 7th/8th Basketball v. Christian Brothers Academy\, Dew
 itt
URL:https://www.schedulegalaxy.com/schools/92/teams/32921/games/332318
END:VEVENT
BEGIN:VEVENT
DTSTAMP:20260422T092936Z
UID:https://www.schedulegalaxy.com/schools/92/teams/32921/games/332325
DTSTART;TZID=America/New_York:20200130T163000
CREATED;TZID=America/New_York:20190918T094414
LAST-MODIFIED;TZID=America/New_York:20191119T152803
LOCATION:Skaneateles MS gymnasium
SUMMARY:Girls (Blue) 7th/8th Basketball v. Chittenango
URL:https://www.schedulegalaxy.com/schools/92/teams/32921/games/332325
END:VEVENT
BEGIN:VEVENT
DTSTAMP:20260422T092936Z
UID:https://www.schedulegalaxy.com/schools/92/teams/32921/games/332328
DTSTART;TZID=America/New_York:20200204T163000
CREATED;TZID=America/New_York:20190918T094517
LAST-MODIFIED;TZID=America/New_York:20190918T094524
LOCATION:Skaneateles MS gymnasium
SUMMARY:Girls (Blue) 7th/8th Basketball v. Marcellus
URL:https://www.schedulegalaxy.com/schools/92/teams/32921/games/332328
END:VEVENT
BEGIN:VEVENT
DTSTAMP:20260422T092936Z
UID:https://www.schedulegalaxy.com/schools/92/teams/32921/games/332343
DTSTART;TZID=America/New_York:20200211T163000
CREATED;TZID=America/New_York:20190918T094858
LAST-MODIFIED;TZID=America/New_York:20191025T091804
LOCATION:Skaneateles MS gymnasium
SUMMARY:Girls (Blue) 7th/8th Basketball v. Homer
URL:https://www.schedulegalaxy.com/schools/92/teams/32921/games/332343
END:VEVENT
BEGIN:VEVENT
DTSTAMP:20260422T092936Z
UID:https://www.schedulegalaxy.com/schools/92/teams/32921/games/332346
DTSTART;TZID=America/New_York:20200213T163000
CREATED;TZID=America/New_York:20190918T094924
LAST-MODIFIED;TZID=America/New_York:20200206T111441
LOCATION:Skaneateles MS gymnasium
SUMMARY:Girls (Blue) 7th/8th Basketball v. Jordan-Elbridge
URL:https://www.schedulegalaxy.com/schools/92/teams/32921/games/332346
END:VEVENT
BEGIN:VEVENT
DTSTAMP:20260422T092936Z
UID:https://www.schedulegalaxy.com/schools/92/teams/32921/games/332349
DTSTART;TZID=America/New_York:20200228T163000
CREATED;TZID=America/New_York:20190918T095143
LAST-MODIFIED;TZID=America/New_York:20200224T085148
LOCATION:CBA H S
SUMMARY:Girls (Blue) 7th/8th Basketball @ Christian Brothers Academy\, Dewi
 tt
URL:https://www.schedulegalaxy.com/schools/92/teams/32921/games/332349
END:VEVENT
BEGIN:VEVENT
DTSTAMP:20260422T092936Z
UID:https://www.schedulegalaxy.com/schools/92/teams/32921/games/332351
DTSTART;TZID=America/New_York:20200227T163000
CREATED;TZID=America/New_York:20190918T095257
LAST-MODIFIED;TZID=America/New_York:20190918T095329
LOCATION:Skaneateles MS gymnasium
SUMMARY:Girls (Blue) 7th/8th Basketball v. Westhill
URL:https://www.schedulegalaxy.com/schools/92/teams/32921/games/332351
END:VEVENT
BEGIN:VEVENT
DTSTAMP:20260422T092936Z
UID:https://www.schedulegalaxy.com/schools/92/teams/32921/games/332354
DTSTART;TZID=America/New_York:20200303T163000
CREATED;TZID=America/New_York:20190918T095437
LAST-MODIFIED;TZID=America/New_York:20191119T152827
LOCATION:Chittenango MS- Large Gym
SUMMARY:Girls (Blue) 7th/8th Basketball @ Chittenango
URL:https://www.schedulegalaxy.com/schools/92/teams/32921/games/332354
END:VEVENT
BEGIN:VEVENT
DTSTAMP:20260422T092936Z
UID:https://www.schedulegalaxy.com/schools/92/teams/32921/games/332426
DTSTART;TZID=America/New_York:20200302T163000
CREATED;TZID=America/New_York:20190918T102550
LAST-MODIFIED;TZID=America/New_York:20200109T150157
LOCATION:Skaneateles MS gymnasium
SUMMARY:Girls (Blue) 7th/8th Basketball v. Weedsport
URL:https://www.schedulegalaxy.com/schools/92/teams/32921/games/332426
END:VEVENT
BEGIN:VEVENT
DTSTAMP:20260422T092936Z
UID:https://www.schedulegalaxy.com/schools/92/teams/32921/games/332968
DTSTART;TZID=America/New_York:20200122T163000
CREATED;TZID=America/New_York:20190918T153854
LAST-MODIFIED;TZID=America/New_York:20190918T153854
LOCATION:JE MS Gym
SUMMARY:Girls (Blue) 7th/8th Basketball @ Jordan-Elbridge
URL:https://www.schedulegalaxy.com/schools/92/teams/32921/games/332968
END:VEVENT
BEGIN:VEVENT
DTSTAMP:20260422T092936Z
UID:https://www.schedulegalaxy.com/schools/92/teams/32921/games/332969
DTSTART;TZID=America/New_York:20200128T163000
CREATED;TZID=America/New_York:20190918T153940
LAST-MODIFIED;TZID=America/New_York:20190918T153940
LOCATION:Cherry Road School
SUMMARY:Girls (Blue) 7th/8th Basketball @ Westhill
URL:https://www.schedulegalaxy.com/schools/92/teams/32921/games/332969
END:VEVENT
BEGIN:VEVENT
DTSTAMP:20260422T092936Z
UID:https://www.schedulegalaxy.com/schools/92/teams/32921/games/332970
DTSTART;TZID=America/New_York:20200306T163000
CREATED;TZID=America/New_York:20190918T154036
LAST-MODIFIED;TZID=America/New_York:20200206T145101
LOCATION:Cazenovia Middle School Gym
SUMMARY:Girls (Blue) 7th/8th Basketball @ Cazenovia
URL:https://www.schedulegalaxy.com/schools/92/teams/32921/games/332970
END:VEVENT
BEGIN:VEVENT
DTSTAMP:20260422T092936Z
UID:https://www.schedulegalaxy.com/schools/92/teams/32921/games/332971
DTSTART;TZID=America/New_York:20200305T163000
CREATED;TZID=America/New_York:20190918T154114
LAST-MODIFIED;TZID=America/New_York:20190918T154114
LOCATION:Marcellus DMS New Gym
SUMMARY:Girls (Blue) 7th/8th Basketball @ Marcellus
URL:https://www.schedulegalaxy.com/schools/92/teams/32921/games/332971
END:VEVENT
BEGIN:VEVENT
DTSTAMP:20260422T092936Z
UID:https://www.schedulegalaxy.com/schools/92/teams/32921/games/382051
DTSTART;TZID=America/New_York:20200226T163000
CREATED;TZID=America/New_York:20191213T131447
LAST-MODIFIED;TZID=America/New_York:20200221T105755
LOCATION:Lehn Gym
SUMMARY:Girls (Blue) 7th/8th Basketball @ Port Byron
URL:https://www.schedulegalaxy.com/schools/92/teams/32921/games/382051
END:VEVENT
END:VCALENDAR
