BEGIN:VCALENDAR
VERSION:2.0
PRODID:icalendar-ruby
CALSCALE:GREGORIAN
METHOD:PUBLISH
BEGIN:VTIMEZONE
TZID:America/New_York
BEGIN:DAYLIGHT
DTSTART:20190310T030000
TZOFFSETFROM:-0500
TZOFFSETTO:-0400
RRULE:FREQ=YEARLY;BYDAY=2SU;BYMONTH=3
TZNAME:EDT
END:DAYLIGHT
BEGIN:STANDARD
DTSTART:20181104T010000
TZOFFSETFROM:-0400
TZOFFSETTO:-0500
RRULE:FREQ=YEARLY;BYDAY=1SU;BYMONTH=11
TZNAME:EST
END:STANDARD
END:VTIMEZONE
BEGIN:VTIMEZONE
TZID:America/New_York
BEGIN:DAYLIGHT
DTSTART:20190310T030000
TZOFFSETFROM:-0500
TZOFFSETTO:-0400
RRULE:FREQ=YEARLY;BYDAY=2SU;BYMONTH=3
TZNAME:EDT
END:DAYLIGHT
BEGIN:STANDARD
DTSTART:20181104T010000
TZOFFSETFROM:-0400
TZOFFSETTO:-0500
RRULE:FREQ=YEARLY;BYDAY=1SU;BYMONTH=11
TZNAME:EST
END:STANDARD
END:VTIMEZONE
BEGIN:VTIMEZONE
TZID:America/New_York
BEGIN:DAYLIGHT
DTSTART:20190310T030000
TZOFFSETFROM:-0500
TZOFFSETTO:-0400
RRULE:FREQ=YEARLY;BYDAY=2SU;BYMONTH=3
TZNAME:EDT
END:DAYLIGHT
BEGIN:STANDARD
DTSTART:20181104T010000
TZOFFSETFROM:-0400
TZOFFSETTO:-0500
RRULE:FREQ=YEARLY;BYDAY=1SU;BYMONTH=11
TZNAME:EST
END:STANDARD
END:VTIMEZONE
BEGIN:VTIMEZONE
TZID:America/New_York
BEGIN:DAYLIGHT
DTSTART:20190310T030000
TZOFFSETFROM:-0500
TZOFFSETTO:-0400
RRULE:FREQ=YEARLY;BYDAY=2SU;BYMONTH=3
TZNAME:EDT
END:DAYLIGHT
BEGIN:STANDARD
DTSTART:20181104T010000
TZOFFSETFROM:-0400
TZOFFSETTO:-0500
RRULE:FREQ=YEARLY;BYDAY=1SU;BYMONTH=11
TZNAME:EST
END:STANDARD
END:VTIMEZONE
BEGIN:VTIMEZONE
TZID:America/New_York
BEGIN:DAYLIGHT
DTSTART:20190310T030000
TZOFFSETFROM:-0500
TZOFFSETTO:-0400
RRULE:FREQ=YEARLY;BYDAY=2SU;BYMONTH=3
TZNAME:EDT
END:DAYLIGHT
BEGIN:STANDARD
DTSTART:20181104T010000
TZOFFSETFROM:-0400
TZOFFSETTO:-0500
RRULE:FREQ=YEARLY;BYDAY=1SU;BYMONTH=11
TZNAME:EST
END:STANDARD
END:VTIMEZONE
BEGIN:VTIMEZONE
TZID:America/New_York
BEGIN:DAYLIGHT
DTSTART:20190310T030000
TZOFFSETFROM:-0500
TZOFFSETTO:-0400
RRULE:FREQ=YEARLY;BYDAY=2SU;BYMONTH=3
TZNAME:EDT
END:DAYLIGHT
BEGIN:STANDARD
DTSTART:20181104T010000
TZOFFSETFROM:-0400
TZOFFSETTO:-0500
RRULE:FREQ=YEARLY;BYDAY=1SU;BYMONTH=11
TZNAME:EST
END:STANDARD
END:VTIMEZONE
BEGIN:VTIMEZONE
TZID:America/New_York
BEGIN:DAYLIGHT
DTSTART:20190310T030000
TZOFFSETFROM:-0500
TZOFFSETTO:-0400
RRULE:FREQ=YEARLY;BYDAY=2SU;BYMONTH=3
TZNAME:EDT
END:DAYLIGHT
BEGIN:STANDARD
DTSTART:20181104T010000
TZOFFSETFROM:-0400
TZOFFSETTO:-0500
RRULE:FREQ=YEARLY;BYDAY=1SU;BYMONTH=11
TZNAME:EST
END:STANDARD
END:VTIMEZONE
BEGIN:VTIMEZONE
TZID:America/New_York
BEGIN:DAYLIGHT
DTSTART:20190310T030000
TZOFFSETFROM:-0500
TZOFFSETTO:-0400
RRULE:FREQ=YEARLY;BYDAY=2SU;BYMONTH=3
TZNAME:EDT
END:DAYLIGHT
BEGIN:STANDARD
DTSTART:20181104T010000
TZOFFSETFROM:-0400
TZOFFSETTO:-0500
RRULE:FREQ=YEARLY;BYDAY=1SU;BYMONTH=11
TZNAME:EST
END:STANDARD
END:VTIMEZONE
BEGIN:VTIMEZONE
TZID:America/New_York
BEGIN:DAYLIGHT
DTSTART:20190310T030000
TZOFFSETFROM:-0500
TZOFFSETTO:-0400
RRULE:FREQ=YEARLY;BYDAY=2SU;BYMONTH=3
TZNAME:EDT
END:DAYLIGHT
BEGIN:STANDARD
DTSTART:20181104T010000
TZOFFSETFROM:-0400
TZOFFSETTO:-0500
RRULE:FREQ=YEARLY;BYDAY=1SU;BYMONTH=11
TZNAME:EST
END:STANDARD
END:VTIMEZONE
BEGIN:VTIMEZONE
TZID:America/New_York
BEGIN:DAYLIGHT
DTSTART:20190310T030000
TZOFFSETFROM:-0500
TZOFFSETTO:-0400
RRULE:FREQ=YEARLY;BYDAY=2SU;BYMONTH=3
TZNAME:EDT
END:DAYLIGHT
BEGIN:STANDARD
DTSTART:20181104T010000
TZOFFSETFROM:-0400
TZOFFSETTO:-0500
RRULE:FREQ=YEARLY;BYDAY=1SU;BYMONTH=11
TZNAME:EST
END:STANDARD
END:VTIMEZONE
BEGIN:VTIMEZONE
TZID:America/New_York
BEGIN:DAYLIGHT
DTSTART:20190310T030000
TZOFFSETFROM:-0500
TZOFFSETTO:-0400
RRULE:FREQ=YEARLY;BYDAY=2SU;BYMONTH=3
TZNAME:EDT
END:DAYLIGHT
BEGIN:STANDARD
DTSTART:20181104T010000
TZOFFSETFROM:-0400
TZOFFSETTO:-0500
RRULE:FREQ=YEARLY;BYDAY=1SU;BYMONTH=11
TZNAME:EST
END:STANDARD
END:VTIMEZONE
BEGIN:VTIMEZONE
TZID:America/New_York
BEGIN:DAYLIGHT
DTSTART:20190310T030000
TZOFFSETFROM:-0500
TZOFFSETTO:-0400
RRULE:FREQ=YEARLY;BYDAY=2SU;BYMONTH=3
TZNAME:EDT
END:DAYLIGHT
BEGIN:STANDARD
DTSTART:20181104T010000
TZOFFSETFROM:-0400
TZOFFSETTO:-0500
RRULE:FREQ=YEARLY;BYDAY=1SU;BYMONTH=11
TZNAME:EST
END:STANDARD
END:VTIMEZONE
BEGIN:VEVENT
DTSTAMP:20260422T200558Z
UID:https://www.schedulegalaxy.com/schools/92/teams/32921/games/189346
DTSTART;TZID=America/New_York:20190116T163000
CREATED;TZID=America/New_York:20180926T094607
LAST-MODIFIED;TZID=America/New_York:20190111T090110
LOCATION:Skaneateles MS gymnasium
SUMMARY:Girls (Blue) 7th/8th Basketball v. Jordan-Elbridge
URL:https://www.schedulegalaxy.com/schools/92/teams/32921/games/189346
END:VEVENT
BEGIN:VEVENT
DTSTAMP:20260422T200558Z
UID:https://www.schedulegalaxy.com/schools/92/teams/32921/games/189349
DTSTART;TZID=America/New_York:20190118T160000
CREATED;TZID=America/New_York:20180926T094815
LAST-MODIFIED;TZID=America/New_York:20190422T115637
LOCATION:Skaneateles MS gymnasium
SUMMARY:Girls (Blue) 7th/8th Basketball v. TBD
URL:https://www.schedulegalaxy.com/schools/92/teams/32921/games/189349
END:VEVENT
BEGIN:VEVENT
DTSTAMP:20260422T200558Z
UID:https://www.schedulegalaxy.com/schools/92/teams/32921/games/189350
DTSTART;TZID=America/New_York:20190214T163000
CREATED;TZID=America/New_York:20180926T094851
LAST-MODIFIED;TZID=America/New_York:20190125T132705
LOCATION:Skaneateles MS gymnasium
SUMMARY:Girls (Blue) 7th/8th Basketball v. Cazenovia
URL:https://www.schedulegalaxy.com/schools/92/teams/32921/games/189350
END:VEVENT
BEGIN:VEVENT
DTSTAMP:20260422T200558Z
UID:https://www.schedulegalaxy.com/schools/92/teams/32921/games/189354
DTSTART;TZID=America/New_York:20190125T170000
CREATED;TZID=America/New_York:20180926T095029
LAST-MODIFIED;TZID=America/New_York:20180926T100100
LOCATION:CBA H S
SUMMARY:Girls (Blue) 7th/8th Basketball @ Christian Brothers Academy\, Dewi
 tt
URL:https://www.schedulegalaxy.com/schools/92/teams/32921/games/189354
END:VEVENT
BEGIN:VEVENT
DTSTAMP:20260422T200558Z
UID:https://www.schedulegalaxy.com/schools/92/teams/32921/games/189356
DTSTART;TZID=America/New_York:20190301T163000
DTEND;TZID=America/New_York:20190301T193000
CREATED;TZID=America/New_York:20180926T095156
LAST-MODIFIED;TZID=America/New_York:20190301T134004
LOCATION:Skaneateles HS gymnasium
SUMMARY:Girls (Blue) 7th/8th Basketball v. Chittenango
URL:https://www.schedulegalaxy.com/schools/92/teams/32921/games/189356
END:VEVENT
BEGIN:VEVENT
DTSTAMP:20260422T200558Z
UID:https://www.schedulegalaxy.com/schools/92/teams/32921/games/189359
DTSTART;TZID=America/New_York:20190201T160000
CREATED;TZID=America/New_York:20180926T095228
LAST-MODIFIED;TZID=America/New_York:20190131T124530
LOCATION:Marcellus DMS New Gym
SUMMARY:Girls (Blue) 7th/8th Basketball @ Marcellus
URL:https://www.schedulegalaxy.com/schools/92/teams/32921/games/189359
END:VEVENT
BEGIN:VEVENT
DTSTAMP:20260422T200558Z
UID:https://www.schedulegalaxy.com/schools/92/teams/32921/games/189360
DTSTART;TZID=America/New_York:20190206T163000
CREATED;TZID=America/New_York:20180926T095343
LAST-MODIFIED;TZID=America/New_York:20180926T100127
LOCATION:Skaneateles MS gymnasium
SUMMARY:Girls (Blue) 7th/8th Basketball v. Westhill
URL:https://www.schedulegalaxy.com/schools/92/teams/32921/games/189360
END:VEVENT
BEGIN:VEVENT
DTSTAMP:20260422T200558Z
UID:https://www.schedulegalaxy.com/schools/92/teams/32921/games/189368
DTSTART;TZID=America/New_York:20190211T163000
CREATED;TZID=America/New_York:20180926T095759
LAST-MODIFIED;TZID=America/New_York:20190422T115637
LOCATION:Homer Junior High School
SUMMARY:Girls (Blue) 7th/8th Basketball @ TBD
URL:https://www.schedulegalaxy.com/schools/92/teams/32921/games/189368
END:VEVENT
BEGIN:VEVENT
DTSTAMP:20260422T200558Z
UID:https://www.schedulegalaxy.com/schools/92/teams/32921/games/189371
DTSTART;TZID=America/New_York:20190228T163000
DTEND;TZID=America/New_York:20190228T193000
CREATED;TZID=America/New_York:20180926T100011
LAST-MODIFIED;TZID=America/New_York:20190225T112048
LOCATION:Chittenango MS- Large Gym
SUMMARY:Girls (Blue) 7th/8th Basketball @ Chittenango
URL:https://www.schedulegalaxy.com/schools/92/teams/32921/games/189371
END:VEVENT
BEGIN:VEVENT
DTSTAMP:20260422T200558Z
UID:https://www.schedulegalaxy.com/schools/92/teams/32921/games/189372
DTSTART;TZID=America/New_York:20190226T163000
CREATED;TZID=America/New_York:20180926T100026
LAST-MODIFIED;TZID=America/New_York:20180926T100026
LOCATION:Skaneateles MS gymnasium
SUMMARY:Girls (Blue) 7th/8th Basketball v. Christian Brothers Academy\, Dew
 itt
URL:https://www.schedulegalaxy.com/schools/92/teams/32921/games/189372
END:VEVENT
BEGIN:VEVENT
DTSTAMP:20260422T200558Z
UID:https://www.schedulegalaxy.com/schools/92/teams/32921/games/190565
DTSTART;TZID=America/New_York:20190208T163000
CREATED;TZID=America/New_York:20180927T175525
LAST-MODIFIED;TZID=America/New_York:20180927T175700
LOCATION:JE MS Gym
SUMMARY:Girls (Blue) 7th/8th Basketball @ Jordan-Elbridge
URL:https://www.schedulegalaxy.com/schools/92/teams/32921/games/190565
END:VEVENT
BEGIN:VEVENT
DTSTAMP:20260422T200558Z
UID:https://www.schedulegalaxy.com/schools/92/teams/32921/games/196883
DTSTART;TZID=America/New_York:20190213T163000
CREATED;TZID=America/New_York:20181016T142815
LAST-MODIFIED;TZID=America/New_York:20181016T142854
LOCATION:Cazenovia Middle School Gym
SUMMARY:Girls (Blue) 7th/8th Basketball @ Cazenovia
URL:https://www.schedulegalaxy.com/schools/92/teams/32921/games/196883
END:VEVENT
END:VCALENDAR
