BEGIN:VCALENDAR
VERSION:2.0
PRODID:icalendar-ruby
CALSCALE:GREGORIAN
METHOD:PUBLISH
BEGIN:VTIMEZONE
TZID:America/New_York
BEGIN:DAYLIGHT
DTSTART:20180311T030000
TZOFFSETFROM:-0500
TZOFFSETTO:-0400
RRULE:FREQ=YEARLY;BYDAY=2SU;BYMONTH=3
TZNAME:EDT
END:DAYLIGHT
BEGIN:STANDARD
DTSTART:20171105T010000
TZOFFSETFROM:-0400
TZOFFSETTO:-0500
RRULE:FREQ=YEARLY;BYDAY=1SU;BYMONTH=11
TZNAME:EST
END:STANDARD
END:VTIMEZONE
BEGIN:VTIMEZONE
TZID:America/New_York
BEGIN:DAYLIGHT
DTSTART:20180311T030000
TZOFFSETFROM:-0500
TZOFFSETTO:-0400
RRULE:FREQ=YEARLY;BYDAY=2SU;BYMONTH=3
TZNAME:EDT
END:DAYLIGHT
BEGIN:STANDARD
DTSTART:20171105T010000
TZOFFSETFROM:-0400
TZOFFSETTO:-0500
RRULE:FREQ=YEARLY;BYDAY=1SU;BYMONTH=11
TZNAME:EST
END:STANDARD
END:VTIMEZONE
BEGIN:VTIMEZONE
TZID:America/New_York
BEGIN:DAYLIGHT
DTSTART:20180311T030000
TZOFFSETFROM:-0500
TZOFFSETTO:-0400
RRULE:FREQ=YEARLY;BYDAY=2SU;BYMONTH=3
TZNAME:EDT
END:DAYLIGHT
BEGIN:STANDARD
DTSTART:20171105T010000
TZOFFSETFROM:-0400
TZOFFSETTO:-0500
RRULE:FREQ=YEARLY;BYDAY=1SU;BYMONTH=11
TZNAME:EST
END:STANDARD
END:VTIMEZONE
BEGIN:VTIMEZONE
TZID:America/New_York
BEGIN:DAYLIGHT
DTSTART:20180311T030000
TZOFFSETFROM:-0500
TZOFFSETTO:-0400
RRULE:FREQ=YEARLY;BYDAY=2SU;BYMONTH=3
TZNAME:EDT
END:DAYLIGHT
BEGIN:STANDARD
DTSTART:20171105T010000
TZOFFSETFROM:-0400
TZOFFSETTO:-0500
RRULE:FREQ=YEARLY;BYDAY=1SU;BYMONTH=11
TZNAME:EST
END:STANDARD
END:VTIMEZONE
BEGIN:VTIMEZONE
TZID:America/New_York
BEGIN:DAYLIGHT
DTSTART:20180311T030000
TZOFFSETFROM:-0500
TZOFFSETTO:-0400
RRULE:FREQ=YEARLY;BYDAY=2SU;BYMONTH=3
TZNAME:EDT
END:DAYLIGHT
BEGIN:STANDARD
DTSTART:20171105T010000
TZOFFSETFROM:-0400
TZOFFSETTO:-0500
RRULE:FREQ=YEARLY;BYDAY=1SU;BYMONTH=11
TZNAME:EST
END:STANDARD
END:VTIMEZONE
BEGIN:VTIMEZONE
TZID:America/New_York
BEGIN:DAYLIGHT
DTSTART:20180311T030000
TZOFFSETFROM:-0500
TZOFFSETTO:-0400
RRULE:FREQ=YEARLY;BYDAY=2SU;BYMONTH=3
TZNAME:EDT
END:DAYLIGHT
BEGIN:STANDARD
DTSTART:20171105T010000
TZOFFSETFROM:-0400
TZOFFSETTO:-0500
RRULE:FREQ=YEARLY;BYDAY=1SU;BYMONTH=11
TZNAME:EST
END:STANDARD
END:VTIMEZONE
BEGIN:VTIMEZONE
TZID:America/New_York
BEGIN:DAYLIGHT
DTSTART:20180311T030000
TZOFFSETFROM:-0500
TZOFFSETTO:-0400
RRULE:FREQ=YEARLY;BYDAY=2SU;BYMONTH=3
TZNAME:EDT
END:DAYLIGHT
BEGIN:STANDARD
DTSTART:20171105T010000
TZOFFSETFROM:-0400
TZOFFSETTO:-0500
RRULE:FREQ=YEARLY;BYDAY=1SU;BYMONTH=11
TZNAME:EST
END:STANDARD
END:VTIMEZONE
BEGIN:VTIMEZONE
TZID:America/New_York
BEGIN:DAYLIGHT
DTSTART:20180311T030000
TZOFFSETFROM:-0500
TZOFFSETTO:-0400
RRULE:FREQ=YEARLY;BYDAY=2SU;BYMONTH=3
TZNAME:EDT
END:DAYLIGHT
BEGIN:STANDARD
DTSTART:20171105T010000
TZOFFSETFROM:-0400
TZOFFSETTO:-0500
RRULE:FREQ=YEARLY;BYDAY=1SU;BYMONTH=11
TZNAME:EST
END:STANDARD
END:VTIMEZONE
BEGIN:VTIMEZONE
TZID:America/New_York
BEGIN:DAYLIGHT
DTSTART:20180311T030000
TZOFFSETFROM:-0500
TZOFFSETTO:-0400
RRULE:FREQ=YEARLY;BYDAY=2SU;BYMONTH=3
TZNAME:EDT
END:DAYLIGHT
BEGIN:STANDARD
DTSTART:20171105T010000
TZOFFSETFROM:-0400
TZOFFSETTO:-0500
RRULE:FREQ=YEARLY;BYDAY=1SU;BYMONTH=11
TZNAME:EST
END:STANDARD
END:VTIMEZONE
BEGIN:VTIMEZONE
TZID:America/New_York
BEGIN:DAYLIGHT
DTSTART:20180311T030000
TZOFFSETFROM:-0500
TZOFFSETTO:-0400
RRULE:FREQ=YEARLY;BYDAY=2SU;BYMONTH=3
TZNAME:EDT
END:DAYLIGHT
BEGIN:STANDARD
DTSTART:20171105T010000
TZOFFSETFROM:-0400
TZOFFSETTO:-0500
RRULE:FREQ=YEARLY;BYDAY=1SU;BYMONTH=11
TZNAME:EST
END:STANDARD
END:VTIMEZONE
BEGIN:VTIMEZONE
TZID:America/New_York
BEGIN:DAYLIGHT
DTSTART:20180311T030000
TZOFFSETFROM:-0500
TZOFFSETTO:-0400
RRULE:FREQ=YEARLY;BYDAY=2SU;BYMONTH=3
TZNAME:EDT
END:DAYLIGHT
BEGIN:STANDARD
DTSTART:20171105T010000
TZOFFSETFROM:-0400
TZOFFSETTO:-0500
RRULE:FREQ=YEARLY;BYDAY=1SU;BYMONTH=11
TZNAME:EST
END:STANDARD
END:VTIMEZONE
BEGIN:VEVENT
DTSTAMP:20260422T011142Z
UID:https://www.schedulegalaxy.com/schools/92/teams/32921/games/88192
DTSTART;TZID=America/New_York:20180116T163000
CREATED;TZID=America/New_York:20170920T100657
LAST-MODIFIED;TZID=America/New_York:20170920T100739
LOCATION:Skaneateles MS gymnasium
SUMMARY:Girls (Blue) 7th/8th Basketball v. Marcellus
URL:https://www.schedulegalaxy.com/schools/92/teams/32921/games/88192
END:VEVENT
BEGIN:VEVENT
DTSTAMP:20260422T011142Z
UID:https://www.schedulegalaxy.com/schools/92/teams/32921/games/88194
DTSTART;TZID=America/New_York:20180119T163000
CREATED;TZID=America/New_York:20170920T100733
LAST-MODIFIED;TZID=America/New_York:20190422T115637
LOCATION:Homer Junior High School
SUMMARY:Girls (Blue) 7th/8th Basketball @ TBD
URL:https://www.schedulegalaxy.com/schools/92/teams/32921/games/88194
END:VEVENT
BEGIN:VEVENT
DTSTAMP:20260422T011142Z
UID:https://www.schedulegalaxy.com/schools/92/teams/32921/games/88197
DTSTART;TZID=America/New_York:20180123T160000
CREATED;TZID=America/New_York:20170920T100827
LAST-MODIFIED;TZID=America/New_York:20171027T153354
LOCATION:JEMS Field
SUMMARY:Girls (Blue) 7th/8th Basketball @ Jordan-Elbridge
URL:https://www.schedulegalaxy.com/schools/92/teams/32921/games/88197
END:VEVENT
BEGIN:VEVENT
DTSTAMP:20260422T011142Z
UID:https://www.schedulegalaxy.com/schools/92/teams/32921/games/88198
DTSTART;TZID=America/New_York:20180125T163000
CREATED;TZID=America/New_York:20170920T100909
LAST-MODIFIED;TZID=America/New_York:20170926T110425
LOCATION:Skaneateles MS gymnasium
SUMMARY:Girls (Blue) 7th/8th Basketball v. Westhill
URL:https://www.schedulegalaxy.com/schools/92/teams/32921/games/88198
END:VEVENT
BEGIN:VEVENT
DTSTAMP:20260422T011142Z
UID:https://www.schedulegalaxy.com/schools/92/teams/32921/games/88201
DTSTART;TZID=America/New_York:20180130T163000
CREATED;TZID=America/New_York:20170920T101025
LAST-MODIFIED;TZID=America/New_York:20171027T153355
LOCATION:CBA H S
SUMMARY:Girls (Blue) 7th/8th Basketball @ Christian Brothers Academy\, Dewi
 tt
URL:https://www.schedulegalaxy.com/schools/92/teams/32921/games/88201
END:VEVENT
BEGIN:VEVENT
DTSTAMP:20260422T011142Z
UID:https://www.schedulegalaxy.com/schools/92/teams/32921/games/88204
DTSTART;TZID=America/New_York:20180201T163000
CREATED;TZID=America/New_York:20170920T101106
LAST-MODIFIED;TZID=America/New_York:20170920T101113
LOCATION:Skaneateles MS gymnasium
SUMMARY:Girls (Blue) 7th/8th Basketball v. Chittenango
URL:https://www.schedulegalaxy.com/schools/92/teams/32921/games/88204
END:VEVENT
BEGIN:VEVENT
DTSTAMP:20260422T011142Z
UID:https://www.schedulegalaxy.com/schools/92/teams/32921/games/88206
DTSTART;TZID=America/New_York:20180206T163000
CREATED;TZID=America/New_York:20170920T101230
LAST-MODIFIED;TZID=America/New_York:20171027T153355
LOCATION:Cazenovia Middle School Gym
SUMMARY:Girls (Blue) 7th/8th Basketball @ Cazenovia
URL:https://www.schedulegalaxy.com/schools/92/teams/32921/games/88206
END:VEVENT
BEGIN:VEVENT
DTSTAMP:20260422T011142Z
UID:https://www.schedulegalaxy.com/schools/92/teams/32921/games/88210
DTSTART;TZID=America/New_York:20180208T160000
CREATED;TZID=America/New_York:20170920T101354
LAST-MODIFIED;TZID=America/New_York:20180207T134902
LOCATION:Marcellus DMS New Gym
SUMMARY:Girls (Blue) 7th/8th Basketball @ Marcellus
URL:https://www.schedulegalaxy.com/schools/92/teams/32921/games/88210
END:VEVENT
BEGIN:VEVENT
DTSTAMP:20260422T011142Z
UID:https://www.schedulegalaxy.com/schools/92/teams/32921/games/88212
DTSTART;TZID=America/New_York:20180213T163000
CREATED;TZID=America/New_York:20170920T101412
LAST-MODIFIED;TZID=America/New_York:20190422T115637
LOCATION:Skaneateles MS gymnasium
SUMMARY:Girls (Blue) 7th/8th Basketball v. TBD
URL:https://www.schedulegalaxy.com/schools/92/teams/32921/games/88212
END:VEVENT
BEGIN:VEVENT
DTSTAMP:20260422T011142Z
UID:https://www.schedulegalaxy.com/schools/92/teams/32921/games/88214
DTSTART;TZID=America/New_York:20180215T163000
CREATED;TZID=America/New_York:20170920T101456
LAST-MODIFIED;TZID=America/New_York:20180208T145927
LOCATION:Skaneateles MS gymnasium
SUMMARY:Girls (Blue) 7th/8th Basketball v. Jordan-Elbridge
URL:https://www.schedulegalaxy.com/schools/92/teams/32921/games/88214
END:VEVENT
BEGIN:VEVENT
DTSTAMP:20260422T011142Z
UID:https://www.schedulegalaxy.com/schools/92/teams/32921/games/88220
DTSTART;TZID=America/New_York:20180212T163000
CREATED;TZID=America/New_York:20170920T101947
LAST-MODIFIED;TZID=America/New_York:20171027T153356
LOCATION:Cherry Road School
SUMMARY:Girls (Blue) 7th/8th Basketball @ Westhill
URL:https://www.schedulegalaxy.com/schools/92/teams/32921/games/88220
END:VEVENT
END:VCALENDAR
