BEGIN:VCALENDAR
VERSION:2.0
PRODID:icalendar-ruby
CALSCALE:GREGORIAN
METHOD:PUBLISH
BEGIN:VTIMEZONE
TZID:America/New_York
BEGIN:DAYLIGHT
DTSTART:20170312T030000
TZOFFSETFROM:-0500
TZOFFSETTO:-0400
RRULE:FREQ=YEARLY;BYDAY=2SU;BYMONTH=3
TZNAME:EDT
END:DAYLIGHT
BEGIN:STANDARD
DTSTART:20161106T010000
TZOFFSETFROM:-0400
TZOFFSETTO:-0500
RRULE:FREQ=YEARLY;BYDAY=1SU;BYMONTH=11
TZNAME:EST
END:STANDARD
END:VTIMEZONE
BEGIN:VTIMEZONE
TZID:America/New_York
BEGIN:DAYLIGHT
DTSTART:20170312T030000
TZOFFSETFROM:-0500
TZOFFSETTO:-0400
RRULE:FREQ=YEARLY;BYDAY=2SU;BYMONTH=3
TZNAME:EDT
END:DAYLIGHT
BEGIN:STANDARD
DTSTART:20161106T010000
TZOFFSETFROM:-0400
TZOFFSETTO:-0500
RRULE:FREQ=YEARLY;BYDAY=1SU;BYMONTH=11
TZNAME:EST
END:STANDARD
END:VTIMEZONE
BEGIN:VTIMEZONE
TZID:America/New_York
BEGIN:DAYLIGHT
DTSTART:20170312T030000
TZOFFSETFROM:-0500
TZOFFSETTO:-0400
RRULE:FREQ=YEARLY;BYDAY=2SU;BYMONTH=3
TZNAME:EDT
END:DAYLIGHT
BEGIN:STANDARD
DTSTART:20161106T010000
TZOFFSETFROM:-0400
TZOFFSETTO:-0500
RRULE:FREQ=YEARLY;BYDAY=1SU;BYMONTH=11
TZNAME:EST
END:STANDARD
END:VTIMEZONE
BEGIN:VTIMEZONE
TZID:America/New_York
BEGIN:DAYLIGHT
DTSTART:20170312T030000
TZOFFSETFROM:-0500
TZOFFSETTO:-0400
RRULE:FREQ=YEARLY;BYDAY=2SU;BYMONTH=3
TZNAME:EDT
END:DAYLIGHT
BEGIN:STANDARD
DTSTART:20161106T010000
TZOFFSETFROM:-0400
TZOFFSETTO:-0500
RRULE:FREQ=YEARLY;BYDAY=1SU;BYMONTH=11
TZNAME:EST
END:STANDARD
END:VTIMEZONE
BEGIN:VTIMEZONE
TZID:America/New_York
BEGIN:DAYLIGHT
DTSTART:20170312T030000
TZOFFSETFROM:-0500
TZOFFSETTO:-0400
RRULE:FREQ=YEARLY;BYDAY=2SU;BYMONTH=3
TZNAME:EDT
END:DAYLIGHT
BEGIN:STANDARD
DTSTART:20161106T010000
TZOFFSETFROM:-0400
TZOFFSETTO:-0500
RRULE:FREQ=YEARLY;BYDAY=1SU;BYMONTH=11
TZNAME:EST
END:STANDARD
END:VTIMEZONE
BEGIN:VTIMEZONE
TZID:America/New_York
BEGIN:DAYLIGHT
DTSTART:20170312T030000
TZOFFSETFROM:-0500
TZOFFSETTO:-0400
RRULE:FREQ=YEARLY;BYDAY=2SU;BYMONTH=3
TZNAME:EDT
END:DAYLIGHT
BEGIN:STANDARD
DTSTART:20161106T010000
TZOFFSETFROM:-0400
TZOFFSETTO:-0500
RRULE:FREQ=YEARLY;BYDAY=1SU;BYMONTH=11
TZNAME:EST
END:STANDARD
END:VTIMEZONE
BEGIN:VTIMEZONE
TZID:America/New_York
BEGIN:DAYLIGHT
DTSTART:20170312T030000
TZOFFSETFROM:-0500
TZOFFSETTO:-0400
RRULE:FREQ=YEARLY;BYDAY=2SU;BYMONTH=3
TZNAME:EDT
END:DAYLIGHT
BEGIN:STANDARD
DTSTART:20161106T010000
TZOFFSETFROM:-0400
TZOFFSETTO:-0500
RRULE:FREQ=YEARLY;BYDAY=1SU;BYMONTH=11
TZNAME:EST
END:STANDARD
END:VTIMEZONE
BEGIN:VTIMEZONE
TZID:America/New_York
BEGIN:DAYLIGHT
DTSTART:20170312T030000
TZOFFSETFROM:-0500
TZOFFSETTO:-0400
RRULE:FREQ=YEARLY;BYDAY=2SU;BYMONTH=3
TZNAME:EDT
END:DAYLIGHT
BEGIN:STANDARD
DTSTART:20161106T010000
TZOFFSETFROM:-0400
TZOFFSETTO:-0500
RRULE:FREQ=YEARLY;BYDAY=1SU;BYMONTH=11
TZNAME:EST
END:STANDARD
END:VTIMEZONE
BEGIN:VTIMEZONE
TZID:America/New_York
BEGIN:DAYLIGHT
DTSTART:20170312T030000
TZOFFSETFROM:-0500
TZOFFSETTO:-0400
RRULE:FREQ=YEARLY;BYDAY=2SU;BYMONTH=3
TZNAME:EDT
END:DAYLIGHT
BEGIN:STANDARD
DTSTART:20161106T010000
TZOFFSETFROM:-0400
TZOFFSETTO:-0500
RRULE:FREQ=YEARLY;BYDAY=1SU;BYMONTH=11
TZNAME:EST
END:STANDARD
END:VTIMEZONE
BEGIN:VTIMEZONE
TZID:America/New_York
BEGIN:DAYLIGHT
DTSTART:20170312T030000
TZOFFSETFROM:-0500
TZOFFSETTO:-0400
RRULE:FREQ=YEARLY;BYDAY=2SU;BYMONTH=3
TZNAME:EDT
END:DAYLIGHT
BEGIN:STANDARD
DTSTART:20161106T010000
TZOFFSETFROM:-0400
TZOFFSETTO:-0500
RRULE:FREQ=YEARLY;BYDAY=1SU;BYMONTH=11
TZNAME:EST
END:STANDARD
END:VTIMEZONE
BEGIN:VEVENT
DTSTAMP:20260422T162059Z
UID:https://www.schedulegalaxy.com/schools/92/teams/32921/games/36280
DTSTART;TZID=America/New_York:20170216T163000
CREATED;TZID=America/New_York:20160718T111308
LAST-MODIFIED;TZID=America/New_York:20160928T081806
LOCATION:Skaneateles MS gymnasium
SUMMARY:Girls (Blue) 7th/8th Basketball v. Marcellus
URL:https://www.schedulegalaxy.com/schools/92/teams/32921/games/36280
END:VEVENT
BEGIN:VEVENT
DTSTAMP:20260422T162059Z
UID:https://www.schedulegalaxy.com/schools/92/teams/32921/games/32727
DTSTART;TZID=America/New_York:20170217T163000
CREATED;TZID=America/New_York:20160520T153009
LAST-MODIFIED;TZID=America/New_York:20170214T075449
LOCATION:Cortland Jr-Sr HS Aux Gym
SUMMARY:Girls (Blue) 7th/8th Basketball @ Cortland (Purple)
URL:https://www.schedulegalaxy.com/schools/92/teams/32921/games/32727
END:VEVENT
BEGIN:VEVENT
DTSTAMP:20260422T162059Z
UID:https://www.schedulegalaxy.com/schools/92/teams/32921/games/32729
DTSTART;TZID=America/New_York:20170131T163000
CREATED;TZID=America/New_York:20160520T153344
LAST-MODIFIED;TZID=America/New_York:20190422T115637
LOCATION:Homer Junior High School
SUMMARY:Girls (Blue) 7th/8th Basketball @ TBD
URL:https://www.schedulegalaxy.com/schools/92/teams/32921/games/32729
END:VEVENT
BEGIN:VEVENT
DTSTAMP:20260422T162059Z
UID:https://www.schedulegalaxy.com/schools/92/teams/32921/games/32735
DTSTART;TZID=America/New_York:20170228T163000
CREATED;TZID=America/New_York:20160520T155527
LAST-MODIFIED;TZID=America/New_York:20210201T121945
LOCATION:
SUMMARY:Girls (Blue) 7th/8th Basketball @ TBD
URL:https://www.schedulegalaxy.com/schools/92/teams/32921/games/32735
END:VEVENT
BEGIN:VEVENT
DTSTAMP:20260422T162059Z
UID:https://www.schedulegalaxy.com/schools/92/teams/32921/games/32731
DTSTART;TZID=America/New_York:20170208T163000
DTEND;TZID=America/New_York:20170208T193000
CREATED;TZID=America/New_York:20160520T155133
LAST-MODIFIED;TZID=America/New_York:20161011T174601
LOCATION:Pulaski MS Gym
SUMMARY:Girls (Blue) 7th/8th Basketball @ Pulaski
URL:https://www.schedulegalaxy.com/schools/92/teams/32921/games/32731
END:VEVENT
BEGIN:VEVENT
DTSTAMP:20260422T162059Z
UID:https://www.schedulegalaxy.com/schools/92/teams/32921/games/32728
DTSTART;TZID=America/New_York:20170126T163000
CREATED;TZID=America/New_York:20160520T153044
LAST-MODIFIED;TZID=America/New_York:20160919T043243
LOCATION:Skaneateles MS gymnasium
SUMMARY:Girls (Blue) 7th/8th Basketball v. Chittenango
URL:https://www.schedulegalaxy.com/schools/92/teams/32921/games/32728
END:VEVENT
BEGIN:VEVENT
DTSTAMP:20260422T162059Z
UID:https://www.schedulegalaxy.com/schools/92/teams/32921/games/32730
DTSTART;TZID=America/New_York:20170206T163000
CREATED;TZID=America/New_York:20160520T155054
LAST-MODIFIED;TZID=America/New_York:20161026T151456
LOCATION:Lake Street Elem- Gym
SUMMARY:Girls (Blue) 7th/8th Basketball @ Chittenango
URL:https://www.schedulegalaxy.com/schools/92/teams/32921/games/32730
END:VEVENT
BEGIN:VEVENT
DTSTAMP:20260422T162059Z
UID:https://www.schedulegalaxy.com/schools/92/teams/32921/games/35960
DTSTART;TZID=America/New_York:20170214T160000
CREATED;TZID=America/New_York:20160708T132917
LAST-MODIFIED;TZID=America/New_York:20161013T191058
LOCATION:Skaneateles MS gymnasium
SUMMARY:Girls (Blue) 7th/8th Basketball v. Jordan-Elbridge
URL:https://www.schedulegalaxy.com/schools/92/teams/32921/games/35960
END:VEVENT
BEGIN:VEVENT
DTSTAMP:20260422T162059Z
UID:https://www.schedulegalaxy.com/schools/92/teams/32921/games/37812
DTSTART;TZID=America/New_York:20170120T163000
CREATED;TZID=America/New_York:20160902T075720
LAST-MODIFIED;TZID=America/New_York:20160923T104632
LOCATION:EJD Gym 2
SUMMARY:Girls (Blue) 7th/8th Basketball @ Phoenix
URL:https://www.schedulegalaxy.com/schools/92/teams/32921/games/37812
END:VEVENT
BEGIN:VEVENT
DTSTAMP:20260422T162059Z
UID:https://www.schedulegalaxy.com/schools/92/teams/32921/games/37832
DTSTART;TZID=America/New_York:20170302T163000
CREATED;TZID=America/New_York:20160902T083601
LAST-MODIFIED;TZID=America/New_York:20160928T081837
LOCATION:Fulton J H S
SUMMARY:Girls (Blue) 7th/8th Basketball @ TBD
URL:https://www.schedulegalaxy.com/schools/92/teams/32921/games/37832
END:VEVENT
END:VCALENDAR
