BEGIN:VCALENDAR
VERSION:2.0
PRODID:icalendar-ruby
CALSCALE:GREGORIAN
METHOD:PUBLISH
BEGIN:VTIMEZONE
TZID:America/New_York
BEGIN:DAYLIGHT
DTSTART:20180311T030000
TZOFFSETFROM:-0500
TZOFFSETTO:-0400
RRULE:FREQ=YEARLY;BYDAY=2SU;BYMONTH=3
TZNAME:EDT
END:DAYLIGHT
BEGIN:STANDARD
DTSTART:20171105T010000
TZOFFSETFROM:-0400
TZOFFSETTO:-0500
RRULE:FREQ=YEARLY;BYDAY=1SU;BYMONTH=11
TZNAME:EST
END:STANDARD
END:VTIMEZONE
BEGIN:VTIMEZONE
TZID:America/New_York
BEGIN:DAYLIGHT
DTSTART:20180311T030000
TZOFFSETFROM:-0500
TZOFFSETTO:-0400
RRULE:FREQ=YEARLY;BYDAY=2SU;BYMONTH=3
TZNAME:EDT
END:DAYLIGHT
BEGIN:STANDARD
DTSTART:20171105T010000
TZOFFSETFROM:-0400
TZOFFSETTO:-0500
RRULE:FREQ=YEARLY;BYDAY=1SU;BYMONTH=11
TZNAME:EST
END:STANDARD
END:VTIMEZONE
BEGIN:VTIMEZONE
TZID:America/New_York
BEGIN:DAYLIGHT
DTSTART:20180311T030000
TZOFFSETFROM:-0500
TZOFFSETTO:-0400
RRULE:FREQ=YEARLY;BYDAY=2SU;BYMONTH=3
TZNAME:EDT
END:DAYLIGHT
BEGIN:STANDARD
DTSTART:20171105T010000
TZOFFSETFROM:-0400
TZOFFSETTO:-0500
RRULE:FREQ=YEARLY;BYDAY=1SU;BYMONTH=11
TZNAME:EST
END:STANDARD
END:VTIMEZONE
BEGIN:VEVENT
DTSTAMP:20260422T080328Z
UID:https://www.schedulegalaxy.com/schools/882/teams/325548/games/91002
DTSTART;TZID=America/New_York:20171213T170000
CREATED;TZID=America/New_York:20171003T124036
LAST-MODIFIED;TZID=America/New_York:20171201T114209
LOCATION:Niagara Catholic High School
SUMMARY:Girls Junior Varsity Basketball v. North Tonawanda
URL:https://www.schedulegalaxy.com/schools/882/teams/325548/games/91002
END:VEVENT
BEGIN:VEVENT
DTSTAMP:20260422T080328Z
UID:https://www.schedulegalaxy.com/schools/882/teams/325548/games/91004
DTSTART;TZID=America/New_York:20180117T173000
CREATED;TZID=America/New_York:20171003T124142
LAST-MODIFIED;TZID=America/New_York:20180119T091516
LOCATION:
SUMMARY:Girls Junior Varsity Basketball @ North Tonawanda
URL:https://www.schedulegalaxy.com/schools/882/teams/325548/games/91004
END:VEVENT
BEGIN:VEVENT
DTSTAMP:20260422T080328Z
UID:https://www.schedulegalaxy.com/schools/882/teams/325548/games/91006
DTSTART;TZID=America/New_York:20171202T100000
CREATED;TZID=America/New_York:20171003T130036
LAST-MODIFIED;TZID=America/New_York:20180119T091516
LOCATION:
SUMMARY:POSTPONED: Girls Junior Varsity Basketball @ North Tonawanda
URL:https://www.schedulegalaxy.com/schools/882/teams/325548/games/91006
END:VEVENT
END:VCALENDAR
