BEGIN:VCALENDAR
VERSION:2.0
PRODID:icalendar-ruby
CALSCALE:GREGORIAN
METHOD:PUBLISH
BEGIN:VTIMEZONE
TZID:America/New_York
BEGIN:DAYLIGHT
DTSTART:20180311T030000
TZOFFSETFROM:-0500
TZOFFSETTO:-0400
RRULE:FREQ=YEARLY;BYDAY=2SU;BYMONTH=3
TZNAME:EDT
END:DAYLIGHT
BEGIN:STANDARD
DTSTART:20171105T010000
TZOFFSETFROM:-0400
TZOFFSETTO:-0500
RRULE:FREQ=YEARLY;BYDAY=1SU;BYMONTH=11
TZNAME:EST
END:STANDARD
END:VTIMEZONE
BEGIN:VTIMEZONE
TZID:America/New_York
BEGIN:DAYLIGHT
DTSTART:20180311T030000
TZOFFSETFROM:-0500
TZOFFSETTO:-0400
RRULE:FREQ=YEARLY;BYDAY=2SU;BYMONTH=3
TZNAME:EDT
END:DAYLIGHT
BEGIN:STANDARD
DTSTART:20171105T010000
TZOFFSETFROM:-0400
TZOFFSETTO:-0500
RRULE:FREQ=YEARLY;BYDAY=1SU;BYMONTH=11
TZNAME:EST
END:STANDARD
END:VTIMEZONE
BEGIN:VTIMEZONE
TZID:America/New_York
BEGIN:DAYLIGHT
DTSTART:20180311T030000
TZOFFSETFROM:-0500
TZOFFSETTO:-0400
RRULE:FREQ=YEARLY;BYDAY=2SU;BYMONTH=3
TZNAME:EDT
END:DAYLIGHT
BEGIN:STANDARD
DTSTART:20171105T010000
TZOFFSETFROM:-0400
TZOFFSETTO:-0500
RRULE:FREQ=YEARLY;BYDAY=1SU;BYMONTH=11
TZNAME:EST
END:STANDARD
END:VTIMEZONE
BEGIN:VEVENT
DTSTAMP:20260421T182429Z
UID:https://www.schedulegalaxy.com/schools/882/teams/325547/games/90718
DTSTART;TZID=America/New_York:20171202T100000
DTEND;TZID=America/New_York:20171202T140000
CREATED;TZID=America/New_York:20171002T105828
LAST-MODIFIED;TZID=America/New_York:20180119T091516
LOCATION:
SUMMARY:Girls Varsity Basketball @ North Tonawanda
URL:https://www.schedulegalaxy.com/schools/882/teams/325547/games/90718
END:VEVENT
BEGIN:VEVENT
DTSTAMP:20260421T182429Z
UID:https://www.schedulegalaxy.com/schools/882/teams/325547/games/91001
DTSTART;TZID=America/New_York:20171213T183000
CREATED;TZID=America/New_York:20171003T124036
LAST-MODIFIED;TZID=America/New_York:20171201T114033
LOCATION:Niagara Catholic High School
SUMMARY:Girls Varsity Basketball v. North Tonawanda
URL:https://www.schedulegalaxy.com/schools/882/teams/325547/games/91001
END:VEVENT
BEGIN:VEVENT
DTSTAMP:20260421T182429Z
UID:https://www.schedulegalaxy.com/schools/882/teams/325547/games/91003
DTSTART;TZID=America/New_York:20180117T190000
CREATED;TZID=America/New_York:20171003T124142
LAST-MODIFIED;TZID=America/New_York:20180119T084735
LOCATION:North Tonawanda High School New Gym
SUMMARY:Girls Varsity Basketball @ North Tonawanda
URL:https://www.schedulegalaxy.com/schools/882/teams/325547/games/91003
END:VEVENT
END:VCALENDAR
