BEGIN:VCALENDAR
VERSION:2.0
PRODID:icalendar-ruby
CALSCALE:GREGORIAN
METHOD:PUBLISH
BEGIN:VTIMEZONE
TZID:America/New_York
BEGIN:DAYLIGHT
DTSTART:20260308T030000
TZOFFSETFROM:-0500
TZOFFSETTO:-0400
RRULE:FREQ=YEARLY;BYDAY=2SU;BYMONTH=3
TZNAME:EDT
END:DAYLIGHT
BEGIN:STANDARD
DTSTART:20261101T010000
TZOFFSETFROM:-0400
TZOFFSETTO:-0500
RRULE:FREQ=YEARLY;BYDAY=1SU;BYMONTH=11
TZNAME:EST
END:STANDARD
END:VTIMEZONE
BEGIN:VEVENT
DTSTAMP:20260425T162724Z
UID:https://www.schedulegalaxy.com/schools/7828/teams/3718569/games/1468674
DTSTART;TZID=America/New_York:20260330T080000
CREATED;TZID=America/New_York:20260309T135846
LAST-MODIFIED;TZID=America/New_York:20260325T095854
LOCATION:Grand Strand Softball - North Myrtle Beach Park & Sports Complex
SUMMARY:Girls Varsity Softball v. Auburn
URL:https://www.schedulegalaxy.com/schools/7828/teams/3718569/games/1468674
END:VEVENT
END:VCALENDAR
