BEGIN:VCALENDAR
VERSION:2.0
PRODID:icalendar-ruby
CALSCALE:GREGORIAN
METHOD:PUBLISH
BEGIN:VTIMEZONE
TZID:America/Chicago
BEGIN:DAYLIGHT
DTSTART:20250309T030000
TZOFFSETFROM:-0600
TZOFFSETTO:-0500
RRULE:FREQ=YEARLY;BYDAY=2SU;BYMONTH=3
TZNAME:CDT
END:DAYLIGHT
BEGIN:STANDARD
DTSTART:20251102T010000
TZOFFSETFROM:-0500
TZOFFSETTO:-0600
RRULE:FREQ=YEARLY;BYDAY=1SU;BYMONTH=11
TZNAME:CST
END:STANDARD
END:VTIMEZONE
BEGIN:VTIMEZONE
TZID:America/Chicago
BEGIN:DAYLIGHT
DTSTART:20250309T030000
TZOFFSETFROM:-0600
TZOFFSETTO:-0500
RRULE:FREQ=YEARLY;BYDAY=2SU;BYMONTH=3
TZNAME:CDT
END:DAYLIGHT
BEGIN:STANDARD
DTSTART:20251102T010000
TZOFFSETFROM:-0500
TZOFFSETTO:-0600
RRULE:FREQ=YEARLY;BYDAY=1SU;BYMONTH=11
TZNAME:CST
END:STANDARD
END:VTIMEZONE
BEGIN:VTIMEZONE
TZID:America/Chicago
BEGIN:DAYLIGHT
DTSTART:20250309T030000
TZOFFSETFROM:-0600
TZOFFSETTO:-0500
RRULE:FREQ=YEARLY;BYDAY=2SU;BYMONTH=3
TZNAME:CDT
END:DAYLIGHT
BEGIN:STANDARD
DTSTART:20251102T010000
TZOFFSETFROM:-0500
TZOFFSETTO:-0600
RRULE:FREQ=YEARLY;BYDAY=1SU;BYMONTH=11
TZNAME:CST
END:STANDARD
END:VTIMEZONE
BEGIN:VTIMEZONE
TZID:America/Chicago
BEGIN:DAYLIGHT
DTSTART:20260308T030000
TZOFFSETFROM:-0600
TZOFFSETTO:-0500
RRULE:FREQ=YEARLY;BYDAY=2SU;BYMONTH=3
TZNAME:CDT
END:DAYLIGHT
BEGIN:STANDARD
DTSTART:20251102T010000
TZOFFSETFROM:-0500
TZOFFSETTO:-0600
RRULE:FREQ=YEARLY;BYDAY=1SU;BYMONTH=11
TZNAME:CST
END:STANDARD
END:VTIMEZONE
BEGIN:VEVENT
DTSTAMP:20260419T122156Z
UID:https://www.schedulegalaxy.com/schools/6213/teams/2913482/games/1336023
DTSTART;TZID=America/Chicago:20250821T190000
DTEND;TZID=America/Chicago:20250821T203000
CREATED;TZID=America/Chicago:20250731T191618
LAST-MODIFIED;TZID=America/Chicago:20250731T191618
LOCATION:Panther stadium
SUMMARY:Boys Varsity Football @ Duncanville High School
URL:https://www.schedulegalaxy.com/schools/6213/teams/2913482/games/1336023
END:VEVENT
BEGIN:VEVENT
DTSTAMP:20260419T122156Z
UID:https://www.schedulegalaxy.com/schools/6213/teams/2913555/games/1338561
DTSTART;TZID=America/Chicago:20250821T180000
DTEND;TZID=America/Chicago:20250821T190000
CREATED;TZID=America/Chicago:20250805T224237
LAST-MODIFIED;TZID=America/Chicago:20250805T224237
LOCATION:Panther stadium
SUMMARY:Boys Junior Varsity Football @ Duncanville High School
URL:https://www.schedulegalaxy.com/schools/6213/teams/2913555/games/1338561
END:VEVENT
BEGIN:VEVENT
DTSTAMP:20260419T122156Z
UID:https://www.schedulegalaxy.com/schools/6213/teams/2913600/games/1338566
DTSTART;TZID=America/Chicago:20250821T170000
DTEND;TZID=America/Chicago:20250821T180000
CREATED;TZID=America/Chicago:20250805T225810
LAST-MODIFIED;TZID=America/Chicago:20250805T225810
LOCATION:Panther stadium
SUMMARY:Boys Freshman Football @ Duncanville High School
URL:https://www.schedulegalaxy.com/schools/6213/teams/2913600/games/1338566
END:VEVENT
BEGIN:VEVENT
DTSTAMP:20260419T122156Z
UID:https://www.schedulegalaxy.com/schools/6213/teams/2914083/games/1411783
DTSTART;TZID=America/Chicago:20260305T182000
DTEND;TZID=America/Chicago:20260305T202000
CREATED;TZID=America/Chicago:20251120T105534
LAST-MODIFIED;TZID=America/Chicago:20260302T215238
LOCATION:500 N INDUSTRIAL BLVD\, EULESS\, TX\, 76039
SUMMARY:Boys Junior Varsity Baseball @ Duncanville High School
URL:https://www.schedulegalaxy.com/schools/6213/teams/2914083/games/1411783
END:VEVENT
END:VCALENDAR
