BEGIN:VCALENDAR
VERSION:2.0
PRODID:icalendar-ruby
CALSCALE:GREGORIAN
METHOD:PUBLISH
BEGIN:VTIMEZONE
TZID:America/New_York
BEGIN:DAYLIGHT
DTSTART:20170312T030000
TZOFFSETFROM:-0500
TZOFFSETTO:-0400
RRULE:FREQ=YEARLY;BYDAY=2SU;BYMONTH=3
TZNAME:EDT
END:DAYLIGHT
BEGIN:STANDARD
DTSTART:20171105T010000
TZOFFSETFROM:-0400
TZOFFSETTO:-0500
RRULE:FREQ=YEARLY;BYDAY=1SU;BYMONTH=11
TZNAME:EST
END:STANDARD
END:VTIMEZONE
BEGIN:VEVENT
DTSTAMP:20260421T182437Z
UID:https://www.schedulegalaxy.com/schools/57/teams/19936/games/97084
DTSTART;TZID=America/New_York:20171025T193000
CREATED;TZID=America/New_York:20171022T173316
LAST-MODIFIED;TZID=America/New_York:20171022T173316
LOCATION:Chittenango HS
SUMMARY:Girls Varsity Soccer @ Tully
URL:https://www.schedulegalaxy.com/schools/57/teams/19936/games/97084
END:VEVENT
END:VCALENDAR
