BEGIN:VCALENDAR
VERSION:2.0
PRODID:icalendar-ruby
CALSCALE:GREGORIAN
METHOD:PUBLISH
BEGIN:VTIMEZONE
TZID:America/New_York
BEGIN:DAYLIGHT
DTSTART:20250309T030000
TZOFFSETFROM:-0500
TZOFFSETTO:-0400
RRULE:FREQ=YEARLY;BYDAY=2SU;BYMONTH=3
TZNAME:EDT
END:DAYLIGHT
BEGIN:STANDARD
DTSTART:20251102T010000
TZOFFSETFROM:-0400
TZOFFSETTO:-0500
RRULE:FREQ=YEARLY;BYDAY=1SU;BYMONTH=11
TZNAME:EST
END:STANDARD
END:VTIMEZONE
BEGIN:VTIMEZONE
TZID:America/New_York
BEGIN:DAYLIGHT
DTSTART:20250309T030000
TZOFFSETFROM:-0500
TZOFFSETTO:-0400
RRULE:FREQ=YEARLY;BYDAY=2SU;BYMONTH=3
TZNAME:EDT
END:DAYLIGHT
BEGIN:STANDARD
DTSTART:20251102T010000
TZOFFSETFROM:-0400
TZOFFSETTO:-0500
RRULE:FREQ=YEARLY;BYDAY=1SU;BYMONTH=11
TZNAME:EST
END:STANDARD
END:VTIMEZONE
BEGIN:VTIMEZONE
TZID:America/New_York
BEGIN:DAYLIGHT
DTSTART:20250309T030000
TZOFFSETFROM:-0500
TZOFFSETTO:-0400
RRULE:FREQ=YEARLY;BYDAY=2SU;BYMONTH=3
TZNAME:EDT
END:DAYLIGHT
BEGIN:STANDARD
DTSTART:20251102T010000
TZOFFSETFROM:-0400
TZOFFSETTO:-0500
RRULE:FREQ=YEARLY;BYDAY=1SU;BYMONTH=11
TZNAME:EST
END:STANDARD
END:VTIMEZONE
BEGIN:VTIMEZONE
TZID:America/New_York
BEGIN:DAYLIGHT
DTSTART:20250309T030000
TZOFFSETFROM:-0500
TZOFFSETTO:-0400
RRULE:FREQ=YEARLY;BYDAY=2SU;BYMONTH=3
TZNAME:EDT
END:DAYLIGHT
BEGIN:STANDARD
DTSTART:20251102T010000
TZOFFSETFROM:-0400
TZOFFSETTO:-0500
RRULE:FREQ=YEARLY;BYDAY=1SU;BYMONTH=11
TZNAME:EST
END:STANDARD
END:VTIMEZONE
BEGIN:VEVENT
DTSTAMP:20260421T035601Z
UID:https://www.schedulegalaxy.com/schools/439/teams/164513/games/1291868
DTSTART;TZID=America/New_York:20250920T090000
CREATED;TZID=America/New_York:20250423T145159
LAST-MODIFIED;TZID=America/New_York:20250922T150347
LOCATION:Shaker High School- H Gym
SUMMARY:Girls Varsity Volleyball Hudson Falls @ Shaker High School
URL:https://www.schedulegalaxy.com/schools/439/teams/164513/games/1291868
END:VEVENT
BEGIN:VEVENT
DTSTAMP:20260421T035601Z
UID:https://www.schedulegalaxy.com/schools/439/teams/164513/games/1317684
DTSTART;TZID=America/New_York:20250902T180000
CREATED;TZID=America/New_York:20250616T180921
LAST-MODIFIED;TZID=America/New_York:20250616T180921
LOCATION:Robert C. Munn Gymnasium at Broadalbin-Perth High School
SUMMARY:Girls Varsity Volleyball @ Broadalbin-Perth
URL:https://www.schedulegalaxy.com/schools/439/teams/164513/games/1317684
END:VEVENT
BEGIN:VEVENT
DTSTAMP:20260421T035601Z
UID:https://www.schedulegalaxy.com/schools/439/teams/164513/games/1322313
DTSTART;TZID=America/New_York:20250913T083000
CREATED;TZID=America/New_York:20250626T093201
LAST-MODIFIED;TZID=America/New_York:20250710T101702
LOCATION:Colonie High School MUG (Main Gymnasium)
SUMMARY:Girls Varsity Volleyball Beekmantown\, Hudson Falls\, Voorheesville
 \, Fonda-Fultonville\, Ballston Spa High School\, Cobleskill-Richmondville
  @ Colonie High School
URL:https://www.schedulegalaxy.com/schools/439/teams/164513/games/1322313
END:VEVENT
BEGIN:VEVENT
DTSTAMP:20260421T035601Z
UID:https://www.schedulegalaxy.com/schools/439/teams/164513/games/1329428
DTSTART;TZID=America/New_York:20250923T180000
CREATED;TZID=America/New_York:20250717T141045
LAST-MODIFIED;TZID=America/New_York:20250717T141045
LOCATION:HS Gym
SUMMARY:Girls Varsity Volleyball @ Catskill
URL:https://www.schedulegalaxy.com/schools/439/teams/164513/games/1329428
END:VEVENT
END:VCALENDAR
