BEGIN:VCALENDAR
VERSION:2.0
PRODID:icalendar-ruby
CALSCALE:GREGORIAN
METHOD:PUBLISH
BEGIN:VTIMEZONE
TZID:America/New_York
BEGIN:DAYLIGHT
DTSTART:20180311T030000
TZOFFSETFROM:-0500
TZOFFSETTO:-0400
RRULE:FREQ=YEARLY;BYDAY=2SU;BYMONTH=3
TZNAME:EDT
END:DAYLIGHT
BEGIN:STANDARD
DTSTART:20171105T010000
TZOFFSETFROM:-0400
TZOFFSETTO:-0500
RRULE:FREQ=YEARLY;BYDAY=1SU;BYMONTH=11
TZNAME:EST
END:STANDARD
END:VTIMEZONE
BEGIN:VTIMEZONE
TZID:America/New_York
BEGIN:DAYLIGHT
DTSTART:20180311T030000
TZOFFSETFROM:-0500
TZOFFSETTO:-0400
RRULE:FREQ=YEARLY;BYDAY=2SU;BYMONTH=3
TZNAME:EDT
END:DAYLIGHT
BEGIN:STANDARD
DTSTART:20171105T010000
TZOFFSETFROM:-0400
TZOFFSETTO:-0500
RRULE:FREQ=YEARLY;BYDAY=1SU;BYMONTH=11
TZNAME:EST
END:STANDARD
END:VTIMEZONE
BEGIN:VEVENT
DTSTAMP:20260424T142350Z
UID:https://www.schedulegalaxy.com/schools/310/teams/115328/games/80830
DTSTART;TZID=America/New_York:20171205T180000
CREATED;TZID=America/New_York:20170822T112204
LAST-MODIFIED;TZID=America/New_York:20170822T112205
LOCATION:Bishop Ludden Gym
SUMMARY:Boys Junior Varsity Basketball @ Bishop Ludden
URL:https://www.schedulegalaxy.com/schools/310/teams/115328/games/80830
END:VEVENT
BEGIN:VEVENT
DTSTAMP:20260424T142350Z
UID:https://www.schedulegalaxy.com/schools/310/teams/115328/games/91846
DTSTART;TZID=America/New_York:20180127T150000
CREATED;TZID=America/New_York:20171004T095446
LAST-MODIFIED;TZID=America/New_York:20171004T095446
LOCATION:Victor Intermediate/JH/HS
SUMMARY:Boys Junior Varsity Basketball v. Bishop Ludden
URL:https://www.schedulegalaxy.com/schools/310/teams/115328/games/91846
END:VEVENT
END:VCALENDAR
