BEGIN:VCALENDAR
VERSION:2.0
PRODID:icalendar-ruby
CALSCALE:GREGORIAN
METHOD:PUBLISH
BEGIN:VTIMEZONE
TZID:America/New_York
BEGIN:DAYLIGHT
DTSTART:20180311T030000
TZOFFSETFROM:-0500
TZOFFSETTO:-0400
RRULE:FREQ=YEARLY;BYDAY=2SU;BYMONTH=3
TZNAME:EDT
END:DAYLIGHT
BEGIN:STANDARD
DTSTART:20171105T010000
TZOFFSETFROM:-0400
TZOFFSETTO:-0500
RRULE:FREQ=YEARLY;BYDAY=1SU;BYMONTH=11
TZNAME:EST
END:STANDARD
END:VTIMEZONE
BEGIN:VTIMEZONE
TZID:America/New_York
BEGIN:DAYLIGHT
DTSTART:20180311T030000
TZOFFSETFROM:-0500
TZOFFSETTO:-0400
RRULE:FREQ=YEARLY;BYDAY=2SU;BYMONTH=3
TZNAME:EDT
END:DAYLIGHT
BEGIN:STANDARD
DTSTART:20171105T010000
TZOFFSETFROM:-0400
TZOFFSETTO:-0500
RRULE:FREQ=YEARLY;BYDAY=1SU;BYMONTH=11
TZNAME:EST
END:STANDARD
END:VTIMEZONE
BEGIN:VTIMEZONE
TZID:America/New_York
BEGIN:DAYLIGHT
DTSTART:20180311T030000
TZOFFSETFROM:-0500
TZOFFSETTO:-0400
RRULE:FREQ=YEARLY;BYDAY=2SU;BYMONTH=3
TZNAME:EDT
END:DAYLIGHT
BEGIN:STANDARD
DTSTART:20171105T010000
TZOFFSETFROM:-0400
TZOFFSETTO:-0500
RRULE:FREQ=YEARLY;BYDAY=1SU;BYMONTH=11
TZNAME:EST
END:STANDARD
END:VTIMEZONE
BEGIN:VEVENT
DTSTAMP:20260425T235904Z
UID:https://www.schedulegalaxy.com/schools/28/teams/8722/games/90007
DTSTART;TZID=America/New_York:20171127T190000
CREATED;TZID=America/New_York:20170927T082827
LAST-MODIFIED;TZID=America/New_York:20170927T082827
LOCATION:Clinton HS
SUMMARY:Girls Varsity Basketball v. Cazenovia
URL:https://www.schedulegalaxy.com/schools/28/teams/8722/games/90007
END:VEVENT
BEGIN:VEVENT
DTSTAMP:20260425T235904Z
UID:https://www.schedulegalaxy.com/schools/28/teams/8722/games/90065
DTSTART;TZID=America/New_York:20180127T133000
CREATED;TZID=America/New_York:20170927T111338
LAST-MODIFIED;TZID=America/New_York:20171012T112625
LOCATION:Clinton HS
SUMMARY:Girls Varsity Basketball v. Tully
URL:https://www.schedulegalaxy.com/schools/28/teams/8722/games/90065
END:VEVENT
BEGIN:VEVENT
DTSTAMP:20260425T235904Z
UID:https://www.schedulegalaxy.com/schools/28/teams/8722/games/93616
DTSTART;TZID=America/New_York:20180120T133000
CREATED;TZID=America/New_York:20171012T113126
LAST-MODIFIED;TZID=America/New_York:20171215T210847
LOCATION:Tully HS Gym #1
SUMMARY:Girls Varsity Basketball @ Tully
URL:https://www.schedulegalaxy.com/schools/28/teams/8722/games/93616
END:VEVENT
END:VCALENDAR
