BEGIN:VCALENDAR
VERSION:2.0
PRODID:icalendar-ruby
CALSCALE:GREGORIAN
METHOD:PUBLISH
BEGIN:VTIMEZONE
TZID:America/New_York
BEGIN:DAYLIGHT
DTSTART:20170312T030000
TZOFFSETFROM:-0500
TZOFFSETTO:-0400
RRULE:FREQ=YEARLY;BYDAY=2SU;BYMONTH=3
TZNAME:EDT
END:DAYLIGHT
BEGIN:STANDARD
DTSTART:20171105T010000
TZOFFSETFROM:-0400
TZOFFSETTO:-0500
RRULE:FREQ=YEARLY;BYDAY=1SU;BYMONTH=11
TZNAME:EST
END:STANDARD
END:VTIMEZONE
BEGIN:VTIMEZONE
TZID:America/New_York
BEGIN:DAYLIGHT
DTSTART:20170312T030000
TZOFFSETFROM:-0500
TZOFFSETTO:-0400
RRULE:FREQ=YEARLY;BYDAY=2SU;BYMONTH=3
TZNAME:EDT
END:DAYLIGHT
BEGIN:STANDARD
DTSTART:20171105T010000
TZOFFSETFROM:-0400
TZOFFSETTO:-0500
RRULE:FREQ=YEARLY;BYDAY=1SU;BYMONTH=11
TZNAME:EST
END:STANDARD
END:VTIMEZONE
BEGIN:VTIMEZONE
TZID:America/New_York
BEGIN:DAYLIGHT
DTSTART:20170312T030000
TZOFFSETFROM:-0500
TZOFFSETTO:-0400
RRULE:FREQ=YEARLY;BYDAY=2SU;BYMONTH=3
TZNAME:EDT
END:DAYLIGHT
BEGIN:STANDARD
DTSTART:20171105T010000
TZOFFSETFROM:-0400
TZOFFSETTO:-0500
RRULE:FREQ=YEARLY;BYDAY=1SU;BYMONTH=11
TZNAME:EST
END:STANDARD
END:VTIMEZONE
BEGIN:VTIMEZONE
TZID:America/New_York
BEGIN:DAYLIGHT
DTSTART:20170312T030000
TZOFFSETFROM:-0500
TZOFFSETTO:-0400
RRULE:FREQ=YEARLY;BYDAY=2SU;BYMONTH=3
TZNAME:EDT
END:DAYLIGHT
BEGIN:STANDARD
DTSTART:20171105T010000
TZOFFSETFROM:-0400
TZOFFSETTO:-0500
RRULE:FREQ=YEARLY;BYDAY=1SU;BYMONTH=11
TZNAME:EST
END:STANDARD
END:VTIMEZONE
BEGIN:VEVENT
DTSTAMP:20260421T194119Z
UID:https://www.schedulegalaxy.com/schools/193/teams/71084/games/52208
DTSTART;TZID=America/New_York:20170426T170000
CREATED;TZID=America/New_York:20170322T140903
LAST-MODIFIED;TZID=America/New_York:20170322T140903
LOCATION:Hermon-DeKalb School
SUMMARY:Boys Junior Varsity Baseball v. Beaver River
URL:https://www.schedulegalaxy.com/schools/193/teams/71084/games/52208
END:VEVENT
BEGIN:VEVENT
DTSTAMP:20260421T194119Z
UID:https://www.schedulegalaxy.com/schools/193/teams/71084/games/52209
DTSTART;TZID=America/New_York:20170518T163000
CREATED;TZID=America/New_York:20170322T141123
LAST-MODIFIED;TZID=America/New_York:20170322T141123
LOCATION:Beaver River H S
SUMMARY:Boys Junior Varsity Baseball @ Beaver River
URL:https://www.schedulegalaxy.com/schools/193/teams/71084/games/52209
END:VEVENT
BEGIN:VEVENT
DTSTAMP:20260421T194119Z
UID:https://www.schedulegalaxy.com/schools/193/teams/71084/games/57599
DTSTART;TZID=America/New_York:20170520T100000
CREATED;TZID=America/New_York:20170424T131910
LAST-MODIFIED;TZID=America/New_York:20170424T131910
LOCATION:Lowville High School Main Gym
SUMMARY:Boys Junior Varsity Baseball @ Lowville
URL:https://www.schedulegalaxy.com/schools/193/teams/71084/games/57599
END:VEVENT
BEGIN:VEVENT
DTSTAMP:20260421T194119Z
UID:https://www.schedulegalaxy.com/schools/193/teams/71084/games/57600
DTSTART;TZID=America/New_York:20170520T113000
CREATED;TZID=America/New_York:20170424T132026
LAST-MODIFIED;TZID=America/New_York:20170424T132026
LOCATION:Lowville High School Main Gym
SUMMARY:Boys Junior Varsity Baseball @ Lowville
URL:https://www.schedulegalaxy.com/schools/193/teams/71084/games/57600
END:VEVENT
END:VCALENDAR
