BEGIN:VCALENDAR
VERSION:2.0
PRODID:icalendar-ruby
CALSCALE:GREGORIAN
METHOD:PUBLISH
BEGIN:VTIMEZONE
TZID:America/New_York
BEGIN:DAYLIGHT
DTSTART:20190310T030000
TZOFFSETFROM:-0500
TZOFFSETTO:-0400
RRULE:FREQ=YEARLY;BYDAY=2SU;BYMONTH=3
TZNAME:EDT
END:DAYLIGHT
BEGIN:STANDARD
DTSTART:20191103T010000
TZOFFSETFROM:-0400
TZOFFSETTO:-0500
RRULE:FREQ=YEARLY;BYDAY=1SU;BYMONTH=11
TZNAME:EST
END:STANDARD
END:VTIMEZONE
BEGIN:VTIMEZONE
TZID:America/New_York
BEGIN:DAYLIGHT
DTSTART:20190310T030000
TZOFFSETFROM:-0500
TZOFFSETTO:-0400
RRULE:FREQ=YEARLY;BYDAY=2SU;BYMONTH=3
TZNAME:EDT
END:DAYLIGHT
BEGIN:STANDARD
DTSTART:20191103T010000
TZOFFSETFROM:-0400
TZOFFSETTO:-0500
RRULE:FREQ=YEARLY;BYDAY=1SU;BYMONTH=11
TZNAME:EST
END:STANDARD
END:VTIMEZONE
BEGIN:VTIMEZONE
TZID:America/New_York
BEGIN:DAYLIGHT
DTSTART:20190310T030000
TZOFFSETFROM:-0500
TZOFFSETTO:-0400
RRULE:FREQ=YEARLY;BYDAY=2SU;BYMONTH=3
TZNAME:EDT
END:DAYLIGHT
BEGIN:STANDARD
DTSTART:20191103T010000
TZOFFSETFROM:-0400
TZOFFSETTO:-0500
RRULE:FREQ=YEARLY;BYDAY=1SU;BYMONTH=11
TZNAME:EST
END:STANDARD
END:VTIMEZONE
BEGIN:VTIMEZONE
TZID:America/New_York
BEGIN:DAYLIGHT
DTSTART:20190310T030000
TZOFFSETFROM:-0500
TZOFFSETTO:-0400
RRULE:FREQ=YEARLY;BYDAY=2SU;BYMONTH=3
TZNAME:EDT
END:DAYLIGHT
BEGIN:STANDARD
DTSTART:20191103T010000
TZOFFSETFROM:-0400
TZOFFSETTO:-0500
RRULE:FREQ=YEARLY;BYDAY=1SU;BYMONTH=11
TZNAME:EST
END:STANDARD
END:VTIMEZONE
BEGIN:VTIMEZONE
TZID:America/New_York
BEGIN:DAYLIGHT
DTSTART:20190310T030000
TZOFFSETFROM:-0500
TZOFFSETTO:-0400
RRULE:FREQ=YEARLY;BYDAY=2SU;BYMONTH=3
TZNAME:EDT
END:DAYLIGHT
BEGIN:STANDARD
DTSTART:20191103T010000
TZOFFSETFROM:-0400
TZOFFSETTO:-0500
RRULE:FREQ=YEARLY;BYDAY=1SU;BYMONTH=11
TZNAME:EST
END:STANDARD
END:VTIMEZONE
BEGIN:VTIMEZONE
TZID:America/New_York
BEGIN:DAYLIGHT
DTSTART:20190310T030000
TZOFFSETFROM:-0500
TZOFFSETTO:-0400
RRULE:FREQ=YEARLY;BYDAY=2SU;BYMONTH=3
TZNAME:EDT
END:DAYLIGHT
BEGIN:STANDARD
DTSTART:20191103T010000
TZOFFSETFROM:-0400
TZOFFSETTO:-0500
RRULE:FREQ=YEARLY;BYDAY=1SU;BYMONTH=11
TZNAME:EST
END:STANDARD
END:VTIMEZONE
BEGIN:VTIMEZONE
TZID:America/New_York
BEGIN:DAYLIGHT
DTSTART:20190310T030000
TZOFFSETFROM:-0500
TZOFFSETTO:-0400
RRULE:FREQ=YEARLY;BYDAY=2SU;BYMONTH=3
TZNAME:EDT
END:DAYLIGHT
BEGIN:STANDARD
DTSTART:20191103T010000
TZOFFSETFROM:-0400
TZOFFSETTO:-0500
RRULE:FREQ=YEARLY;BYDAY=1SU;BYMONTH=11
TZNAME:EST
END:STANDARD
END:VTIMEZONE
BEGIN:VTIMEZONE
TZID:America/New_York
BEGIN:DAYLIGHT
DTSTART:20190310T030000
TZOFFSETFROM:-0500
TZOFFSETTO:-0400
RRULE:FREQ=YEARLY;BYDAY=2SU;BYMONTH=3
TZNAME:EDT
END:DAYLIGHT
BEGIN:STANDARD
DTSTART:20191103T010000
TZOFFSETFROM:-0400
TZOFFSETTO:-0500
RRULE:FREQ=YEARLY;BYDAY=1SU;BYMONTH=11
TZNAME:EST
END:STANDARD
END:VTIMEZONE
BEGIN:VTIMEZONE
TZID:America/New_York
BEGIN:DAYLIGHT
DTSTART:20190310T030000
TZOFFSETFROM:-0500
TZOFFSETTO:-0400
RRULE:FREQ=YEARLY;BYDAY=2SU;BYMONTH=3
TZNAME:EDT
END:DAYLIGHT
BEGIN:STANDARD
DTSTART:20191103T010000
TZOFFSETFROM:-0400
TZOFFSETTO:-0500
RRULE:FREQ=YEARLY;BYDAY=1SU;BYMONTH=11
TZNAME:EST
END:STANDARD
END:VTIMEZONE
BEGIN:VTIMEZONE
TZID:America/New_York
BEGIN:DAYLIGHT
DTSTART:20190310T030000
TZOFFSETFROM:-0500
TZOFFSETTO:-0400
RRULE:FREQ=YEARLY;BYDAY=2SU;BYMONTH=3
TZNAME:EDT
END:DAYLIGHT
BEGIN:STANDARD
DTSTART:20191103T010000
TZOFFSETFROM:-0400
TZOFFSETTO:-0500
RRULE:FREQ=YEARLY;BYDAY=1SU;BYMONTH=11
TZNAME:EST
END:STANDARD
END:VTIMEZONE
BEGIN:VTIMEZONE
TZID:America/New_York
BEGIN:DAYLIGHT
DTSTART:20190310T030000
TZOFFSETFROM:-0500
TZOFFSETTO:-0400
RRULE:FREQ=YEARLY;BYDAY=2SU;BYMONTH=3
TZNAME:EDT
END:DAYLIGHT
BEGIN:STANDARD
DTSTART:20191103T010000
TZOFFSETFROM:-0400
TZOFFSETTO:-0500
RRULE:FREQ=YEARLY;BYDAY=1SU;BYMONTH=11
TZNAME:EST
END:STANDARD
END:VTIMEZONE
BEGIN:VTIMEZONE
TZID:America/New_York
BEGIN:DAYLIGHT
DTSTART:20190310T030000
TZOFFSETFROM:-0500
TZOFFSETTO:-0400
RRULE:FREQ=YEARLY;BYDAY=2SU;BYMONTH=3
TZNAME:EDT
END:DAYLIGHT
BEGIN:STANDARD
DTSTART:20191103T010000
TZOFFSETFROM:-0400
TZOFFSETTO:-0500
RRULE:FREQ=YEARLY;BYDAY=1SU;BYMONTH=11
TZNAME:EST
END:STANDARD
END:VTIMEZONE
BEGIN:VTIMEZONE
TZID:America/New_York
BEGIN:DAYLIGHT
DTSTART:20190310T030000
TZOFFSETFROM:-0500
TZOFFSETTO:-0400
RRULE:FREQ=YEARLY;BYDAY=2SU;BYMONTH=3
TZNAME:EDT
END:DAYLIGHT
BEGIN:STANDARD
DTSTART:20191103T010000
TZOFFSETFROM:-0400
TZOFFSETTO:-0500
RRULE:FREQ=YEARLY;BYDAY=1SU;BYMONTH=11
TZNAME:EST
END:STANDARD
END:VTIMEZONE
BEGIN:VTIMEZONE
TZID:America/New_York
BEGIN:DAYLIGHT
DTSTART:20190310T030000
TZOFFSETFROM:-0500
TZOFFSETTO:-0400
RRULE:FREQ=YEARLY;BYDAY=2SU;BYMONTH=3
TZNAME:EDT
END:DAYLIGHT
BEGIN:STANDARD
DTSTART:20191103T010000
TZOFFSETFROM:-0400
TZOFFSETTO:-0500
RRULE:FREQ=YEARLY;BYDAY=1SU;BYMONTH=11
TZNAME:EST
END:STANDARD
END:VTIMEZONE
BEGIN:VTIMEZONE
TZID:America/New_York
BEGIN:DAYLIGHT
DTSTART:20190310T030000
TZOFFSETFROM:-0500
TZOFFSETTO:-0400
RRULE:FREQ=YEARLY;BYDAY=2SU;BYMONTH=3
TZNAME:EDT
END:DAYLIGHT
BEGIN:STANDARD
DTSTART:20191103T010000
TZOFFSETFROM:-0400
TZOFFSETTO:-0500
RRULE:FREQ=YEARLY;BYDAY=1SU;BYMONTH=11
TZNAME:EST
END:STANDARD
END:VTIMEZONE
BEGIN:VTIMEZONE
TZID:America/New_York
BEGIN:DAYLIGHT
DTSTART:20190310T030000
TZOFFSETFROM:-0500
TZOFFSETTO:-0400
RRULE:FREQ=YEARLY;BYDAY=2SU;BYMONTH=3
TZNAME:EDT
END:DAYLIGHT
BEGIN:STANDARD
DTSTART:20191103T010000
TZOFFSETFROM:-0400
TZOFFSETTO:-0500
RRULE:FREQ=YEARLY;BYDAY=1SU;BYMONTH=11
TZNAME:EST
END:STANDARD
END:VTIMEZONE
BEGIN:VTIMEZONE
TZID:America/New_York
BEGIN:DAYLIGHT
DTSTART:20190310T030000
TZOFFSETFROM:-0500
TZOFFSETTO:-0400
RRULE:FREQ=YEARLY;BYDAY=2SU;BYMONTH=3
TZNAME:EDT
END:DAYLIGHT
BEGIN:STANDARD
DTSTART:20191103T010000
TZOFFSETFROM:-0400
TZOFFSETTO:-0500
RRULE:FREQ=YEARLY;BYDAY=1SU;BYMONTH=11
TZNAME:EST
END:STANDARD
END:VTIMEZONE
BEGIN:VTIMEZONE
TZID:America/New_York
BEGIN:DAYLIGHT
DTSTART:20190310T030000
TZOFFSETFROM:-0500
TZOFFSETTO:-0400
RRULE:FREQ=YEARLY;BYDAY=2SU;BYMONTH=3
TZNAME:EDT
END:DAYLIGHT
BEGIN:STANDARD
DTSTART:20191103T010000
TZOFFSETFROM:-0400
TZOFFSETTO:-0500
RRULE:FREQ=YEARLY;BYDAY=1SU;BYMONTH=11
TZNAME:EST
END:STANDARD
END:VTIMEZONE
BEGIN:VTIMEZONE
TZID:America/New_York
BEGIN:DAYLIGHT
DTSTART:20190310T030000
TZOFFSETFROM:-0500
TZOFFSETTO:-0400
RRULE:FREQ=YEARLY;BYDAY=2SU;BYMONTH=3
TZNAME:EDT
END:DAYLIGHT
BEGIN:STANDARD
DTSTART:20191103T010000
TZOFFSETFROM:-0400
TZOFFSETTO:-0500
RRULE:FREQ=YEARLY;BYDAY=1SU;BYMONTH=11
TZNAME:EST
END:STANDARD
END:VTIMEZONE
BEGIN:VTIMEZONE
TZID:America/New_York
BEGIN:DAYLIGHT
DTSTART:20190310T030000
TZOFFSETFROM:-0500
TZOFFSETTO:-0400
RRULE:FREQ=YEARLY;BYDAY=2SU;BYMONTH=3
TZNAME:EDT
END:DAYLIGHT
BEGIN:STANDARD
DTSTART:20191103T010000
TZOFFSETFROM:-0400
TZOFFSETTO:-0500
RRULE:FREQ=YEARLY;BYDAY=1SU;BYMONTH=11
TZNAME:EST
END:STANDARD
END:VTIMEZONE
BEGIN:VTIMEZONE
TZID:America/New_York
BEGIN:DAYLIGHT
DTSTART:20190310T030000
TZOFFSETFROM:-0500
TZOFFSETTO:-0400
RRULE:FREQ=YEARLY;BYDAY=2SU;BYMONTH=3
TZNAME:EDT
END:DAYLIGHT
BEGIN:STANDARD
DTSTART:20191103T010000
TZOFFSETFROM:-0400
TZOFFSETTO:-0500
RRULE:FREQ=YEARLY;BYDAY=1SU;BYMONTH=11
TZNAME:EST
END:STANDARD
END:VTIMEZONE
BEGIN:VTIMEZONE
TZID:America/New_York
BEGIN:DAYLIGHT
DTSTART:20190310T030000
TZOFFSETFROM:-0500
TZOFFSETTO:-0400
RRULE:FREQ=YEARLY;BYDAY=2SU;BYMONTH=3
TZNAME:EDT
END:DAYLIGHT
BEGIN:STANDARD
DTSTART:20191103T010000
TZOFFSETFROM:-0400
TZOFFSETTO:-0500
RRULE:FREQ=YEARLY;BYDAY=1SU;BYMONTH=11
TZNAME:EST
END:STANDARD
END:VTIMEZONE
BEGIN:VTIMEZONE
TZID:America/New_York
BEGIN:DAYLIGHT
DTSTART:20190310T030000
TZOFFSETFROM:-0500
TZOFFSETTO:-0400
RRULE:FREQ=YEARLY;BYDAY=2SU;BYMONTH=3
TZNAME:EDT
END:DAYLIGHT
BEGIN:STANDARD
DTSTART:20191103T010000
TZOFFSETFROM:-0400
TZOFFSETTO:-0500
RRULE:FREQ=YEARLY;BYDAY=1SU;BYMONTH=11
TZNAME:EST
END:STANDARD
END:VTIMEZONE
BEGIN:VTIMEZONE
TZID:America/New_York
BEGIN:DAYLIGHT
DTSTART:20190310T030000
TZOFFSETFROM:-0500
TZOFFSETTO:-0400
RRULE:FREQ=YEARLY;BYDAY=2SU;BYMONTH=3
TZNAME:EDT
END:DAYLIGHT
BEGIN:STANDARD
DTSTART:20191103T010000
TZOFFSETFROM:-0400
TZOFFSETTO:-0500
RRULE:FREQ=YEARLY;BYDAY=1SU;BYMONTH=11
TZNAME:EST
END:STANDARD
END:VTIMEZONE
BEGIN:VEVENT
DTSTAMP:20260422T074039Z
UID:https://www.schedulegalaxy.com/schools/180/teams/66439/games/222890
DTSTART;TZID=America/New_York:20190504T130000
CREATED;TZID=America/New_York:20190104T100432
LAST-MODIFIED;TZID=America/New_York:20190503T090928
LOCATION:Vestal High School Baseball Field
SUMMARY:POSTPONED: Girls Varsity Softball @ Vestal
URL:https://www.schedulegalaxy.com/schools/180/teams/66439/games/222890
END:VEVENT
BEGIN:VEVENT
DTSTAMP:20260422T074039Z
UID:https://www.schedulegalaxy.com/schools/180/teams/66439/games/232908
DTSTART;TZID=America/New_York:20190329T163000
CREATED;TZID=America/New_York:20190201T093849
LAST-MODIFIED;TZID=America/New_York:20190401T133504
LOCATION:W G Softball Field
SUMMARY:Girls Varsity Softball @ Watkins Glen (Watkins Glen/Odessa Montour)
URL:https://www.schedulegalaxy.com/schools/180/teams/66439/games/232908
END:VEVENT
BEGIN:VEVENT
DTSTAMP:20260422T074039Z
UID:https://www.schedulegalaxy.com/schools/180/teams/66439/games/232917
DTSTART;TZID=America/New_York:20190401T163000
CREATED;TZID=America/New_York:20190201T093850
LAST-MODIFIED;TZID=America/New_York:20190402T110314
LOCATION:Waverly High School Softball Field
SUMMARY:Girls Varsity Softball v. Dryden
URL:https://www.schedulegalaxy.com/schools/180/teams/66439/games/232917
END:VEVENT
BEGIN:VEVENT
DTSTAMP:20260422T074039Z
UID:https://www.schedulegalaxy.com/schools/180/teams/66439/games/232926
DTSTART;TZID=America/New_York:20190403T170000
CREATED;TZID=America/New_York:20190201T093850
LAST-MODIFIED;TZID=America/New_York:20190404T082310
LOCATION:Elmira Notre Dame: HS Gymnasium
SUMMARY:Girls Varsity Softball @ Notre Dame\, Elmira
URL:https://www.schedulegalaxy.com/schools/180/teams/66439/games/232926
END:VEVENT
BEGIN:VEVENT
DTSTAMP:20260422T074039Z
UID:https://www.schedulegalaxy.com/schools/180/teams/66439/games/232935
DTSTART;TZID=America/New_York:20190502T163000
CREATED;TZID=America/New_York:20190201T093850
LAST-MODIFIED;TZID=America/New_York:20190503T073644
LOCATION:Newark Valley High School
SUMMARY:Girls Varsity Softball @ Newark Valley
URL:https://www.schedulegalaxy.com/schools/180/teams/66439/games/232935
END:VEVENT
BEGIN:VEVENT
DTSTAMP:20260422T074039Z
UID:https://www.schedulegalaxy.com/schools/180/teams/66439/games/232943
DTSTART;TZID=America/New_York:20190408T163000
CREATED;TZID=America/New_York:20190201T093850
LAST-MODIFIED;TZID=America/New_York:20190409T132734
LOCATION:Waverly High School Softball Field
SUMMARY:Girls Varsity Softball v. Whitney Point
URL:https://www.schedulegalaxy.com/schools/180/teams/66439/games/232943
END:VEVENT
BEGIN:VEVENT
DTSTAMP:20260422T074039Z
UID:https://www.schedulegalaxy.com/schools/180/teams/66439/games/232953
DTSTART;TZID=America/New_York:20190410T170000
CREATED;TZID=America/New_York:20190201T093851
LAST-MODIFIED;TZID=America/New_York:20190415T153129
LOCATION:Waverly High School Softball Field
SUMMARY:Girls Varsity Softball v. Watkins Glen (Watkins Glen/Odessa Montour
 )
URL:https://www.schedulegalaxy.com/schools/180/teams/66439/games/232953
END:VEVENT
BEGIN:VEVENT
DTSTAMP:20260422T074039Z
UID:https://www.schedulegalaxy.com/schools/180/teams/66439/games/232971
DTSTART;TZID=America/New_York:20190417T163000
CREATED;TZID=America/New_York:20190201T093851
LAST-MODIFIED;TZID=America/New_York:20190422T080411
LOCATION:Waverly High School Softball Field
SUMMARY:Girls Varsity Softball v. Notre Dame\, Elmira
URL:https://www.schedulegalaxy.com/schools/180/teams/66439/games/232971
END:VEVENT
BEGIN:VEVENT
DTSTAMP:20260422T074039Z
UID:https://www.schedulegalaxy.com/schools/180/teams/66439/games/232980
DTSTART;TZID=America/New_York:20190422T163000
CREATED;TZID=America/New_York:20190201T093852
LAST-MODIFIED;TZID=America/New_York:20190423T074317
LOCATION:Waverly High School Softball Field
SUMMARY:Girls Varsity Softball v. Newark Valley
URL:https://www.schedulegalaxy.com/schools/180/teams/66439/games/232980
END:VEVENT
BEGIN:VEVENT
DTSTAMP:20260422T074039Z
UID:https://www.schedulegalaxy.com/schools/180/teams/66439/games/232988
DTSTART;TZID=America/New_York:20190424T163000
CREATED;TZID=America/New_York:20190201T093852
LAST-MODIFIED;TZID=America/New_York:20190426T092828
LOCATION:WPHS Softball Field
SUMMARY:Girls Varsity Softball @ Whitney Point
URL:https://www.schedulegalaxy.com/schools/180/teams/66439/games/232988
END:VEVENT
BEGIN:VEVENT
DTSTAMP:20260422T074039Z
UID:https://www.schedulegalaxy.com/schools/180/teams/66439/games/232996
DTSTART;TZID=America/New_York:20190425T164500
CREATED;TZID=America/New_York:20190201T093852
LAST-MODIFIED;TZID=America/New_York:20190426T092841
LOCATION:
SUMMARY:Girls Varsity Softball @ Elmira Heights
URL:https://www.schedulegalaxy.com/schools/180/teams/66439/games/232996
END:VEVENT
BEGIN:VEVENT
DTSTAMP:20260422T074039Z
UID:https://www.schedulegalaxy.com/schools/180/teams/66439/games/233024
DTSTART;TZID=America/New_York:20190517T163000
CREATED;TZID=America/New_York:20190201T093853
LAST-MODIFIED;TZID=America/New_York:20190528T085705
LOCATION:Varsity Softball Field
SUMMARY:Girls Varsity Softball @ Tioga
URL:https://www.schedulegalaxy.com/schools/180/teams/66439/games/233024
END:VEVENT
BEGIN:VEVENT
DTSTAMP:20260422T074039Z
UID:https://www.schedulegalaxy.com/schools/180/teams/66439/games/233028
DTSTART;TZID=America/New_York:20190513T163000
CREATED;TZID=America/New_York:20190201T093853
LAST-MODIFIED;TZID=America/New_York:20190513T092418
LOCATION:Waverly High School Softball Field
SUMMARY:POSTPONED: Girls Varsity Softball v. Spencer-Van Etten
URL:https://www.schedulegalaxy.com/schools/180/teams/66439/games/233028
END:VEVENT
BEGIN:VEVENT
DTSTAMP:20260422T074039Z
UID:https://www.schedulegalaxy.com/schools/180/teams/66439/games/242145
DTSTART;TZID=America/New_York:20190328T163000
CREATED;TZID=America/New_York:20190226T125422
LAST-MODIFIED;TZID=America/New_York:20190329T134016
LOCATION:Waverly High School Softball Field
SUMMARY:Girls Varsity Softball v. Towanda
URL:https://www.schedulegalaxy.com/schools/180/teams/66439/games/242145
END:VEVENT
BEGIN:VEVENT
DTSTAMP:20260422T074039Z
UID:https://www.schedulegalaxy.com/schools/180/teams/66439/games/246043
DTSTART;TZID=America/New_York:20190326T163000
CREATED;TZID=America/New_York:20190306T123648
LAST-MODIFIED;TZID=America/New_York:20190322T125455
LOCATION:Waverly High School Softball Field
SUMMARY:Girls Varsity Softball v. Elmira (Elmira Express)
URL:https://www.schedulegalaxy.com/schools/180/teams/66439/games/246043
END:VEVENT
BEGIN:VEVENT
DTSTAMP:20260422T074039Z
UID:https://www.schedulegalaxy.com/schools/180/teams/66439/games/246927
DTSTART;TZID=America/New_York:20190413T103000
CREATED;TZID=America/New_York:20190307T142429
LAST-MODIFIED;TZID=America/New_York:20190415T153330
LOCATION:Waverly High School Softball Field
SUMMARY:Girls Varsity Softball v. Athens
URL:https://www.schedulegalaxy.com/schools/180/teams/66439/games/246927
END:VEVENT
BEGIN:VEVENT
DTSTAMP:20260422T074039Z
UID:https://www.schedulegalaxy.com/schools/180/teams/66439/games/251623
DTSTART;TZID=America/New_York:20190406T103000
CREATED;TZID=America/New_York:20190320T132408
LAST-MODIFIED;TZID=America/New_York:20190422T080509
LOCATION:Mudville Softball Fields
SUMMARY:Girls Varsity Softball @ Shaker High School
URL:https://www.schedulegalaxy.com/schools/180/teams/66439/games/251623
END:VEVENT
BEGIN:VEVENT
DTSTAMP:20260422T074039Z
UID:https://www.schedulegalaxy.com/schools/180/teams/66439/games/253238
DTSTART;TZID=America/New_York:20190330T110000
CREATED;TZID=America/New_York:20190326T120133
LAST-MODIFIED;TZID=America/New_York:20190329T134030
LOCATION:C P P   High School
SUMMARY:CANCELLED: Girls Varsity Softball @ Corning-Painted Post
URL:https://www.schedulegalaxy.com/schools/180/teams/66439/games/253238
END:VEVENT
BEGIN:VEVENT
DTSTAMP:20260422T074039Z
UID:https://www.schedulegalaxy.com/schools/180/teams/66439/games/274177
DTSTART;TZID=America/New_York:20190515T150000
CREATED;TZID=America/New_York:20190509T080847
LAST-MODIFIED;TZID=America/New_York:20190516T090012
LOCATION:Cornell University
SUMMARY:Girls Varsity Softball v. TBD
URL:https://www.schedulegalaxy.com/schools/180/teams/66439/games/274177
END:VEVENT
BEGIN:VEVENT
DTSTAMP:20260422T074039Z
UID:https://www.schedulegalaxy.com/schools/180/teams/66439/games/278275
DTSTART;TZID=America/New_York:20190516T170000
CREATED;TZID=America/New_York:20190516T090210
LAST-MODIFIED;TZID=America/New_York:20190528T085604
LOCATION:Cornell University
SUMMARY:Girls Varsity Softball v. Elmira Heights
URL:https://www.schedulegalaxy.com/schools/180/teams/66439/games/278275
END:VEVENT
BEGIN:VEVENT
DTSTAMP:20260422T074039Z
UID:https://www.schedulegalaxy.com/schools/180/teams/66439/games/279347
DTSTART;TZID=America/New_York:20190522T170000
CREATED;TZID=America/New_York:20190520T121412
LAST-MODIFIED;TZID=America/New_York:20190520T121444
LOCATION:EDA Softball Field
SUMMARY:Girls Varsity Softball @ Elmira (Elmira Express)
URL:https://www.schedulegalaxy.com/schools/180/teams/66439/games/279347
END:VEVENT
BEGIN:VEVENT
DTSTAMP:20260422T074039Z
UID:https://www.schedulegalaxy.com/schools/180/teams/66439/games/281568
DTSTART;TZID=America/New_York:20190531T163000
CREATED;TZID=America/New_York:20190528T085256
LAST-MODIFIED;TZID=America/New_York:20190603T104014
LOCATION:Waverly High School Softball Field
SUMMARY:Girls Varsity Softball v. Windsor
URL:https://www.schedulegalaxy.com/schools/180/teams/66439/games/281568
END:VEVENT
BEGIN:VEVENT
DTSTAMP:20260422T074039Z
UID:https://www.schedulegalaxy.com/schools/180/teams/66439/games/283813
DTSTART;TZID=America/New_York:20190601T140000
CREATED;TZID=America/New_York:20190603T104112
LAST-MODIFIED;TZID=America/New_York:20190603T104125
LOCATION:
SUMMARY:Girls Varsity Softball @ Susquehanna Valley
URL:https://www.schedulegalaxy.com/schools/180/teams/66439/games/283813
END:VEVENT
BEGIN:VEVENT
DTSTAMP:20260422T074039Z
UID:https://www.schedulegalaxy.com/schools/180/teams/66439/games/284363
DTSTART;TZID=America/New_York:20190607T173000
CREATED;TZID=America/New_York:20190604T094604
LAST-MODIFIED;TZID=America/New_York:20190604T094920
LOCATION:Carrier Park - East Syracuse\, NY
SUMMARY:Girls Varsity Softball v. TBD
URL:https://www.schedulegalaxy.com/schools/180/teams/66439/games/284363
END:VEVENT
END:VCALENDAR
