BEGIN:VCALENDAR
VERSION:2.0
PRODID:icalendar-ruby
CALSCALE:GREGORIAN
METHOD:PUBLISH
BEGIN:VTIMEZONE
TZID:America/New_York
BEGIN:DAYLIGHT
DTSTART:20180311T030000
TZOFFSETFROM:-0500
TZOFFSETTO:-0400
RRULE:FREQ=YEARLY;BYDAY=2SU;BYMONTH=3
TZNAME:EDT
END:DAYLIGHT
BEGIN:STANDARD
DTSTART:20181104T010000
TZOFFSETFROM:-0400
TZOFFSETTO:-0500
RRULE:FREQ=YEARLY;BYDAY=1SU;BYMONTH=11
TZNAME:EST
END:STANDARD
END:VTIMEZONE
BEGIN:VTIMEZONE
TZID:America/New_York
BEGIN:DAYLIGHT
DTSTART:20180311T030000
TZOFFSETFROM:-0500
TZOFFSETTO:-0400
RRULE:FREQ=YEARLY;BYDAY=2SU;BYMONTH=3
TZNAME:EDT
END:DAYLIGHT
BEGIN:STANDARD
DTSTART:20181104T010000
TZOFFSETFROM:-0400
TZOFFSETTO:-0500
RRULE:FREQ=YEARLY;BYDAY=1SU;BYMONTH=11
TZNAME:EST
END:STANDARD
END:VTIMEZONE
BEGIN:VTIMEZONE
TZID:America/New_York
BEGIN:DAYLIGHT
DTSTART:20180311T030000
TZOFFSETFROM:-0500
TZOFFSETTO:-0400
RRULE:FREQ=YEARLY;BYDAY=2SU;BYMONTH=3
TZNAME:EDT
END:DAYLIGHT
BEGIN:STANDARD
DTSTART:20181104T010000
TZOFFSETFROM:-0400
TZOFFSETTO:-0500
RRULE:FREQ=YEARLY;BYDAY=1SU;BYMONTH=11
TZNAME:EST
END:STANDARD
END:VTIMEZONE
BEGIN:VTIMEZONE
TZID:America/New_York
BEGIN:DAYLIGHT
DTSTART:20180311T030000
TZOFFSETFROM:-0500
TZOFFSETTO:-0400
RRULE:FREQ=YEARLY;BYDAY=2SU;BYMONTH=3
TZNAME:EDT
END:DAYLIGHT
BEGIN:STANDARD
DTSTART:20181104T010000
TZOFFSETFROM:-0400
TZOFFSETTO:-0500
RRULE:FREQ=YEARLY;BYDAY=1SU;BYMONTH=11
TZNAME:EST
END:STANDARD
END:VTIMEZONE
BEGIN:VTIMEZONE
TZID:America/New_York
BEGIN:DAYLIGHT
DTSTART:20180311T030000
TZOFFSETFROM:-0500
TZOFFSETTO:-0400
RRULE:FREQ=YEARLY;BYDAY=2SU;BYMONTH=3
TZNAME:EDT
END:DAYLIGHT
BEGIN:STANDARD
DTSTART:20181104T010000
TZOFFSETFROM:-0400
TZOFFSETTO:-0500
RRULE:FREQ=YEARLY;BYDAY=1SU;BYMONTH=11
TZNAME:EST
END:STANDARD
END:VTIMEZONE
BEGIN:VTIMEZONE
TZID:America/New_York
BEGIN:DAYLIGHT
DTSTART:20180311T030000
TZOFFSETFROM:-0500
TZOFFSETTO:-0400
RRULE:FREQ=YEARLY;BYDAY=2SU;BYMONTH=3
TZNAME:EDT
END:DAYLIGHT
BEGIN:STANDARD
DTSTART:20181104T010000
TZOFFSETFROM:-0400
TZOFFSETTO:-0500
RRULE:FREQ=YEARLY;BYDAY=1SU;BYMONTH=11
TZNAME:EST
END:STANDARD
END:VTIMEZONE
BEGIN:VTIMEZONE
TZID:America/New_York
BEGIN:DAYLIGHT
DTSTART:20180311T030000
TZOFFSETFROM:-0500
TZOFFSETTO:-0400
RRULE:FREQ=YEARLY;BYDAY=2SU;BYMONTH=3
TZNAME:EDT
END:DAYLIGHT
BEGIN:STANDARD
DTSTART:20181104T010000
TZOFFSETFROM:-0400
TZOFFSETTO:-0500
RRULE:FREQ=YEARLY;BYDAY=1SU;BYMONTH=11
TZNAME:EST
END:STANDARD
END:VTIMEZONE
BEGIN:VEVENT
DTSTAMP:20260425T005313Z
UID:https://www.schedulegalaxy.com/schools/178/teams/65618/meets/117745
DTSTART;TZID=America/New_York:20180514T160000
CREATED;TZID=America/New_York:20180119T102933
LAST-MODIFIED;TZID=America/New_York:20180511T134858
LOCATION:Walton Track
SUMMARY:Meet - Boys 7th/8th Outdoor Track
URL:https://www.schedulegalaxy.com/schools/178/teams/65618/meets/117745
END:VEVENT
BEGIN:VEVENT
DTSTAMP:20260425T005313Z
UID:https://www.schedulegalaxy.com/schools/178/teams/65618/meets/119345
DTSTART;TZID=America/New_York:20180426T163000
CREATED;TZID=America/New_York:20180126T090851
LAST-MODIFIED;TZID=America/New_York:20180303T192046
LOCATION:Unatego Multipurpose Stadium Field
SUMMARY:Meet - Boys 7th/8th Outdoor Track
URL:https://www.schedulegalaxy.com/schools/178/teams/65618/meets/119345
END:VEVENT
BEGIN:VEVENT
DTSTAMP:20260425T005313Z
UID:https://www.schedulegalaxy.com/schools/178/teams/65618/meets/119481
DTSTART;TZID=America/New_York:20180419T163000
CREATED;TZID=America/New_York:20180126T143812
LAST-MODIFIED;TZID=America/New_York:20180418T100918
LOCATION:Walton Track
SUMMARY:POSTPONED: Meet - Boys 7th/8th Outdoor Track
URL:https://www.schedulegalaxy.com/schools/178/teams/65618/meets/119481
END:VEVENT
BEGIN:VEVENT
DTSTAMP:20260425T005313Z
UID:https://www.schedulegalaxy.com/schools/178/teams/65618/games/119489
DTSTART;TZID=America/New_York:20180518T161500
CREATED;TZID=America/New_York:20180126T153201
LAST-MODIFIED;TZID=America/New_York:20180511T134443
LOCATION:Track and Field Complex
SUMMARY:Boys 7th/8th Outdoor Track Oneonta\, Deposit (Deposit-Hancock)\, Ba
 inbridge Guilford\, Unadilla Valley (UV)\, Oxford (Greene/Oxford)\, Harpur
 sville (Afton/Harpur)\, Greene (Greene/Oxford)\, Sidney @ Delaware Academy
URL:https://www.schedulegalaxy.com/schools/178/teams/65618/games/119489
END:VEVENT
BEGIN:VEVENT
DTSTAMP:20260425T005313Z
UID:https://www.schedulegalaxy.com/schools/178/teams/65618/games/134261
DTSTART;TZID=America/New_York:20180521T163000
CREATED;TZID=America/New_York:20180316T131221
LAST-MODIFIED;TZID=America/New_York:20180514T120634
LOCATION:Ron O'Connell Athletic Stadium
SUMMARY:Boys 7th/8th Outdoor Track Unatego (Unatego/Franklin)\, Delaware Ac
 ademy\, Sidney @ Deposit (Deposit-Hancock)
URL:https://www.schedulegalaxy.com/schools/178/teams/65618/games/134261
END:VEVENT
BEGIN:VEVENT
DTSTAMP:20260425T005313Z
UID:https://www.schedulegalaxy.com/schools/178/teams/65618/games/134676
DTSTART;TZID=America/New_York:20180523T163000
CREATED;TZID=America/New_York:20180320T115241
LAST-MODIFIED;TZID=America/New_York:20180514T121152
LOCATION:Bainbridge-Guilford Track and Field Complex
SUMMARY:Boys 7th/8th Outdoor Track Deposit (Deposit-Hancock)\, Harpursville
  (Afton/Harpur)\, Oxford (Greene/Oxford)\, Unatego (Unatego/Franklin)\, Un
 adilla Valley (UV)\, Delaware Academy\, Sidney @ Bainbridge Guilford
URL:https://www.schedulegalaxy.com/schools/178/teams/65618/games/134676
END:VEVENT
BEGIN:VEVENT
DTSTAMP:20260425T005313Z
UID:https://www.schedulegalaxy.com/schools/178/teams/65618/games/144847
DTSTART;TZID=America/New_York:20180504T161500
CREATED;TZID=America/New_York:20180426T131056
LAST-MODIFIED;TZID=America/New_York:20180426T131118
LOCATION:Dr. Mack MS
SUMMARY:Boys 7th/8th Outdoor Track @ Downsville (Walton/Downsville)
URL:https://www.schedulegalaxy.com/schools/178/teams/65618/games/144847
END:VEVENT
END:VCALENDAR
