BEGIN:VCALENDAR
VERSION:2.0
PRODID:icalendar-ruby
CALSCALE:GREGORIAN
METHOD:PUBLISH
BEGIN:VTIMEZONE
TZID:America/New_York
BEGIN:DAYLIGHT
DTSTART:20180311T030000
TZOFFSETFROM:-0500
TZOFFSETTO:-0400
RRULE:FREQ=YEARLY;BYDAY=2SU;BYMONTH=3
TZNAME:EDT
END:DAYLIGHT
BEGIN:STANDARD
DTSTART:20171105T010000
TZOFFSETFROM:-0400
TZOFFSETTO:-0500
RRULE:FREQ=YEARLY;BYDAY=1SU;BYMONTH=11
TZNAME:EST
END:STANDARD
END:VTIMEZONE
BEGIN:VTIMEZONE
TZID:America/New_York
BEGIN:DAYLIGHT
DTSTART:20180311T030000
TZOFFSETFROM:-0500
TZOFFSETTO:-0400
RRULE:FREQ=YEARLY;BYDAY=2SU;BYMONTH=3
TZNAME:EDT
END:DAYLIGHT
BEGIN:STANDARD
DTSTART:20171105T010000
TZOFFSETFROM:-0400
TZOFFSETTO:-0500
RRULE:FREQ=YEARLY;BYDAY=1SU;BYMONTH=11
TZNAME:EST
END:STANDARD
END:VTIMEZONE
BEGIN:VTIMEZONE
TZID:America/New_York
BEGIN:DAYLIGHT
DTSTART:20180311T030000
TZOFFSETFROM:-0500
TZOFFSETTO:-0400
RRULE:FREQ=YEARLY;BYDAY=2SU;BYMONTH=3
TZNAME:EDT
END:DAYLIGHT
BEGIN:STANDARD
DTSTART:20171105T010000
TZOFFSETFROM:-0400
TZOFFSETTO:-0500
RRULE:FREQ=YEARLY;BYDAY=1SU;BYMONTH=11
TZNAME:EST
END:STANDARD
END:VTIMEZONE
BEGIN:VTIMEZONE
TZID:America/New_York
BEGIN:DAYLIGHT
DTSTART:20180311T030000
TZOFFSETFROM:-0500
TZOFFSETTO:-0400
RRULE:FREQ=YEARLY;BYDAY=2SU;BYMONTH=3
TZNAME:EDT
END:DAYLIGHT
BEGIN:STANDARD
DTSTART:20171105T010000
TZOFFSETFROM:-0400
TZOFFSETTO:-0500
RRULE:FREQ=YEARLY;BYDAY=1SU;BYMONTH=11
TZNAME:EST
END:STANDARD
END:VTIMEZONE
BEGIN:VTIMEZONE
TZID:America/New_York
BEGIN:DAYLIGHT
DTSTART:20180311T030000
TZOFFSETFROM:-0500
TZOFFSETTO:-0400
RRULE:FREQ=YEARLY;BYDAY=2SU;BYMONTH=3
TZNAME:EDT
END:DAYLIGHT
BEGIN:STANDARD
DTSTART:20171105T010000
TZOFFSETFROM:-0400
TZOFFSETTO:-0500
RRULE:FREQ=YEARLY;BYDAY=1SU;BYMONTH=11
TZNAME:EST
END:STANDARD
END:VTIMEZONE
BEGIN:VTIMEZONE
TZID:America/New_York
BEGIN:DAYLIGHT
DTSTART:20180311T030000
TZOFFSETFROM:-0500
TZOFFSETTO:-0400
RRULE:FREQ=YEARLY;BYDAY=2SU;BYMONTH=3
TZNAME:EDT
END:DAYLIGHT
BEGIN:STANDARD
DTSTART:20171105T010000
TZOFFSETFROM:-0400
TZOFFSETTO:-0500
RRULE:FREQ=YEARLY;BYDAY=1SU;BYMONTH=11
TZNAME:EST
END:STANDARD
END:VTIMEZONE
BEGIN:VTIMEZONE
TZID:America/New_York
BEGIN:DAYLIGHT
DTSTART:20180311T030000
TZOFFSETFROM:-0500
TZOFFSETTO:-0400
RRULE:FREQ=YEARLY;BYDAY=2SU;BYMONTH=3
TZNAME:EDT
END:DAYLIGHT
BEGIN:STANDARD
DTSTART:20171105T010000
TZOFFSETFROM:-0400
TZOFFSETTO:-0500
RRULE:FREQ=YEARLY;BYDAY=1SU;BYMONTH=11
TZNAME:EST
END:STANDARD
END:VTIMEZONE
BEGIN:VTIMEZONE
TZID:America/New_York
BEGIN:DAYLIGHT
DTSTART:20180311T030000
TZOFFSETFROM:-0500
TZOFFSETTO:-0400
RRULE:FREQ=YEARLY;BYDAY=2SU;BYMONTH=3
TZNAME:EDT
END:DAYLIGHT
BEGIN:STANDARD
DTSTART:20171105T010000
TZOFFSETFROM:-0400
TZOFFSETTO:-0500
RRULE:FREQ=YEARLY;BYDAY=1SU;BYMONTH=11
TZNAME:EST
END:STANDARD
END:VTIMEZONE
BEGIN:VTIMEZONE
TZID:America/New_York
BEGIN:DAYLIGHT
DTSTART:20180311T030000
TZOFFSETFROM:-0500
TZOFFSETTO:-0400
RRULE:FREQ=YEARLY;BYDAY=2SU;BYMONTH=3
TZNAME:EDT
END:DAYLIGHT
BEGIN:STANDARD
DTSTART:20171105T010000
TZOFFSETFROM:-0400
TZOFFSETTO:-0500
RRULE:FREQ=YEARLY;BYDAY=1SU;BYMONTH=11
TZNAME:EST
END:STANDARD
END:VTIMEZONE
BEGIN:VTIMEZONE
TZID:America/New_York
BEGIN:DAYLIGHT
DTSTART:20180311T030000
TZOFFSETFROM:-0500
TZOFFSETTO:-0400
RRULE:FREQ=YEARLY;BYDAY=2SU;BYMONTH=3
TZNAME:EDT
END:DAYLIGHT
BEGIN:STANDARD
DTSTART:20171105T010000
TZOFFSETFROM:-0400
TZOFFSETTO:-0500
RRULE:FREQ=YEARLY;BYDAY=1SU;BYMONTH=11
TZNAME:EST
END:STANDARD
END:VTIMEZONE
BEGIN:VEVENT
DTSTAMP:20260423T201915Z
UID:https://www.schedulegalaxy.com/schools/178/teams/65430/games/85573
DTSTART;TZID=America/New_York:20171213T163000
CREATED;TZID=America/New_York:20170913T090906
LAST-MODIFIED;TZID=America/New_York:20171031T092803
LOCATION:
SUMMARY:Girls (Walton/Downsville Orange) 7th Basketball @ Oxford
URL:https://www.schedulegalaxy.com/schools/178/teams/65430/games/85573
END:VEVENT
BEGIN:VEVENT
DTSTAMP:20260423T201915Z
UID:https://www.schedulegalaxy.com/schools/178/teams/65430/games/85581
DTSTART;TZID=America/New_York:20171218T163000
CREATED;TZID=America/New_York:20170913T090906
LAST-MODIFIED;TZID=America/New_York:20170913T091024
LOCATION:
SUMMARY:Girls (Walton/Downsville Orange) 7th Basketball v. Unadilla Valley 
 (UV/GMU)
URL:https://www.schedulegalaxy.com/schools/178/teams/65430/games/85581
END:VEVENT
BEGIN:VEVENT
DTSTAMP:20260423T201915Z
UID:https://www.schedulegalaxy.com/schools/178/teams/65430/games/85582
DTSTART;TZID=America/New_York:20180103T163000
CREATED;TZID=America/New_York:20170913T090906
LAST-MODIFIED;TZID=America/New_York:20221212T134416
LOCATION:
SUMMARY:Girls (Walton/Downsville Orange) 7th Basketball @ Greene
URL:https://www.schedulegalaxy.com/schools/178/teams/65430/games/85582
END:VEVENT
BEGIN:VEVENT
DTSTAMP:20260423T201915Z
UID:https://www.schedulegalaxy.com/schools/178/teams/65430/games/85586
DTSTART;TZID=America/New_York:20180110T163000
CREATED;TZID=America/New_York:20170913T090906
LAST-MODIFIED;TZID=America/New_York:20170913T091024
LOCATION:
SUMMARY:Girls (Walton/Downsville Orange) 7th Basketball v. Delaware Academy
URL:https://www.schedulegalaxy.com/schools/178/teams/65430/games/85586
END:VEVENT
BEGIN:VEVENT
DTSTAMP:20260423T201915Z
UID:https://www.schedulegalaxy.com/schools/178/teams/65430/games/85591
DTSTART;TZID=America/New_York:20180131T163000
CREATED;TZID=America/New_York:20170913T090907
LAST-MODIFIED;TZID=America/New_York:20180117T113207
LOCATION:Walton MS Gym
SUMMARY:Girls (Walton/Downsville Orange) 7th Basketball v. Sidney
URL:https://www.schedulegalaxy.com/schools/178/teams/65430/games/85591
END:VEVENT
BEGIN:VEVENT
DTSTAMP:20260423T201915Z
UID:https://www.schedulegalaxy.com/schools/178/teams/65430/games/85597
DTSTART;TZID=America/New_York:20180122T163000
CREATED;TZID=America/New_York:20170913T090907
LAST-MODIFIED;TZID=America/New_York:20170927T153136
LOCATION:Walton MS Gym
SUMMARY:Girls (Walton/Downsville Orange) 7th Basketball v. Oxford
URL:https://www.schedulegalaxy.com/schools/178/teams/65430/games/85597
END:VEVENT
BEGIN:VEVENT
DTSTAMP:20260423T201915Z
UID:https://www.schedulegalaxy.com/schools/178/teams/65430/games/85599
DTSTART;TZID=America/New_York:20180124T173000
CREATED;TZID=America/New_York:20170913T090907
LAST-MODIFIED;TZID=America/New_York:20180119T102412
LOCATION:Greenlawn Elementary Gym
SUMMARY:Girls (Walton/Downsville Orange) 7th Basketball @ Bainbridge Guilfo
 rd
URL:https://www.schedulegalaxy.com/schools/178/teams/65430/games/85599
END:VEVENT
BEGIN:VEVENT
DTSTAMP:20260423T201915Z
UID:https://www.schedulegalaxy.com/schools/178/teams/65430/games/85606
DTSTART;TZID=America/New_York:20180201T163000
CREATED;TZID=America/New_York:20170913T090907
LAST-MODIFIED;TZID=America/New_York:20171031T093050
LOCATION:
SUMMARY:Girls (Walton/Downsville Orange) 7th Basketball @ Delaware Academy
URL:https://www.schedulegalaxy.com/schools/178/teams/65430/games/85606
END:VEVENT
BEGIN:VEVENT
DTSTAMP:20260423T201915Z
UID:https://www.schedulegalaxy.com/schools/178/teams/65430/games/113443
DTSTART;TZID=America/New_York:20180127T090000
CREATED;TZID=America/New_York:20171215T093805
LAST-MODIFIED;TZID=America/New_York:20171216T095543
LOCATION:Deposit Elementary School Gym
SUMMARY:Girls (Walton/Downsville Orange) 7th Basketball v. Deposit (Deposit
 -Hancock)
URL:https://www.schedulegalaxy.com/schools/178/teams/65430/games/113443
END:VEVENT
BEGIN:VEVENT
DTSTAMP:20260423T201915Z
UID:https://www.schedulegalaxy.com/schools/178/teams/65430/games/113448
DTSTART;TZID=America/New_York:20180108T173000
CREATED;TZID=America/New_York:20171215T094108
LAST-MODIFIED;TZID=America/New_York:20171215T094114
LOCATION:Walton MS Gym
SUMMARY:Girls (Walton/Downsville Orange) 7th Basketball v. Deposit (Deposit
 -Hancock)
URL:https://www.schedulegalaxy.com/schools/178/teams/65430/games/113448
END:VEVENT
END:VCALENDAR
