BEGIN:VCALENDAR
VERSION:2.0
PRODID:icalendar-ruby
CALSCALE:GREGORIAN
METHOD:PUBLISH
BEGIN:VTIMEZONE
TZID:America/New_York
BEGIN:DAYLIGHT
DTSTART:20260308T030000
TZOFFSETFROM:-0500
TZOFFSETTO:-0400
RRULE:FREQ=YEARLY;BYDAY=2SU;BYMONTH=3
TZNAME:EDT
END:DAYLIGHT
BEGIN:STANDARD
DTSTART:20251102T010000
TZOFFSETFROM:-0400
TZOFFSETTO:-0500
RRULE:FREQ=YEARLY;BYDAY=1SU;BYMONTH=11
TZNAME:EST
END:STANDARD
END:VTIMEZONE
BEGIN:VTIMEZONE
TZID:America/New_York
BEGIN:DAYLIGHT
DTSTART:20260308T030000
TZOFFSETFROM:-0500
TZOFFSETTO:-0400
RRULE:FREQ=YEARLY;BYDAY=2SU;BYMONTH=3
TZNAME:EDT
END:DAYLIGHT
BEGIN:STANDARD
DTSTART:20261101T010000
TZOFFSETFROM:-0400
TZOFFSETTO:-0500
RRULE:FREQ=YEARLY;BYDAY=1SU;BYMONTH=11
TZNAME:EST
END:STANDARD
END:VTIMEZONE
BEGIN:VTIMEZONE
TZID:America/New_York
BEGIN:DAYLIGHT
DTSTART:20260308T030000
TZOFFSETFROM:-0500
TZOFFSETTO:-0400
RRULE:FREQ=YEARLY;BYDAY=2SU;BYMONTH=3
TZNAME:EDT
END:DAYLIGHT
BEGIN:STANDARD
DTSTART:20261101T010000
TZOFFSETFROM:-0400
TZOFFSETTO:-0500
RRULE:FREQ=YEARLY;BYDAY=1SU;BYMONTH=11
TZNAME:EST
END:STANDARD
END:VTIMEZONE
BEGIN:VTIMEZONE
TZID:America/New_York
BEGIN:DAYLIGHT
DTSTART:20260308T030000
TZOFFSETFROM:-0500
TZOFFSETTO:-0400
RRULE:FREQ=YEARLY;BYDAY=2SU;BYMONTH=3
TZNAME:EDT
END:DAYLIGHT
BEGIN:STANDARD
DTSTART:20251102T010000
TZOFFSETFROM:-0400
TZOFFSETTO:-0500
RRULE:FREQ=YEARLY;BYDAY=1SU;BYMONTH=11
TZNAME:EST
END:STANDARD
END:VTIMEZONE
BEGIN:VTIMEZONE
TZID:America/New_York
BEGIN:DAYLIGHT
DTSTART:20260308T030000
TZOFFSETFROM:-0500
TZOFFSETTO:-0400
RRULE:FREQ=YEARLY;BYDAY=2SU;BYMONTH=3
TZNAME:EDT
END:DAYLIGHT
BEGIN:STANDARD
DTSTART:20251102T010000
TZOFFSETFROM:-0400
TZOFFSETTO:-0500
RRULE:FREQ=YEARLY;BYDAY=1SU;BYMONTH=11
TZNAME:EST
END:STANDARD
END:VTIMEZONE
BEGIN:VTIMEZONE
TZID:America/New_York
BEGIN:DAYLIGHT
DTSTART:20260308T030000
TZOFFSETFROM:-0500
TZOFFSETTO:-0400
RRULE:FREQ=YEARLY;BYDAY=2SU;BYMONTH=3
TZNAME:EDT
END:DAYLIGHT
BEGIN:STANDARD
DTSTART:20251102T010000
TZOFFSETFROM:-0400
TZOFFSETTO:-0500
RRULE:FREQ=YEARLY;BYDAY=1SU;BYMONTH=11
TZNAME:EST
END:STANDARD
END:VTIMEZONE
BEGIN:VTIMEZONE
TZID:America/New_York
BEGIN:DAYLIGHT
DTSTART:20260308T030000
TZOFFSETFROM:-0500
TZOFFSETTO:-0400
RRULE:FREQ=YEARLY;BYDAY=2SU;BYMONTH=3
TZNAME:EDT
END:DAYLIGHT
BEGIN:STANDARD
DTSTART:20261101T010000
TZOFFSETFROM:-0400
TZOFFSETTO:-0500
RRULE:FREQ=YEARLY;BYDAY=1SU;BYMONTH=11
TZNAME:EST
END:STANDARD
END:VTIMEZONE
BEGIN:VTIMEZONE
TZID:America/New_York
BEGIN:DAYLIGHT
DTSTART:20260308T030000
TZOFFSETFROM:-0500
TZOFFSETTO:-0400
RRULE:FREQ=YEARLY;BYDAY=2SU;BYMONTH=3
TZNAME:EDT
END:DAYLIGHT
BEGIN:STANDARD
DTSTART:20251102T010000
TZOFFSETFROM:-0400
TZOFFSETTO:-0500
RRULE:FREQ=YEARLY;BYDAY=1SU;BYMONTH=11
TZNAME:EST
END:STANDARD
END:VTIMEZONE
BEGIN:VTIMEZONE
TZID:America/New_York
BEGIN:DAYLIGHT
DTSTART:20260308T030000
TZOFFSETFROM:-0500
TZOFFSETTO:-0400
RRULE:FREQ=YEARLY;BYDAY=2SU;BYMONTH=3
TZNAME:EDT
END:DAYLIGHT
BEGIN:STANDARD
DTSTART:20251102T010000
TZOFFSETFROM:-0400
TZOFFSETTO:-0500
RRULE:FREQ=YEARLY;BYDAY=1SU;BYMONTH=11
TZNAME:EST
END:STANDARD
END:VTIMEZONE
BEGIN:VTIMEZONE
TZID:America/New_York
BEGIN:DAYLIGHT
DTSTART:20260308T030000
TZOFFSETFROM:-0500
TZOFFSETTO:-0400
RRULE:FREQ=YEARLY;BYDAY=2SU;BYMONTH=3
TZNAME:EDT
END:DAYLIGHT
BEGIN:STANDARD
DTSTART:20251102T010000
TZOFFSETFROM:-0400
TZOFFSETTO:-0500
RRULE:FREQ=YEARLY;BYDAY=1SU;BYMONTH=11
TZNAME:EST
END:STANDARD
END:VTIMEZONE
BEGIN:VTIMEZONE
TZID:America/New_York
BEGIN:DAYLIGHT
DTSTART:20260308T030000
TZOFFSETFROM:-0500
TZOFFSETTO:-0400
RRULE:FREQ=YEARLY;BYDAY=2SU;BYMONTH=3
TZNAME:EDT
END:DAYLIGHT
BEGIN:STANDARD
DTSTART:20251102T010000
TZOFFSETFROM:-0400
TZOFFSETTO:-0500
RRULE:FREQ=YEARLY;BYDAY=1SU;BYMONTH=11
TZNAME:EST
END:STANDARD
END:VTIMEZONE
BEGIN:VTIMEZONE
TZID:America/New_York
BEGIN:DAYLIGHT
DTSTART:20260308T030000
TZOFFSETFROM:-0500
TZOFFSETTO:-0400
RRULE:FREQ=YEARLY;BYDAY=2SU;BYMONTH=3
TZNAME:EDT
END:DAYLIGHT
BEGIN:STANDARD
DTSTART:20261101T010000
TZOFFSETFROM:-0400
TZOFFSETTO:-0500
RRULE:FREQ=YEARLY;BYDAY=1SU;BYMONTH=11
TZNAME:EST
END:STANDARD
END:VTIMEZONE
BEGIN:VTIMEZONE
TZID:America/New_York
BEGIN:DAYLIGHT
DTSTART:20260308T030000
TZOFFSETFROM:-0500
TZOFFSETTO:-0400
RRULE:FREQ=YEARLY;BYDAY=2SU;BYMONTH=3
TZNAME:EDT
END:DAYLIGHT
BEGIN:STANDARD
DTSTART:20261101T010000
TZOFFSETFROM:-0400
TZOFFSETTO:-0500
RRULE:FREQ=YEARLY;BYDAY=1SU;BYMONTH=11
TZNAME:EST
END:STANDARD
END:VTIMEZONE
BEGIN:VEVENT
DTSTAMP:20260425T222243Z
UID:https://www.schedulegalaxy.com/schools/17708/teams/8939087/games/146262
 5
DTSTART;TZID=America/New_York:20260207T110000
DTEND;TZID=America/New_York:20260207T120000
CREATED;TZID=America/New_York:20260302T114347
LAST-MODIFIED;TZID=America/New_York:20260310T113758
LOCATION:John R. King
SUMMARY:Boys 3rd/4th Basketball @ Mary Mcleod Bethune Elementary Middle Sch
 ool
URL:https://www.schedulegalaxy.com/schools/17708/teams/8939087/games/146262
 5
END:VEVENT
BEGIN:VEVENT
DTSTAMP:20260425T222243Z
UID:https://www.schedulegalaxy.com/schools/17708/teams/8939087/games/146267
 7
DTSTART;TZID=America/New_York:20260314T130000
DTEND;TZID=America/New_York:20260314T140000
CREATED;TZID=America/New_York:20260302T120254
LAST-MODIFIED;TZID=America/New_York:20260323T071640
LOCATION:John R. King
SUMMARY:Boys 3rd/4th Basketball @ Bates Academy
URL:https://www.schedulegalaxy.com/schools/17708/teams/8939087/games/146267
 7
END:VEVENT
BEGIN:VEVENT
DTSTAMP:20260425T222243Z
UID:https://www.schedulegalaxy.com/schools/17708/teams/8939087/games/146271
 9
DTSTART;TZID=America/New_York:20260328T110000
DTEND;TZID=America/New_York:20260328T120000
CREATED;TZID=America/New_York:20260302T122659
LAST-MODIFIED;TZID=America/New_York:20260302T122659
LOCATION:John R. King
SUMMARY:Boys 3rd/4th Basketball @ Burns Elementary Middle School
URL:https://www.schedulegalaxy.com/schools/17708/teams/8939087/games/146271
 9
END:VEVENT
BEGIN:VEVENT
DTSTAMP:20260425T222243Z
UID:https://www.schedulegalaxy.com/schools/17708/teams/8939087/games/146275
 0
DTSTART;TZID=America/New_York:20260214T100000
DTEND;TZID=America/New_York:20260214T110000
CREATED;TZID=America/New_York:20260302T123600
LAST-MODIFIED;TZID=America/New_York:20260310T111216
LOCATION:John R. King
SUMMARY:Boys 3rd/4th Basketball v. John R King Academic And Performing Arts
  Academy
URL:https://www.schedulegalaxy.com/schools/17708/teams/8939087/games/146275
 0
END:VEVENT
BEGIN:VEVENT
DTSTAMP:20260425T222243Z
UID:https://www.schedulegalaxy.com/schools/17708/teams/8939087/games/146275
 5
DTSTART;TZID=America/New_York:20260228T160000
DTEND;TZID=America/New_York:20260228T170000
CREATED;TZID=America/New_York:20260302T123701
LAST-MODIFIED;TZID=America/New_York:20260310T113836
LOCATION:
SUMMARY:Boys 3rd/4th Basketball @ Foreign Language Immersion And Cultural S
 tudies
URL:https://www.schedulegalaxy.com/schools/17708/teams/8939087/games/146275
 5
END:VEVENT
BEGIN:VEVENT
DTSTAMP:20260425T222243Z
UID:https://www.schedulegalaxy.com/schools/17708/teams/8939087/games/146277
 0
DTSTART;TZID=America/New_York:20260307T110000
DTEND;TZID=America/New_York:20260307T120000
CREATED;TZID=America/New_York:20260302T123824
LAST-MODIFIED;TZID=America/New_York:20260323T072027
LOCATION:John R. King
SUMMARY:Boys 3rd/4th Basketball @ Edison Elementary School
URL:https://www.schedulegalaxy.com/schools/17708/teams/8939087/games/146277
 0
END:VEVENT
BEGIN:VEVENT
DTSTAMP:20260425T222243Z
UID:https://www.schedulegalaxy.com/schools/17708/teams/8939087/games/146277
 8
DTSTART;TZID=America/New_York:20260321T100000
DTEND;TZID=America/New_York:20260321T110000
CREATED;TZID=America/New_York:20260302T124002
LAST-MODIFIED;TZID=America/New_York:20260326T155902
LOCATION:John R. King
SUMMARY:Boys 3rd/4th Basketball @ The School At Marygrove
URL:https://www.schedulegalaxy.com/schools/17708/teams/8939087/games/146277
 8
END:VEVENT
BEGIN:VEVENT
DTSTAMP:20260425T222243Z
UID:https://www.schedulegalaxy.com/schools/17708/teams/8939089/games/146603
 0
DTSTART;TZID=America/New_York:20260307T090000
DTEND;TZID=America/New_York:20260307T220000
CREATED;TZID=America/New_York:20260305T154358
LAST-MODIFIED;TZID=America/New_York:20260307T103729
LOCATION:Central High School
SUMMARY:Boys 5th/6th Basketball @ Mann Learning Community
URL:https://www.schedulegalaxy.com/schools/17708/teams/8939089/games/146603
 0
END:VEVENT
BEGIN:VEVENT
DTSTAMP:20260425T222243Z
UID:https://www.schedulegalaxy.com/schools/17708/teams/8939089/games/146605
 6
DTSTART;TZID=America/New_York:20260131T000000
CREATED;TZID=America/New_York:20260305T155122
LAST-MODIFIED;TZID=America/New_York:20260305T155211
LOCATION:
SUMMARY:Boys 5th/6th Basketball @ Earhart Elementary-Middle School
URL:https://www.schedulegalaxy.com/schools/17708/teams/8939089/games/146605
 6
END:VEVENT
BEGIN:VEVENT
DTSTAMP:20260425T222243Z
UID:https://www.schedulegalaxy.com/schools/17708/teams/8939089/games/146605
 7
DTSTART;TZID=America/New_York:20260214T100000
DTEND;TZID=America/New_York:20260214T110000
CREATED;TZID=America/New_York:20260305T155333
LAST-MODIFIED;TZID=America/New_York:20260305T155407
LOCATION:Central High School
SUMMARY:Boys 5th/6th Basketball v. Carver Stem Academy
URL:https://www.schedulegalaxy.com/schools/17708/teams/8939089/games/146605
 7
END:VEVENT
BEGIN:VEVENT
DTSTAMP:20260425T222243Z
UID:https://www.schedulegalaxy.com/schools/17708/teams/8939089/games/146605
 8
DTSTART;TZID=America/New_York:20260207T000000
CREATED;TZID=America/New_York:20260305T155608
LAST-MODIFIED;TZID=America/New_York:20260305T155638
LOCATION:
SUMMARY:Boys 5th/6th Basketball @ Munger Elementary Middle School
URL:https://www.schedulegalaxy.com/schools/17708/teams/8939089/games/146605
 8
END:VEVENT
BEGIN:VEVENT
DTSTAMP:20260425T222243Z
UID:https://www.schedulegalaxy.com/schools/17708/teams/8939089/games/146606
 1
DTSTART;TZID=America/New_York:20260328T140000
DTEND;TZID=America/New_York:20260328T150000
CREATED;TZID=America/New_York:20260305T155953
LAST-MODIFIED;TZID=America/New_York:20260305T155953
LOCATION:Central High School
SUMMARY:Boys 5th/6th Basketball @ Durfee Elementary-Middle School
URL:https://www.schedulegalaxy.com/schools/17708/teams/8939089/games/146606
 1
END:VEVENT
BEGIN:VEVENT
DTSTAMP:20260425T222243Z
UID:https://www.schedulegalaxy.com/schools/17708/teams/8939089/games/147811
 9
DTSTART;TZID=America/New_York:20260321T000000
CREATED;TZID=America/New_York:20260326T185705
LAST-MODIFIED;TZID=America/New_York:20260326T185748
LOCATION:
SUMMARY:Boys 5th/6th Basketball @ Noble Elementary Middle School
URL:https://www.schedulegalaxy.com/schools/17708/teams/8939089/games/147811
 9
END:VEVENT
END:VCALENDAR
