BEGIN:VCALENDAR
VERSION:2.0
PRODID:icalendar-ruby
CALSCALE:GREGORIAN
METHOD:PUBLISH
BEGIN:VTIMEZONE
TZID:America/New_York
BEGIN:DAYLIGHT
DTSTART:20180311T030000
TZOFFSETFROM:-0500
TZOFFSETTO:-0400
RRULE:FREQ=YEARLY;BYDAY=2SU;BYMONTH=3
TZNAME:EDT
END:DAYLIGHT
BEGIN:STANDARD
DTSTART:20171105T010000
TZOFFSETFROM:-0400
TZOFFSETTO:-0500
RRULE:FREQ=YEARLY;BYDAY=1SU;BYMONTH=11
TZNAME:EST
END:STANDARD
END:VTIMEZONE
BEGIN:VTIMEZONE
TZID:America/New_York
BEGIN:DAYLIGHT
DTSTART:20180311T030000
TZOFFSETFROM:-0500
TZOFFSETTO:-0400
RRULE:FREQ=YEARLY;BYDAY=2SU;BYMONTH=3
TZNAME:EDT
END:DAYLIGHT
BEGIN:STANDARD
DTSTART:20171105T010000
TZOFFSETFROM:-0400
TZOFFSETTO:-0500
RRULE:FREQ=YEARLY;BYDAY=1SU;BYMONTH=11
TZNAME:EST
END:STANDARD
END:VTIMEZONE
BEGIN:VTIMEZONE
TZID:America/New_York
BEGIN:DAYLIGHT
DTSTART:20180311T030000
TZOFFSETFROM:-0500
TZOFFSETTO:-0400
RRULE:FREQ=YEARLY;BYDAY=2SU;BYMONTH=3
TZNAME:EDT
END:DAYLIGHT
BEGIN:STANDARD
DTSTART:20171105T010000
TZOFFSETFROM:-0400
TZOFFSETTO:-0500
RRULE:FREQ=YEARLY;BYDAY=1SU;BYMONTH=11
TZNAME:EST
END:STANDARD
END:VTIMEZONE
BEGIN:VTIMEZONE
TZID:America/New_York
BEGIN:DAYLIGHT
DTSTART:20180311T030000
TZOFFSETFROM:-0500
TZOFFSETTO:-0400
RRULE:FREQ=YEARLY;BYDAY=2SU;BYMONTH=3
TZNAME:EDT
END:DAYLIGHT
BEGIN:STANDARD
DTSTART:20171105T010000
TZOFFSETFROM:-0400
TZOFFSETTO:-0500
RRULE:FREQ=YEARLY;BYDAY=1SU;BYMONTH=11
TZNAME:EST
END:STANDARD
END:VTIMEZONE
BEGIN:VTIMEZONE
TZID:America/New_York
BEGIN:DAYLIGHT
DTSTART:20180311T030000
TZOFFSETFROM:-0500
TZOFFSETTO:-0400
RRULE:FREQ=YEARLY;BYDAY=2SU;BYMONTH=3
TZNAME:EDT
END:DAYLIGHT
BEGIN:STANDARD
DTSTART:20171105T010000
TZOFFSETFROM:-0400
TZOFFSETTO:-0500
RRULE:FREQ=YEARLY;BYDAY=1SU;BYMONTH=11
TZNAME:EST
END:STANDARD
END:VTIMEZONE
BEGIN:VTIMEZONE
TZID:America/New_York
BEGIN:DAYLIGHT
DTSTART:20180311T030000
TZOFFSETFROM:-0500
TZOFFSETTO:-0400
RRULE:FREQ=YEARLY;BYDAY=2SU;BYMONTH=3
TZNAME:EDT
END:DAYLIGHT
BEGIN:STANDARD
DTSTART:20171105T010000
TZOFFSETFROM:-0400
TZOFFSETTO:-0500
RRULE:FREQ=YEARLY;BYDAY=1SU;BYMONTH=11
TZNAME:EST
END:STANDARD
END:VTIMEZONE
BEGIN:VTIMEZONE
TZID:America/New_York
BEGIN:DAYLIGHT
DTSTART:20180311T030000
TZOFFSETFROM:-0500
TZOFFSETTO:-0400
RRULE:FREQ=YEARLY;BYDAY=2SU;BYMONTH=3
TZNAME:EDT
END:DAYLIGHT
BEGIN:STANDARD
DTSTART:20171105T010000
TZOFFSETFROM:-0400
TZOFFSETTO:-0500
RRULE:FREQ=YEARLY;BYDAY=1SU;BYMONTH=11
TZNAME:EST
END:STANDARD
END:VTIMEZONE
BEGIN:VTIMEZONE
TZID:America/New_York
BEGIN:DAYLIGHT
DTSTART:20180311T030000
TZOFFSETFROM:-0500
TZOFFSETTO:-0400
RRULE:FREQ=YEARLY;BYDAY=2SU;BYMONTH=3
TZNAME:EDT
END:DAYLIGHT
BEGIN:STANDARD
DTSTART:20171105T010000
TZOFFSETFROM:-0400
TZOFFSETTO:-0500
RRULE:FREQ=YEARLY;BYDAY=1SU;BYMONTH=11
TZNAME:EST
END:STANDARD
END:VTIMEZONE
BEGIN:VTIMEZONE
TZID:America/New_York
BEGIN:DAYLIGHT
DTSTART:20180311T030000
TZOFFSETFROM:-0500
TZOFFSETTO:-0400
RRULE:FREQ=YEARLY;BYDAY=2SU;BYMONTH=3
TZNAME:EDT
END:DAYLIGHT
BEGIN:STANDARD
DTSTART:20171105T010000
TZOFFSETFROM:-0400
TZOFFSETTO:-0500
RRULE:FREQ=YEARLY;BYDAY=1SU;BYMONTH=11
TZNAME:EST
END:STANDARD
END:VTIMEZONE
BEGIN:VTIMEZONE
TZID:America/New_York
BEGIN:DAYLIGHT
DTSTART:20180311T030000
TZOFFSETFROM:-0500
TZOFFSETTO:-0400
RRULE:FREQ=YEARLY;BYDAY=2SU;BYMONTH=3
TZNAME:EDT
END:DAYLIGHT
BEGIN:STANDARD
DTSTART:20171105T010000
TZOFFSETFROM:-0400
TZOFFSETTO:-0500
RRULE:FREQ=YEARLY;BYDAY=1SU;BYMONTH=11
TZNAME:EST
END:STANDARD
END:VTIMEZONE
BEGIN:VTIMEZONE
TZID:America/New_York
BEGIN:DAYLIGHT
DTSTART:20180311T030000
TZOFFSETFROM:-0500
TZOFFSETTO:-0400
RRULE:FREQ=YEARLY;BYDAY=2SU;BYMONTH=3
TZNAME:EDT
END:DAYLIGHT
BEGIN:STANDARD
DTSTART:20171105T010000
TZOFFSETFROM:-0400
TZOFFSETTO:-0500
RRULE:FREQ=YEARLY;BYDAY=1SU;BYMONTH=11
TZNAME:EST
END:STANDARD
END:VTIMEZONE
BEGIN:VTIMEZONE
TZID:America/New_York
BEGIN:DAYLIGHT
DTSTART:20180311T030000
TZOFFSETFROM:-0500
TZOFFSETTO:-0400
RRULE:FREQ=YEARLY;BYDAY=2SU;BYMONTH=3
TZNAME:EDT
END:DAYLIGHT
BEGIN:STANDARD
DTSTART:20171105T010000
TZOFFSETFROM:-0400
TZOFFSETTO:-0500
RRULE:FREQ=YEARLY;BYDAY=1SU;BYMONTH=11
TZNAME:EST
END:STANDARD
END:VTIMEZONE
BEGIN:VTIMEZONE
TZID:America/New_York
BEGIN:DAYLIGHT
DTSTART:20180311T030000
TZOFFSETFROM:-0500
TZOFFSETTO:-0400
RRULE:FREQ=YEARLY;BYDAY=2SU;BYMONTH=3
TZNAME:EDT
END:DAYLIGHT
BEGIN:STANDARD
DTSTART:20171105T010000
TZOFFSETFROM:-0400
TZOFFSETTO:-0500
RRULE:FREQ=YEARLY;BYDAY=1SU;BYMONTH=11
TZNAME:EST
END:STANDARD
END:VTIMEZONE
BEGIN:VTIMEZONE
TZID:America/New_York
BEGIN:DAYLIGHT
DTSTART:20180311T030000
TZOFFSETFROM:-0500
TZOFFSETTO:-0400
RRULE:FREQ=YEARLY;BYDAY=2SU;BYMONTH=3
TZNAME:EDT
END:DAYLIGHT
BEGIN:STANDARD
DTSTART:20171105T010000
TZOFFSETFROM:-0400
TZOFFSETTO:-0500
RRULE:FREQ=YEARLY;BYDAY=1SU;BYMONTH=11
TZNAME:EST
END:STANDARD
END:VTIMEZONE
BEGIN:VTIMEZONE
TZID:America/New_York
BEGIN:DAYLIGHT
DTSTART:20180311T030000
TZOFFSETFROM:-0500
TZOFFSETTO:-0400
RRULE:FREQ=YEARLY;BYDAY=2SU;BYMONTH=3
TZNAME:EDT
END:DAYLIGHT
BEGIN:STANDARD
DTSTART:20171105T010000
TZOFFSETFROM:-0400
TZOFFSETTO:-0500
RRULE:FREQ=YEARLY;BYDAY=1SU;BYMONTH=11
TZNAME:EST
END:STANDARD
END:VTIMEZONE
BEGIN:VTIMEZONE
TZID:America/New_York
BEGIN:DAYLIGHT
DTSTART:20180311T030000
TZOFFSETFROM:-0500
TZOFFSETTO:-0400
RRULE:FREQ=YEARLY;BYDAY=2SU;BYMONTH=3
TZNAME:EDT
END:DAYLIGHT
BEGIN:STANDARD
DTSTART:20171105T010000
TZOFFSETFROM:-0400
TZOFFSETTO:-0500
RRULE:FREQ=YEARLY;BYDAY=1SU;BYMONTH=11
TZNAME:EST
END:STANDARD
END:VTIMEZONE
BEGIN:VTIMEZONE
TZID:America/New_York
BEGIN:DAYLIGHT
DTSTART:20180311T030000
TZOFFSETFROM:-0500
TZOFFSETTO:-0400
RRULE:FREQ=YEARLY;BYDAY=2SU;BYMONTH=3
TZNAME:EDT
END:DAYLIGHT
BEGIN:STANDARD
DTSTART:20171105T010000
TZOFFSETFROM:-0400
TZOFFSETTO:-0500
RRULE:FREQ=YEARLY;BYDAY=1SU;BYMONTH=11
TZNAME:EST
END:STANDARD
END:VTIMEZONE
BEGIN:VTIMEZONE
TZID:America/New_York
BEGIN:DAYLIGHT
DTSTART:20180311T030000
TZOFFSETFROM:-0500
TZOFFSETTO:-0400
RRULE:FREQ=YEARLY;BYDAY=2SU;BYMONTH=3
TZNAME:EDT
END:DAYLIGHT
BEGIN:STANDARD
DTSTART:20171105T010000
TZOFFSETFROM:-0400
TZOFFSETTO:-0500
RRULE:FREQ=YEARLY;BYDAY=1SU;BYMONTH=11
TZNAME:EST
END:STANDARD
END:VTIMEZONE
BEGIN:VTIMEZONE
TZID:America/New_York
BEGIN:DAYLIGHT
DTSTART:20180311T030000
TZOFFSETFROM:-0500
TZOFFSETTO:-0400
RRULE:FREQ=YEARLY;BYDAY=2SU;BYMONTH=3
TZNAME:EDT
END:DAYLIGHT
BEGIN:STANDARD
DTSTART:20171105T010000
TZOFFSETFROM:-0400
TZOFFSETTO:-0500
RRULE:FREQ=YEARLY;BYDAY=1SU;BYMONTH=11
TZNAME:EST
END:STANDARD
END:VTIMEZONE
BEGIN:VTIMEZONE
TZID:America/New_York
BEGIN:DAYLIGHT
DTSTART:20180311T030000
TZOFFSETFROM:-0500
TZOFFSETTO:-0400
RRULE:FREQ=YEARLY;BYDAY=2SU;BYMONTH=3
TZNAME:EDT
END:DAYLIGHT
BEGIN:STANDARD
DTSTART:20171105T010000
TZOFFSETFROM:-0400
TZOFFSETTO:-0500
RRULE:FREQ=YEARLY;BYDAY=1SU;BYMONTH=11
TZNAME:EST
END:STANDARD
END:VTIMEZONE
BEGIN:VTIMEZONE
TZID:America/New_York
BEGIN:DAYLIGHT
DTSTART:20180311T030000
TZOFFSETFROM:-0500
TZOFFSETTO:-0400
RRULE:FREQ=YEARLY;BYDAY=2SU;BYMONTH=3
TZNAME:EDT
END:DAYLIGHT
BEGIN:STANDARD
DTSTART:20171105T010000
TZOFFSETFROM:-0400
TZOFFSETTO:-0500
RRULE:FREQ=YEARLY;BYDAY=1SU;BYMONTH=11
TZNAME:EST
END:STANDARD
END:VTIMEZONE
BEGIN:VTIMEZONE
TZID:America/New_York
BEGIN:DAYLIGHT
DTSTART:20180311T030000
TZOFFSETFROM:-0500
TZOFFSETTO:-0400
RRULE:FREQ=YEARLY;BYDAY=2SU;BYMONTH=3
TZNAME:EDT
END:DAYLIGHT
BEGIN:STANDARD
DTSTART:20171105T010000
TZOFFSETFROM:-0400
TZOFFSETTO:-0500
RRULE:FREQ=YEARLY;BYDAY=1SU;BYMONTH=11
TZNAME:EST
END:STANDARD
END:VTIMEZONE
BEGIN:VTIMEZONE
TZID:America/New_York
BEGIN:DAYLIGHT
DTSTART:20180311T030000
TZOFFSETFROM:-0500
TZOFFSETTO:-0400
RRULE:FREQ=YEARLY;BYDAY=2SU;BYMONTH=3
TZNAME:EDT
END:DAYLIGHT
BEGIN:STANDARD
DTSTART:20171105T010000
TZOFFSETFROM:-0400
TZOFFSETTO:-0500
RRULE:FREQ=YEARLY;BYDAY=1SU;BYMONTH=11
TZNAME:EST
END:STANDARD
END:VTIMEZONE
BEGIN:VTIMEZONE
TZID:America/New_York
BEGIN:DAYLIGHT
DTSTART:20180311T030000
TZOFFSETFROM:-0500
TZOFFSETTO:-0400
RRULE:FREQ=YEARLY;BYDAY=2SU;BYMONTH=3
TZNAME:EDT
END:DAYLIGHT
BEGIN:STANDARD
DTSTART:20171105T010000
TZOFFSETFROM:-0400
TZOFFSETTO:-0500
RRULE:FREQ=YEARLY;BYDAY=1SU;BYMONTH=11
TZNAME:EST
END:STANDARD
END:VTIMEZONE
BEGIN:VTIMEZONE
TZID:America/New_York
BEGIN:DAYLIGHT
DTSTART:20180311T030000
TZOFFSETFROM:-0500
TZOFFSETTO:-0400
RRULE:FREQ=YEARLY;BYDAY=2SU;BYMONTH=3
TZNAME:EDT
END:DAYLIGHT
BEGIN:STANDARD
DTSTART:20181104T010000
TZOFFSETFROM:-0400
TZOFFSETTO:-0500
RRULE:FREQ=YEARLY;BYDAY=1SU;BYMONTH=11
TZNAME:EST
END:STANDARD
END:VTIMEZONE
BEGIN:VTIMEZONE
TZID:America/New_York
BEGIN:DAYLIGHT
DTSTART:20180311T030000
TZOFFSETFROM:-0500
TZOFFSETTO:-0400
RRULE:FREQ=YEARLY;BYDAY=2SU;BYMONTH=3
TZNAME:EDT
END:DAYLIGHT
BEGIN:STANDARD
DTSTART:20171105T010000
TZOFFSETFROM:-0400
TZOFFSETTO:-0500
RRULE:FREQ=YEARLY;BYDAY=1SU;BYMONTH=11
TZNAME:EST
END:STANDARD
END:VTIMEZONE
BEGIN:VTIMEZONE
TZID:America/New_York
BEGIN:DAYLIGHT
DTSTART:20180311T030000
TZOFFSETFROM:-0500
TZOFFSETTO:-0400
RRULE:FREQ=YEARLY;BYDAY=2SU;BYMONTH=3
TZNAME:EDT
END:DAYLIGHT
BEGIN:STANDARD
DTSTART:20171105T010000
TZOFFSETFROM:-0400
TZOFFSETTO:-0500
RRULE:FREQ=YEARLY;BYDAY=1SU;BYMONTH=11
TZNAME:EST
END:STANDARD
END:VTIMEZONE
BEGIN:VTIMEZONE
TZID:America/New_York
BEGIN:DAYLIGHT
DTSTART:20180311T030000
TZOFFSETFROM:-0500
TZOFFSETTO:-0400
RRULE:FREQ=YEARLY;BYDAY=2SU;BYMONTH=3
TZNAME:EDT
END:DAYLIGHT
BEGIN:STANDARD
DTSTART:20171105T010000
TZOFFSETFROM:-0400
TZOFFSETTO:-0500
RRULE:FREQ=YEARLY;BYDAY=1SU;BYMONTH=11
TZNAME:EST
END:STANDARD
END:VTIMEZONE
BEGIN:VEVENT
DTSTAMP:20260421T153559Z
UID:https://www.schedulegalaxy.com/schools/173/teams/63532/games/64127
DTSTART;TZID=America/New_York:20171127T163000
CREATED;TZID=America/New_York:20170606T093444
LAST-MODIFIED;TZID=America/New_York:20170606T093444
LOCATION:Milford School
SUMMARY:Girls Varsity Basketball @ Milford (Laurens/Milford)
URL:https://www.schedulegalaxy.com/schools/173/teams/63532/games/64127
END:VEVENT
BEGIN:VEVENT
DTSTAMP:20260421T153559Z
UID:https://www.schedulegalaxy.com/schools/173/teams/63532/games/64551
DTSTART;TZID=America/New_York:20171221T191500
CREATED;TZID=America/New_York:20170606T113433
LAST-MODIFIED;TZID=America/New_York:20171129T092858
LOCATION:Bainbridge-Guilford HS Gym
SUMMARY:Girls Varsity Basketball @ Bainbridge Guilford
URL:https://www.schedulegalaxy.com/schools/173/teams/63532/games/64551
END:VEVENT
BEGIN:VEVENT
DTSTAMP:20260421T153559Z
UID:https://www.schedulegalaxy.com/schools/173/teams/63532/games/64560
DTSTART;TZID=America/New_York:20171219T191500
CREATED;TZID=America/New_York:20170606T113433
LAST-MODIFIED;TZID=America/New_York:20171220T075647
LOCATION:
SUMMARY:Girls Varsity Basketball @ Unatego
URL:https://www.schedulegalaxy.com/schools/173/teams/63532/games/64560
END:VEVENT
BEGIN:VEVENT
DTSTAMP:20260421T153559Z
UID:https://www.schedulegalaxy.com/schools/173/teams/63532/games/64566
DTSTART;TZID=America/New_York:20180104T191500
CREATED;TZID=America/New_York:20170606T113433
LAST-MODIFIED;TZID=America/New_York:20180104T120926
LOCATION:UV -High School Gym
SUMMARY:POSTPONED: Girls Varsity Basketball v. Delaware Academy
URL:https://www.schedulegalaxy.com/schools/173/teams/63532/games/64566
END:VEVENT
BEGIN:VEVENT
DTSTAMP:20260421T153559Z
UID:https://www.schedulegalaxy.com/schools/173/teams/63532/games/64570
DTSTART;TZID=America/New_York:20180110T191500
CREATED;TZID=America/New_York:20170606T113433
LAST-MODIFIED;TZID=America/New_York:20180109T144515
LOCATION:
SUMMARY:POSTPONED: Girls Varsity Basketball v. Walton (Walton/Downsville)
URL:https://www.schedulegalaxy.com/schools/173/teams/63532/games/64570
END:VEVENT
BEGIN:VEVENT
DTSTAMP:20260421T153559Z
UID:https://www.schedulegalaxy.com/schools/173/teams/63532/games/64577
DTSTART;TZID=America/New_York:20180111T180000
DTEND;TZID=America/New_York:20180111T193000
CREATED;TZID=America/New_York:20170606T113433
LAST-MODIFIED;TZID=America/New_York:20171211T134556
LOCATION:Deposit Elementary School Gym
SUMMARY:Girls Varsity Basketball @ Deposit (Deposit-Hancock)
URL:https://www.schedulegalaxy.com/schools/173/teams/63532/games/64577
END:VEVENT
BEGIN:VEVENT
DTSTAMP:20260421T153559Z
UID:https://www.schedulegalaxy.com/schools/173/teams/63532/games/64581
DTSTART;TZID=America/New_York:20180118T191500
CREATED;TZID=America/New_York:20170606T113433
LAST-MODIFIED;TZID=America/New_York:20180112T104717
LOCATION:
SUMMARY:Girls Varsity Basketball v. Sidney
URL:https://www.schedulegalaxy.com/schools/173/teams/63532/games/64581
END:VEVENT
BEGIN:VEVENT
DTSTAMP:20260421T153559Z
UID:https://www.schedulegalaxy.com/schools/173/teams/63532/games/64597
DTSTART;TZID=America/New_York:20180126T180000
DTEND;TZID=America/New_York:20180126T193000
CREATED;TZID=America/New_York:20170606T113433
LAST-MODIFIED;TZID=America/New_York:20171018T091055
LOCATION:
SUMMARY:Girls Varsity Basketball @ Afton
URL:https://www.schedulegalaxy.com/schools/173/teams/63532/games/64597
END:VEVENT
BEGIN:VEVENT
DTSTAMP:20260421T153559Z
UID:https://www.schedulegalaxy.com/schools/173/teams/63532/games/64602
DTSTART;TZID=America/New_York:20180131T191500
CREATED;TZID=America/New_York:20170606T113434
LAST-MODIFIED;TZID=America/New_York:20170613T075427
LOCATION:
SUMMARY:Girls Varsity Basketball v. Harpursville
URL:https://www.schedulegalaxy.com/schools/173/teams/63532/games/64602
END:VEVENT
BEGIN:VEVENT
DTSTAMP:20260421T153559Z
UID:https://www.schedulegalaxy.com/schools/173/teams/63532/games/64606
DTSTART;TZID=America/New_York:20180202T191500
CREATED;TZID=America/New_York:20170606T113434
LAST-MODIFIED;TZID=America/New_York:20171013T100732
LOCATION:Oxford High School Gym
SUMMARY:Girls Varsity Basketball @ Oxford
URL:https://www.schedulegalaxy.com/schools/173/teams/63532/games/64606
END:VEVENT
BEGIN:VEVENT
DTSTAMP:20260421T153559Z
UID:https://www.schedulegalaxy.com/schools/173/teams/63532/games/64610
DTSTART;TZID=America/New_York:20180206T191500
CREATED;TZID=America/New_York:20170606T113434
LAST-MODIFIED;TZID=America/New_York:20180209T094100
LOCATION:
SUMMARY:Girls Varsity Basketball v. Greene
URL:https://www.schedulegalaxy.com/schools/173/teams/63532/games/64610
END:VEVENT
BEGIN:VEVENT
DTSTAMP:20260421T153559Z
UID:https://www.schedulegalaxy.com/schools/173/teams/63532/games/66165
DTSTART;TZID=America/New_York:20171227T000000
CREATED;TZID=America/New_York:20170613T134944
LAST-MODIFIED;TZID=America/New_York:20170613T134944
LOCATION:
SUMMARY:Girls Varsity Basketball v. Gilbertsville-Mount Upton
URL:https://www.schedulegalaxy.com/schools/173/teams/63532/games/66165
END:VEVENT
BEGIN:VEVENT
DTSTAMP:20260421T153559Z
UID:https://www.schedulegalaxy.com/schools/173/teams/63532/games/66167
DTSTART;TZID=America/New_York:20171228T000000
CREATED;TZID=America/New_York:20170613T135049
LAST-MODIFIED;TZID=America/New_York:20170613T135107
LOCATION:UV -High School Gym
SUMMARY:Girls Varsity Basketball v. TBD
URL:https://www.schedulegalaxy.com/schools/173/teams/63532/games/66167
END:VEVENT
BEGIN:VEVENT
DTSTAMP:20260421T153559Z
UID:https://www.schedulegalaxy.com/schools/173/teams/63532/games/66169
DTSTART;TZID=America/New_York:20171208T000000
CREATED;TZID=America/New_York:20170613T135440
LAST-MODIFIED;TZID=America/New_York:20170613T135755
LOCATION:Sherburne-Earlville HS
SUMMARY:Girls Varsity Basketball @ Sherburne-Earlville
URL:https://www.schedulegalaxy.com/schools/173/teams/63532/games/66169
END:VEVENT
BEGIN:VEVENT
DTSTAMP:20260421T153559Z
UID:https://www.schedulegalaxy.com/schools/173/teams/63532/games/66171
DTSTART;TZID=America/New_York:20171209T000000
CREATED;TZID=America/New_York:20170613T135655
LAST-MODIFIED;TZID=America/New_York:20170613T135655
LOCATION:Sherburne-Earlville HS
SUMMARY:Girls Varsity Basketball @ Sherburne-Earlville
URL:https://www.schedulegalaxy.com/schools/173/teams/63532/games/66171
END:VEVENT
BEGIN:VEVENT
DTSTAMP:20260421T153559Z
UID:https://www.schedulegalaxy.com/schools/173/teams/63532/games/66174
DTSTART;TZID=America/New_York:20171128T173000
CREATED;TZID=America/New_York:20170613T140422
LAST-MODIFIED;TZID=America/New_York:20170613T140422
LOCATION:Edmeston Central School
SUMMARY:Girls Varsity Basketball @ Edmeston (Edmeston/Morris)
URL:https://www.schedulegalaxy.com/schools/173/teams/63532/games/66174
END:VEVENT
BEGIN:VEVENT
DTSTAMP:20260421T153559Z
UID:https://www.schedulegalaxy.com/schools/173/teams/63532/games/66218
DTSTART;TZID=America/New_York:20171120T173000
CREATED;TZID=America/New_York:20170613T150629
LAST-MODIFIED;TZID=America/New_York:20170613T150629
LOCATION:Stamford School
SUMMARY:Girls Varsity Basketball @ Stamford (Jefferson/Stamford)
URL:https://www.schedulegalaxy.com/schools/173/teams/63532/games/66218
END:VEVENT
BEGIN:VEVENT
DTSTAMP:20260421T153559Z
UID:https://www.schedulegalaxy.com/schools/173/teams/63532/games/66450
DTSTART;TZID=America/New_York:20171215T190000
CREATED;TZID=America/New_York:20170614T101021
LAST-MODIFIED;TZID=America/New_York:20180205T105234
LOCATION:UV -High School Gym
SUMMARY:Girls Varsity Basketball v. Windsor
URL:https://www.schedulegalaxy.com/schools/173/teams/63532/games/66450
END:VEVENT
BEGIN:VEVENT
DTSTAMP:20260421T153559Z
UID:https://www.schedulegalaxy.com/schools/173/teams/63532/games/66454
DTSTART;TZID=America/New_York:20171222T193000
CREATED;TZID=America/New_York:20170614T101306
LAST-MODIFIED;TZID=America/New_York:20170614T101306
LOCATION:Oneonta High School
SUMMARY:Girls Varsity Basketball @ Oneonta
URL:https://www.schedulegalaxy.com/schools/173/teams/63532/games/66454
END:VEVENT
BEGIN:VEVENT
DTSTAMP:20260421T153559Z
UID:https://www.schedulegalaxy.com/schools/173/teams/63532/games/93262
DTSTART;TZID=America/New_York:20180212T191500
CREATED;TZID=America/New_York:20171011T124547
LAST-MODIFIED;TZID=America/New_York:20180209T110448
LOCATION:
SUMMARY:Girls Varsity Basketball v. Walton (Walton/Downsville)
URL:https://www.schedulegalaxy.com/schools/173/teams/63532/games/93262
END:VEVENT
BEGIN:VEVENT
DTSTAMP:20260421T153559Z
UID:https://www.schedulegalaxy.com/schools/173/teams/63532/games/93266
DTSTART;TZID=America/New_York:20180212T191500
CREATED;TZID=America/New_York:20171011T124547
LAST-MODIFIED;TZID=America/New_York:20171011T131156
LOCATION:
SUMMARY:Girls Varsity Basketball v. TBD
URL:https://www.schedulegalaxy.com/schools/173/teams/63532/games/93266
END:VEVENT
BEGIN:VEVENT
DTSTAMP:20260421T153559Z
UID:https://www.schedulegalaxy.com/schools/173/teams/63532/games/93277
DTSTART;TZID=America/New_York:20180214T191500
CREATED;TZID=America/New_York:20171011T124547
LAST-MODIFIED;TZID=America/New_York:20171011T131157
LOCATION:
SUMMARY:Girls Varsity Basketball v. TBD
URL:https://www.schedulegalaxy.com/schools/173/teams/63532/games/93277
END:VEVENT
BEGIN:VEVENT
DTSTAMP:20260421T153559Z
UID:https://www.schedulegalaxy.com/schools/173/teams/63532/games/93288
DTSTART;TZID=America/New_York:20180216T191500
CREATED;TZID=America/New_York:20171011T124548
LAST-MODIFIED;TZID=America/New_York:20171011T131230
LOCATION:
SUMMARY:Girls Varsity Basketball v. TBD
URL:https://www.schedulegalaxy.com/schools/173/teams/63532/games/93288
END:VEVENT
BEGIN:VEVENT
DTSTAMP:20260421T153559Z
UID:https://www.schedulegalaxy.com/schools/173/teams/63532/games/98211
DTSTART;TZID=America/New_York:20171201T190000
CREATED;TZID=America/New_York:20171025T134529
LAST-MODIFIED;TZID=America/New_York:20171025T134550
LOCATION:UV -High School Gym
SUMMARY:Girls Varsity Basketball v. Bainbridge Guilford
URL:https://www.schedulegalaxy.com/schools/173/teams/63532/games/98211
END:VEVENT
BEGIN:VEVENT
DTSTAMP:20260421T153559Z
UID:https://www.schedulegalaxy.com/schools/173/teams/63532/meets/98887
DTSTART;TZID=America/New_York:20180313T200000
DTEND;TZID=America/New_York:20180313T213000
CREATED;TZID=America/New_York:20171027T101531
LAST-MODIFIED;TZID=America/New_York:20180313T145420
LOCATION:Greene High School Gym
SUMMARY:POSTPONED: Meet - Girls Varsity Basketball
URL:https://www.schedulegalaxy.com/schools/173/teams/63532/meets/98887
END:VEVENT
BEGIN:VEVENT
DTSTAMP:20260421T153559Z
UID:https://www.schedulegalaxy.com/schools/173/teams/63532/games/102824
DTSTART;TZID=America/New_York:20171117T170000
CREATED;TZID=America/New_York:20171101T101736
LAST-MODIFIED;TZID=America/New_York:20171101T101736
LOCATION:UV -High School Gym
SUMMARY:Girls Varsity Basketball @ Morris (Edmeston/Morris)
URL:https://www.schedulegalaxy.com/schools/173/teams/63532/games/102824
END:VEVENT
BEGIN:VEVENT
DTSTAMP:20260421T153559Z
UID:https://www.schedulegalaxy.com/schools/173/teams/63532/games/114959
DTSTART;TZID=America/New_York:20180117T180000
CREATED;TZID=America/New_York:20180105T140507
LAST-MODIFIED;TZID=America/New_York:20180116T133217
LOCATION:UV -High School Gym
SUMMARY:Girls Varsity Basketball v. Delaware Academy
URL:https://www.schedulegalaxy.com/schools/173/teams/63532/games/114959
END:VEVENT
BEGIN:VEVENT
DTSTAMP:20260421T153559Z
UID:https://www.schedulegalaxy.com/schools/173/teams/63532/games/115754
DTSTART;TZID=America/New_York:20180122T191500
DTEND;TZID=America/New_York:20180122T210000
CREATED;TZID=America/New_York:20180110T111340
LAST-MODIFIED;TZID=America/New_York:20180122T111400
LOCATION:UV -High School Gym\, UV -High School Gym
SUMMARY:Girls Varsity Basketball v. Walton (Walton/Downsville)
URL:https://www.schedulegalaxy.com/schools/173/teams/63532/games/115754
END:VEVENT
END:VCALENDAR
