BEGIN:VCALENDAR
VERSION:2.0
PRODID:icalendar-ruby
CALSCALE:GREGORIAN
METHOD:PUBLISH
BEGIN:VTIMEZONE
TZID:America/New_York
BEGIN:DAYLIGHT
DTSTART:20180311T030000
TZOFFSETFROM:-0500
TZOFFSETTO:-0400
RRULE:FREQ=YEARLY;BYDAY=2SU;BYMONTH=3
TZNAME:EDT
END:DAYLIGHT
BEGIN:STANDARD
DTSTART:20181104T010000
TZOFFSETFROM:-0400
TZOFFSETTO:-0500
RRULE:FREQ=YEARLY;BYDAY=1SU;BYMONTH=11
TZNAME:EST
END:STANDARD
END:VTIMEZONE
BEGIN:VTIMEZONE
TZID:America/New_York
BEGIN:DAYLIGHT
DTSTART:20180311T030000
TZOFFSETFROM:-0500
TZOFFSETTO:-0400
RRULE:FREQ=YEARLY;BYDAY=2SU;BYMONTH=3
TZNAME:EDT
END:DAYLIGHT
BEGIN:STANDARD
DTSTART:20181104T010000
TZOFFSETFROM:-0400
TZOFFSETTO:-0500
RRULE:FREQ=YEARLY;BYDAY=1SU;BYMONTH=11
TZNAME:EST
END:STANDARD
END:VTIMEZONE
BEGIN:VTIMEZONE
TZID:America/New_York
BEGIN:DAYLIGHT
DTSTART:20190310T030000
TZOFFSETFROM:-0500
TZOFFSETTO:-0400
RRULE:FREQ=YEARLY;BYDAY=2SU;BYMONTH=3
TZNAME:EDT
END:DAYLIGHT
BEGIN:STANDARD
DTSTART:20181104T010000
TZOFFSETFROM:-0400
TZOFFSETTO:-0500
RRULE:FREQ=YEARLY;BYDAY=1SU;BYMONTH=11
TZNAME:EST
END:STANDARD
END:VTIMEZONE
BEGIN:VEVENT
DTSTAMP:20260422T045359Z
UID:https://www.schedulegalaxy.com/schools/167/teams/61300/games/182621
DTSTART;TZID=America/New_York:20181005T190000
CREATED;TZID=America/New_York:20180909T194938
LAST-MODIFIED;TZID=America/New_York:20180913T091216
LOCATION:Candor HS Stadium
SUMMARY:Girls (Fall) Varsity Cheerleading v. Harpursville
URL:https://www.schedulegalaxy.com/schools/167/teams/61300/games/182621
END:VEVENT
BEGIN:VEVENT
DTSTAMP:20260422T045359Z
UID:https://www.schedulegalaxy.com/schools/167/teams/61300/games/183818
DTSTART;TZID=America/New_York:20180915T130000
CREATED;TZID=America/New_York:20180911T135203
LAST-MODIFIED;TZID=America/New_York:20180913T090844
LOCATION:Candor HS Stadium
SUMMARY:Girls (Fall) Varsity Cheerleading v. Dryden (Fall)
URL:https://www.schedulegalaxy.com/schools/167/teams/61300/games/183818
END:VEVENT
BEGIN:VEVENT
DTSTAMP:20260422T045359Z
UID:https://www.schedulegalaxy.com/schools/167/teams/61300/games/210831
DTSTART;TZID=America/New_York:20190205T190000
CREATED;TZID=America/New_York:20181110T194228
LAST-MODIFIED;TZID=America/New_York:20181110T194405
LOCATION:Spencer-Van Etten HS
SUMMARY:Girls (Fall) Varsity Cheerleading v. Candor (SVEC)
URL:https://www.schedulegalaxy.com/schools/167/teams/61300/games/210831
END:VEVENT
END:VCALENDAR
