BEGIN:VCALENDAR
VERSION:2.0
PRODID:icalendar-ruby
CALSCALE:GREGORIAN
METHOD:PUBLISH
BEGIN:VTIMEZONE
TZID:America/New_York
BEGIN:DAYLIGHT
DTSTART:20170312T030000
TZOFFSETFROM:-0500
TZOFFSETTO:-0400
RRULE:FREQ=YEARLY;BYDAY=2SU;BYMONTH=3
TZNAME:EDT
END:DAYLIGHT
BEGIN:STANDARD
DTSTART:20161106T010000
TZOFFSETFROM:-0400
TZOFFSETTO:-0500
RRULE:FREQ=YEARLY;BYDAY=1SU;BYMONTH=11
TZNAME:EST
END:STANDARD
END:VTIMEZONE
BEGIN:VTIMEZONE
TZID:America/New_York
BEGIN:DAYLIGHT
DTSTART:20170312T030000
TZOFFSETFROM:-0500
TZOFFSETTO:-0400
RRULE:FREQ=YEARLY;BYDAY=2SU;BYMONTH=3
TZNAME:EDT
END:DAYLIGHT
BEGIN:STANDARD
DTSTART:20161106T010000
TZOFFSETFROM:-0400
TZOFFSETTO:-0500
RRULE:FREQ=YEARLY;BYDAY=1SU;BYMONTH=11
TZNAME:EST
END:STANDARD
END:VTIMEZONE
BEGIN:VTIMEZONE
TZID:America/New_York
BEGIN:DAYLIGHT
DTSTART:20170312T030000
TZOFFSETFROM:-0500
TZOFFSETTO:-0400
RRULE:FREQ=YEARLY;BYDAY=2SU;BYMONTH=3
TZNAME:EDT
END:DAYLIGHT
BEGIN:STANDARD
DTSTART:20161106T010000
TZOFFSETFROM:-0400
TZOFFSETTO:-0500
RRULE:FREQ=YEARLY;BYDAY=1SU;BYMONTH=11
TZNAME:EST
END:STANDARD
END:VTIMEZONE
BEGIN:VEVENT
DTSTAMP:20260422T015341Z
UID:https://www.schedulegalaxy.com/schools/167/teams/61264/games/35743
DTSTART;TZID=America/New_York:20161216T194500
CREATED;TZID=America/New_York:20160706T135529
LAST-MODIFIED;TZID=America/New_York:20160919T043243
LOCATION:Spencer-Van Etten HS
SUMMARY:Girls Varsity Basketball v. Candor
URL:https://www.schedulegalaxy.com/schools/167/teams/61264/games/35743
END:VEVENT
BEGIN:VEVENT
DTSTAMP:20260422T015341Z
UID:https://www.schedulegalaxy.com/schools/167/teams/61264/games/35765
DTSTART;TZID=America/New_York:20170120T191500
CREATED;TZID=America/New_York:20160706T141304
LAST-MODIFIED;TZID=America/New_York:20160919T043243
LOCATION:Candor HS Gym
SUMMARY:Girls Varsity Basketball @ Candor
URL:https://www.schedulegalaxy.com/schools/167/teams/61264/games/35765
END:VEVENT
BEGIN:VEVENT
DTSTAMP:20260422T015341Z
UID:https://www.schedulegalaxy.com/schools/167/teams/61264/games/35357
DTSTART;TZID=America/New_York:20161129T190000
CREATED;TZID=America/New_York:20160627T140414
LAST-MODIFIED;TZID=America/New_York:20160919T043243
LOCATION:Moravia H S Gym
SUMMARY:Girls Varsity Basketball @ Moravia
URL:https://www.schedulegalaxy.com/schools/167/teams/61264/games/35357
END:VEVENT
END:VCALENDAR
