BEGIN:VCALENDAR
VERSION:2.0
PRODID:icalendar-ruby
CALSCALE:GREGORIAN
METHOD:PUBLISH
BEGIN:VTIMEZONE
TZID:America/New_York
BEGIN:DAYLIGHT
DTSTART:20180311T030000
TZOFFSETFROM:-0500
TZOFFSETTO:-0400
RRULE:FREQ=YEARLY;BYDAY=2SU;BYMONTH=3
TZNAME:EDT
END:DAYLIGHT
BEGIN:STANDARD
DTSTART:20181104T010000
TZOFFSETFROM:-0400
TZOFFSETTO:-0500
RRULE:FREQ=YEARLY;BYDAY=1SU;BYMONTH=11
TZNAME:EST
END:STANDARD
END:VTIMEZONE
BEGIN:VTIMEZONE
TZID:America/New_York
BEGIN:DAYLIGHT
DTSTART:20180311T030000
TZOFFSETFROM:-0500
TZOFFSETTO:-0400
RRULE:FREQ=YEARLY;BYDAY=2SU;BYMONTH=3
TZNAME:EDT
END:DAYLIGHT
BEGIN:STANDARD
DTSTART:20181104T010000
TZOFFSETFROM:-0400
TZOFFSETTO:-0500
RRULE:FREQ=YEARLY;BYDAY=1SU;BYMONTH=11
TZNAME:EST
END:STANDARD
END:VTIMEZONE
BEGIN:VTIMEZONE
TZID:America/New_York
BEGIN:DAYLIGHT
DTSTART:20180311T030000
TZOFFSETFROM:-0500
TZOFFSETTO:-0400
RRULE:FREQ=YEARLY;BYDAY=2SU;BYMONTH=3
TZNAME:EDT
END:DAYLIGHT
BEGIN:STANDARD
DTSTART:20181104T010000
TZOFFSETFROM:-0400
TZOFFSETTO:-0500
RRULE:FREQ=YEARLY;BYDAY=1SU;BYMONTH=11
TZNAME:EST
END:STANDARD
END:VTIMEZONE
BEGIN:VTIMEZONE
TZID:America/New_York
BEGIN:DAYLIGHT
DTSTART:20180311T030000
TZOFFSETFROM:-0500
TZOFFSETTO:-0400
RRULE:FREQ=YEARLY;BYDAY=2SU;BYMONTH=3
TZNAME:EDT
END:DAYLIGHT
BEGIN:STANDARD
DTSTART:20181104T010000
TZOFFSETFROM:-0400
TZOFFSETTO:-0500
RRULE:FREQ=YEARLY;BYDAY=1SU;BYMONTH=11
TZNAME:EST
END:STANDARD
END:VTIMEZONE
BEGIN:VTIMEZONE
TZID:America/New_York
BEGIN:DAYLIGHT
DTSTART:20180311T030000
TZOFFSETFROM:-0500
TZOFFSETTO:-0400
RRULE:FREQ=YEARLY;BYDAY=2SU;BYMONTH=3
TZNAME:EDT
END:DAYLIGHT
BEGIN:STANDARD
DTSTART:20181104T010000
TZOFFSETFROM:-0400
TZOFFSETTO:-0500
RRULE:FREQ=YEARLY;BYDAY=1SU;BYMONTH=11
TZNAME:EST
END:STANDARD
END:VTIMEZONE
BEGIN:VTIMEZONE
TZID:America/New_York
BEGIN:DAYLIGHT
DTSTART:20180311T030000
TZOFFSETFROM:-0500
TZOFFSETTO:-0400
RRULE:FREQ=YEARLY;BYDAY=2SU;BYMONTH=3
TZNAME:EDT
END:DAYLIGHT
BEGIN:STANDARD
DTSTART:20181104T010000
TZOFFSETFROM:-0400
TZOFFSETTO:-0500
RRULE:FREQ=YEARLY;BYDAY=1SU;BYMONTH=11
TZNAME:EST
END:STANDARD
END:VTIMEZONE
BEGIN:VTIMEZONE
TZID:America/New_York
BEGIN:DAYLIGHT
DTSTART:20180311T030000
TZOFFSETFROM:-0500
TZOFFSETTO:-0400
RRULE:FREQ=YEARLY;BYDAY=2SU;BYMONTH=3
TZNAME:EDT
END:DAYLIGHT
BEGIN:STANDARD
DTSTART:20181104T010000
TZOFFSETFROM:-0400
TZOFFSETTO:-0500
RRULE:FREQ=YEARLY;BYDAY=1SU;BYMONTH=11
TZNAME:EST
END:STANDARD
END:VTIMEZONE
BEGIN:VTIMEZONE
TZID:America/New_York
BEGIN:DAYLIGHT
DTSTART:20180311T030000
TZOFFSETFROM:-0500
TZOFFSETTO:-0400
RRULE:FREQ=YEARLY;BYDAY=2SU;BYMONTH=3
TZNAME:EDT
END:DAYLIGHT
BEGIN:STANDARD
DTSTART:20181104T010000
TZOFFSETFROM:-0400
TZOFFSETTO:-0500
RRULE:FREQ=YEARLY;BYDAY=1SU;BYMONTH=11
TZNAME:EST
END:STANDARD
END:VTIMEZONE
BEGIN:VTIMEZONE
TZID:America/New_York
BEGIN:DAYLIGHT
DTSTART:20180311T030000
TZOFFSETFROM:-0500
TZOFFSETTO:-0400
RRULE:FREQ=YEARLY;BYDAY=2SU;BYMONTH=3
TZNAME:EDT
END:DAYLIGHT
BEGIN:STANDARD
DTSTART:20181104T010000
TZOFFSETFROM:-0400
TZOFFSETTO:-0500
RRULE:FREQ=YEARLY;BYDAY=1SU;BYMONTH=11
TZNAME:EST
END:STANDARD
END:VTIMEZONE
BEGIN:VTIMEZONE
TZID:America/New_York
BEGIN:DAYLIGHT
DTSTART:20180311T030000
TZOFFSETFROM:-0500
TZOFFSETTO:-0400
RRULE:FREQ=YEARLY;BYDAY=2SU;BYMONTH=3
TZNAME:EDT
END:DAYLIGHT
BEGIN:STANDARD
DTSTART:20181104T010000
TZOFFSETFROM:-0400
TZOFFSETTO:-0500
RRULE:FREQ=YEARLY;BYDAY=1SU;BYMONTH=11
TZNAME:EST
END:STANDARD
END:VTIMEZONE
BEGIN:VTIMEZONE
TZID:America/New_York
BEGIN:DAYLIGHT
DTSTART:20180311T030000
TZOFFSETFROM:-0500
TZOFFSETTO:-0400
RRULE:FREQ=YEARLY;BYDAY=2SU;BYMONTH=3
TZNAME:EDT
END:DAYLIGHT
BEGIN:STANDARD
DTSTART:20181104T010000
TZOFFSETFROM:-0400
TZOFFSETTO:-0500
RRULE:FREQ=YEARLY;BYDAY=1SU;BYMONTH=11
TZNAME:EST
END:STANDARD
END:VTIMEZONE
BEGIN:VTIMEZONE
TZID:America/New_York
BEGIN:DAYLIGHT
DTSTART:20180311T030000
TZOFFSETFROM:-0500
TZOFFSETTO:-0400
RRULE:FREQ=YEARLY;BYDAY=2SU;BYMONTH=3
TZNAME:EDT
END:DAYLIGHT
BEGIN:STANDARD
DTSTART:20181104T010000
TZOFFSETFROM:-0400
TZOFFSETTO:-0500
RRULE:FREQ=YEARLY;BYDAY=1SU;BYMONTH=11
TZNAME:EST
END:STANDARD
END:VTIMEZONE
BEGIN:VTIMEZONE
TZID:America/New_York
BEGIN:DAYLIGHT
DTSTART:20180311T030000
TZOFFSETFROM:-0500
TZOFFSETTO:-0400
RRULE:FREQ=YEARLY;BYDAY=2SU;BYMONTH=3
TZNAME:EDT
END:DAYLIGHT
BEGIN:STANDARD
DTSTART:20181104T010000
TZOFFSETFROM:-0400
TZOFFSETTO:-0500
RRULE:FREQ=YEARLY;BYDAY=1SU;BYMONTH=11
TZNAME:EST
END:STANDARD
END:VTIMEZONE
BEGIN:VTIMEZONE
TZID:America/New_York
BEGIN:DAYLIGHT
DTSTART:20180311T030000
TZOFFSETFROM:-0500
TZOFFSETTO:-0400
RRULE:FREQ=YEARLY;BYDAY=2SU;BYMONTH=3
TZNAME:EDT
END:DAYLIGHT
BEGIN:STANDARD
DTSTART:20181104T010000
TZOFFSETFROM:-0400
TZOFFSETTO:-0500
RRULE:FREQ=YEARLY;BYDAY=1SU;BYMONTH=11
TZNAME:EST
END:STANDARD
END:VTIMEZONE
BEGIN:VTIMEZONE
TZID:America/New_York
BEGIN:DAYLIGHT
DTSTART:20180311T030000
TZOFFSETFROM:-0500
TZOFFSETTO:-0400
RRULE:FREQ=YEARLY;BYDAY=2SU;BYMONTH=3
TZNAME:EDT
END:DAYLIGHT
BEGIN:STANDARD
DTSTART:20181104T010000
TZOFFSETFROM:-0400
TZOFFSETTO:-0500
RRULE:FREQ=YEARLY;BYDAY=1SU;BYMONTH=11
TZNAME:EST
END:STANDARD
END:VTIMEZONE
BEGIN:VTIMEZONE
TZID:America/New_York
BEGIN:DAYLIGHT
DTSTART:20180311T030000
TZOFFSETFROM:-0500
TZOFFSETTO:-0400
RRULE:FREQ=YEARLY;BYDAY=2SU;BYMONTH=3
TZNAME:EDT
END:DAYLIGHT
BEGIN:STANDARD
DTSTART:20181104T010000
TZOFFSETFROM:-0400
TZOFFSETTO:-0500
RRULE:FREQ=YEARLY;BYDAY=1SU;BYMONTH=11
TZNAME:EST
END:STANDARD
END:VTIMEZONE
BEGIN:VTIMEZONE
TZID:America/New_York
BEGIN:DAYLIGHT
DTSTART:20180311T030000
TZOFFSETFROM:-0500
TZOFFSETTO:-0400
RRULE:FREQ=YEARLY;BYDAY=2SU;BYMONTH=3
TZNAME:EDT
END:DAYLIGHT
BEGIN:STANDARD
DTSTART:20181104T010000
TZOFFSETFROM:-0400
TZOFFSETTO:-0500
RRULE:FREQ=YEARLY;BYDAY=1SU;BYMONTH=11
TZNAME:EST
END:STANDARD
END:VTIMEZONE
BEGIN:VTIMEZONE
TZID:America/New_York
BEGIN:DAYLIGHT
DTSTART:20180311T030000
TZOFFSETFROM:-0500
TZOFFSETTO:-0400
RRULE:FREQ=YEARLY;BYDAY=2SU;BYMONTH=3
TZNAME:EDT
END:DAYLIGHT
BEGIN:STANDARD
DTSTART:20181104T010000
TZOFFSETFROM:-0400
TZOFFSETTO:-0500
RRULE:FREQ=YEARLY;BYDAY=1SU;BYMONTH=11
TZNAME:EST
END:STANDARD
END:VTIMEZONE
BEGIN:VTIMEZONE
TZID:America/New_York
BEGIN:DAYLIGHT
DTSTART:20180311T030000
TZOFFSETFROM:-0500
TZOFFSETTO:-0400
RRULE:FREQ=YEARLY;BYDAY=2SU;BYMONTH=3
TZNAME:EDT
END:DAYLIGHT
BEGIN:STANDARD
DTSTART:20181104T010000
TZOFFSETFROM:-0400
TZOFFSETTO:-0500
RRULE:FREQ=YEARLY;BYDAY=1SU;BYMONTH=11
TZNAME:EST
END:STANDARD
END:VTIMEZONE
BEGIN:VTIMEZONE
TZID:America/New_York
BEGIN:DAYLIGHT
DTSTART:20180311T030000
TZOFFSETFROM:-0500
TZOFFSETTO:-0400
RRULE:FREQ=YEARLY;BYDAY=2SU;BYMONTH=3
TZNAME:EDT
END:DAYLIGHT
BEGIN:STANDARD
DTSTART:20181104T010000
TZOFFSETFROM:-0400
TZOFFSETTO:-0500
RRULE:FREQ=YEARLY;BYDAY=1SU;BYMONTH=11
TZNAME:EST
END:STANDARD
END:VTIMEZONE
BEGIN:VTIMEZONE
TZID:America/New_York
BEGIN:DAYLIGHT
DTSTART:20180311T030000
TZOFFSETFROM:-0500
TZOFFSETTO:-0400
RRULE:FREQ=YEARLY;BYDAY=2SU;BYMONTH=3
TZNAME:EDT
END:DAYLIGHT
BEGIN:STANDARD
DTSTART:20181104T010000
TZOFFSETFROM:-0400
TZOFFSETTO:-0500
RRULE:FREQ=YEARLY;BYDAY=1SU;BYMONTH=11
TZNAME:EST
END:STANDARD
END:VTIMEZONE
BEGIN:VEVENT
DTSTAMP:20260422T180111Z
UID:https://www.schedulegalaxy.com/schools/163/teams/60013/games/89511
DTSTART;TZID=America/New_York:20180409T163000
DTEND;TZID=America/New_York:20180409T183000
CREATED;TZID=America/New_York:20170924T102354
LAST-MODIFIED;TZID=America/New_York:20180409T112636
LOCATION:BAGSAI
SUMMARY:POSTPONED: Girls Varsity Softball v. Susquehanna Valley
URL:https://www.schedulegalaxy.com/schools/163/teams/60013/games/89511
END:VEVENT
BEGIN:VEVENT
DTSTAMP:20260422T180111Z
UID:https://www.schedulegalaxy.com/schools/163/teams/60013/games/89517
DTSTART;TZID=America/New_York:20180411T163000
DTEND;TZID=America/New_York:20180411T183000
CREATED;TZID=America/New_York:20170924T102354
LAST-MODIFIED;TZID=America/New_York:20180414T170008
LOCATION:Windsor High School Softball Field #1
SUMMARY:Girls Varsity Softball @ Windsor
URL:https://www.schedulegalaxy.com/schools/163/teams/60013/games/89517
END:VEVENT
BEGIN:VEVENT
DTSTAMP:20260422T180111Z
UID:https://www.schedulegalaxy.com/schools/163/teams/60013/games/89527
DTSTART;TZID=America/New_York:20180413T163000
DTEND;TZID=America/New_York:20180413T183000
CREATED;TZID=America/New_York:20170924T102355
LAST-MODIFIED;TZID=America/New_York:20180430T122420
LOCATION:Middle School - Softball Field #3
SUMMARY:Girls Varsity Softball @ Chenango Forks
URL:https://www.schedulegalaxy.com/schools/163/teams/60013/games/89527
END:VEVENT
BEGIN:VEVENT
DTSTAMP:20260422T180111Z
UID:https://www.schedulegalaxy.com/schools/163/teams/60013/games/89535
DTSTART;TZID=America/New_York:20180416T164500
DTEND;TZID=America/New_York:20180416T183000
CREATED;TZID=America/New_York:20170924T102355
LAST-MODIFIED;TZID=America/New_York:20180416T083731
LOCATION:Oneonta High School
SUMMARY:POSTPONED: Girls Varsity Softball @ Oneonta
URL:https://www.schedulegalaxy.com/schools/163/teams/60013/games/89535
END:VEVENT
BEGIN:VEVENT
DTSTAMP:20260422T180111Z
UID:https://www.schedulegalaxy.com/schools/163/teams/60013/games/89543
DTSTART;TZID=America/New_York:20180418T163000
DTEND;TZID=America/New_York:20180418T183000
CREATED;TZID=America/New_York:20170924T102355
LAST-MODIFIED;TZID=America/New_York:20180430T122107
LOCATION:NHS Hallways
SUMMARY:Girls Varsity Softball @ Norwich
URL:https://www.schedulegalaxy.com/schools/163/teams/60013/games/89543
END:VEVENT
BEGIN:VEVENT
DTSTAMP:20260422T180111Z
UID:https://www.schedulegalaxy.com/schools/163/teams/60013/games/89551
DTSTART;TZID=America/New_York:20180420T163000
DTEND;TZID=America/New_York:20180420T183000
CREATED;TZID=America/New_York:20170924T102356
LAST-MODIFIED;TZID=America/New_York:20180421T105543
LOCATION:CV - HS Softball Field
SUMMARY:Girls Varsity Softball @ Chenango Valley
URL:https://www.schedulegalaxy.com/schools/163/teams/60013/games/89551
END:VEVENT
BEGIN:VEVENT
DTSTAMP:20260422T180111Z
UID:https://www.schedulegalaxy.com/schools/163/teams/60013/games/89567
DTSTART;TZID=America/New_York:20180508T163000
DTEND;TZID=America/New_York:20180508T183000
CREATED;TZID=America/New_York:20170924T102356
LAST-MODIFIED;TZID=America/New_York:20180510T091351
LOCATION:RTS MS Softball Field
SUMMARY:Girls Varsity Softball @ Susquehanna Valley
URL:https://www.schedulegalaxy.com/schools/163/teams/60013/games/89567
END:VEVENT
BEGIN:VEVENT
DTSTAMP:20260422T180111Z
UID:https://www.schedulegalaxy.com/schools/163/teams/60013/games/89573
DTSTART;TZID=America/New_York:20180427T163000
DTEND;TZID=America/New_York:20180427T183000
CREATED;TZID=America/New_York:20170924T102356
LAST-MODIFIED;TZID=America/New_York:20180427T133406
LOCATION:BAGSAI
SUMMARY:POSTPONED: Girls Varsity Softball v. Windsor
URL:https://www.schedulegalaxy.com/schools/163/teams/60013/games/89573
END:VEVENT
BEGIN:VEVENT
DTSTAMP:20260422T180111Z
UID:https://www.schedulegalaxy.com/schools/163/teams/60013/games/89583
DTSTART;TZID=America/New_York:20180430T163000
DTEND;TZID=America/New_York:20180430T183000
CREATED;TZID=America/New_York:20170924T102357
LAST-MODIFIED;TZID=America/New_York:20180501T095336
LOCATION:BAGSAI
SUMMARY:Girls Varsity Softball v. Chenango Forks
URL:https://www.schedulegalaxy.com/schools/163/teams/60013/games/89583
END:VEVENT
BEGIN:VEVENT
DTSTAMP:20260422T180111Z
UID:https://www.schedulegalaxy.com/schools/163/teams/60013/games/89591
DTSTART;TZID=America/New_York:20180502T164500
DTEND;TZID=America/New_York:20180502T183000
CREATED;TZID=America/New_York:20170924T102357
LAST-MODIFIED;TZID=America/New_York:20180503T081516
LOCATION:BAGSAI
SUMMARY:Girls Varsity Softball v. Oneonta
URL:https://www.schedulegalaxy.com/schools/163/teams/60013/games/89591
END:VEVENT
BEGIN:VEVENT
DTSTAMP:20260422T180111Z
UID:https://www.schedulegalaxy.com/schools/163/teams/60013/games/89599
DTSTART;TZID=America/New_York:20180504T163000
DTEND;TZID=America/New_York:20180504T183000
CREATED;TZID=America/New_York:20170924T102358
LAST-MODIFIED;TZID=America/New_York:20180507T084858
LOCATION:BAGSAI
SUMMARY:Girls Varsity Softball v. Norwich
URL:https://www.schedulegalaxy.com/schools/163/teams/60013/games/89599
END:VEVENT
BEGIN:VEVENT
DTSTAMP:20260422T180111Z
UID:https://www.schedulegalaxy.com/schools/163/teams/60013/games/89607
DTSTART;TZID=America/New_York:20180507T163000
DTEND;TZID=America/New_York:20180507T183000
CREATED;TZID=America/New_York:20170924T102358
LAST-MODIFIED;TZID=America/New_York:20180508T064514
LOCATION:BAGSAI
SUMMARY:Girls Varsity Softball v. Chenango Valley
URL:https://www.schedulegalaxy.com/schools/163/teams/60013/games/89607
END:VEVENT
BEGIN:VEVENT
DTSTAMP:20260422T180111Z
UID:https://www.schedulegalaxy.com/schools/163/teams/60013/games/114653
DTSTART;TZID=America/New_York:20180509T163000
DTEND;TZID=America/New_York:20180509T180000
CREATED;TZID=America/New_York:20180104T085059
LAST-MODIFIED;TZID=America/New_York:20180509T192013
LOCATION:BAGSAI
SUMMARY:Girls Varsity Softball v. Johnson City
URL:https://www.schedulegalaxy.com/schools/163/teams/60013/games/114653
END:VEVENT
BEGIN:VEVENT
DTSTAMP:20260422T180111Z
UID:https://www.schedulegalaxy.com/schools/163/teams/60013/games/125922
DTSTART;TZID=America/New_York:20180428T140000
DTEND;TZID=America/New_York:20180428T154500
CREATED;TZID=America/New_York:20180214T094210
LAST-MODIFIED;TZID=America/New_York:20180430T122018
LOCATION:Newark Valley High School
SUMMARY:Girls Varsity Softball v. Ithaca
URL:https://www.schedulegalaxy.com/schools/163/teams/60013/games/125922
END:VEVENT
BEGIN:VEVENT
DTSTAMP:20260422T180111Z
UID:https://www.schedulegalaxy.com/schools/163/teams/60013/games/126088
DTSTART;TZID=America/New_York:20180405T163000
DTEND;TZID=America/New_York:20180405T180000
CREATED;TZID=America/New_York:20180215T091723
LAST-MODIFIED;TZID=America/New_York:20180405T135614
LOCATION:BAGSAI
SUMMARY:POSTPONED: Girls Varsity Softball v. Bainbridge Guilford
URL:https://www.schedulegalaxy.com/schools/163/teams/60013/games/126088
END:VEVENT
BEGIN:VEVENT
DTSTAMP:20260422T180111Z
UID:https://www.schedulegalaxy.com/schools/163/teams/60013/games/129389
DTSTART;TZID=America/New_York:20180403T163000
DTEND;TZID=America/New_York:20180403T190000
CREATED;TZID=America/New_York:20180301T112712
LAST-MODIFIED;TZID=America/New_York:20180403T113532
LOCATION:Oxford HS Softball field 1
SUMMARY:POSTPONED: Girls Varsity Softball @ Oxford
URL:https://www.schedulegalaxy.com/schools/163/teams/60013/games/129389
END:VEVENT
BEGIN:VEVENT
DTSTAMP:20260422T180111Z
UID:https://www.schedulegalaxy.com/schools/163/teams/60013/games/141060
DTSTART;TZID=America/New_York:20180501T163000
DTEND;TZID=America/New_York:20180501T180000
CREATED;TZID=America/New_York:20180410T102300
LAST-MODIFIED;TZID=America/New_York:20180501T202448
LOCATION:BAGSAI
SUMMARY:Girls Varsity Softball v. Susquehanna Valley
URL:https://www.schedulegalaxy.com/schools/163/teams/60013/games/141060
END:VEVENT
BEGIN:VEVENT
DTSTAMP:20260422T180111Z
UID:https://www.schedulegalaxy.com/schools/163/teams/60013/games/141886
DTSTART;TZID=America/New_York:20180421T110000
CREATED;TZID=America/New_York:20180416T083758
LAST-MODIFIED;TZID=America/New_York:20180421T134922
LOCATION:Oneonta High School
SUMMARY:Girls Varsity Softball @ Oneonta
URL:https://www.schedulegalaxy.com/schools/163/teams/60013/games/141886
END:VEVENT
BEGIN:VEVENT
DTSTAMP:20260422T180111Z
UID:https://www.schedulegalaxy.com/schools/163/teams/60013/games/145328
DTSTART;TZID=America/New_York:20180510T163000
DTEND;TZID=America/New_York:20180510T180000
CREATED;TZID=America/New_York:20180430T104815
LAST-MODIFIED;TZID=America/New_York:20180516T153611
LOCATION:BAGSAI
SUMMARY:POSTPONED: Girls Varsity Softball v. Windsor
URL:https://www.schedulegalaxy.com/schools/163/teams/60013/games/145328
END:VEVENT
BEGIN:VEVENT
DTSTAMP:20260422T180111Z
UID:https://www.schedulegalaxy.com/schools/163/teams/60013/games/145414
DTSTART;TZID=America/New_York:20180428T120000
DTEND;TZID=America/New_York:20180428T140000
CREATED;TZID=America/New_York:20180430T122711
LAST-MODIFIED;TZID=America/New_York:20180430T122806
LOCATION:Newark Valley High School
SUMMARY:Girls Varsity Softball v. Corning-Painted Post
URL:https://www.schedulegalaxy.com/schools/163/teams/60013/games/145414
END:VEVENT
BEGIN:VEVENT
DTSTAMP:20260422T180111Z
UID:https://www.schedulegalaxy.com/schools/163/teams/60013/games/152414
DTSTART;TZID=America/New_York:20180518T163000
CREATED;TZID=America/New_York:20180516T144657
LAST-MODIFIED;TZID=America/New_York:20180516T144716
LOCATION:HARPURSVILLE Varsity Baseball Field
SUMMARY:Girls Varsity Softball @ Harpursville
URL:https://www.schedulegalaxy.com/schools/163/teams/60013/games/152414
END:VEVENT
END:VCALENDAR
