BEGIN:VCALENDAR
VERSION:2.0
PRODID:icalendar-ruby
CALSCALE:GREGORIAN
METHOD:PUBLISH
BEGIN:VTIMEZONE
TZID:America/New_York
BEGIN:DAYLIGHT
DTSTART:20170312T030000
TZOFFSETFROM:-0500
TZOFFSETTO:-0400
RRULE:FREQ=YEARLY;BYDAY=2SU;BYMONTH=3
TZNAME:EDT
END:DAYLIGHT
BEGIN:STANDARD
DTSTART:20161106T010000
TZOFFSETFROM:-0400
TZOFFSETTO:-0500
RRULE:FREQ=YEARLY;BYDAY=1SU;BYMONTH=11
TZNAME:EST
END:STANDARD
END:VTIMEZONE
BEGIN:VEVENT
DTSTAMP:20260421T124550Z
UID:https://www.schedulegalaxy.com/schools/137/teams/49934/games/42936
DTSTART;TZID=America/New_York:20161130T170000
CREATED;TZID=America/New_York:20161105T113733
LAST-MODIFIED;TZID=America/New_York:20161105T113733
LOCATION:Afton H S
SUMMARY:Boys Junior Varsity Basketball v. Otselic Valley
URL:https://www.schedulegalaxy.com/schools/137/teams/49934/games/42936
END:VEVENT
END:VCALENDAR
