BEGIN:VCALENDAR
VERSION:2.0
PRODID:icalendar-ruby
CALSCALE:GREGORIAN
METHOD:PUBLISH
BEGIN:VTIMEZONE
TZID:America/New_York
BEGIN:DAYLIGHT
DTSTART:20190310T030000
TZOFFSETFROM:-0500
TZOFFSETTO:-0400
RRULE:FREQ=YEARLY;BYDAY=2SU;BYMONTH=3
TZNAME:EDT
END:DAYLIGHT
BEGIN:STANDARD
DTSTART:20181104T010000
TZOFFSETFROM:-0400
TZOFFSETTO:-0500
RRULE:FREQ=YEARLY;BYDAY=1SU;BYMONTH=11
TZNAME:EST
END:STANDARD
END:VTIMEZONE
BEGIN:VTIMEZONE
TZID:America/New_York
BEGIN:DAYLIGHT
DTSTART:20190310T030000
TZOFFSETFROM:-0500
TZOFFSETTO:-0400
RRULE:FREQ=YEARLY;BYDAY=2SU;BYMONTH=3
TZNAME:EDT
END:DAYLIGHT
BEGIN:STANDARD
DTSTART:20181104T010000
TZOFFSETFROM:-0400
TZOFFSETTO:-0500
RRULE:FREQ=YEARLY;BYDAY=1SU;BYMONTH=11
TZNAME:EST
END:STANDARD
END:VTIMEZONE
BEGIN:VTIMEZONE
TZID:America/New_York
BEGIN:DAYLIGHT
DTSTART:20190310T030000
TZOFFSETFROM:-0500
TZOFFSETTO:-0400
RRULE:FREQ=YEARLY;BYDAY=2SU;BYMONTH=3
TZNAME:EDT
END:DAYLIGHT
BEGIN:STANDARD
DTSTART:20181104T010000
TZOFFSETFROM:-0400
TZOFFSETTO:-0500
RRULE:FREQ=YEARLY;BYDAY=1SU;BYMONTH=11
TZNAME:EST
END:STANDARD
END:VTIMEZONE
BEGIN:VTIMEZONE
TZID:America/New_York
BEGIN:DAYLIGHT
DTSTART:20190310T030000
TZOFFSETFROM:-0500
TZOFFSETTO:-0400
RRULE:FREQ=YEARLY;BYDAY=2SU;BYMONTH=3
TZNAME:EDT
END:DAYLIGHT
BEGIN:STANDARD
DTSTART:20181104T010000
TZOFFSETFROM:-0400
TZOFFSETTO:-0500
RRULE:FREQ=YEARLY;BYDAY=1SU;BYMONTH=11
TZNAME:EST
END:STANDARD
END:VTIMEZONE
BEGIN:VTIMEZONE
TZID:America/New_York
BEGIN:DAYLIGHT
DTSTART:20190310T030000
TZOFFSETFROM:-0500
TZOFFSETTO:-0400
RRULE:FREQ=YEARLY;BYDAY=2SU;BYMONTH=3
TZNAME:EDT
END:DAYLIGHT
BEGIN:STANDARD
DTSTART:20181104T010000
TZOFFSETFROM:-0400
TZOFFSETTO:-0500
RRULE:FREQ=YEARLY;BYDAY=1SU;BYMONTH=11
TZNAME:EST
END:STANDARD
END:VTIMEZONE
BEGIN:VEVENT
DTSTAMP:20260421T105615Z
UID:https://www.schedulegalaxy.com/schools/133/teams/48421/games/159227
DTSTART;TZID=America/New_York:20181129T190000
CREATED;TZID=America/New_York:20180615T124627
LAST-MODIFIED;TZID=America/New_York:20180615T125621
LOCATION:Roxbury School
SUMMARY:Boys Varsity Basketball v. Charlotte Valley
URL:https://www.schedulegalaxy.com/schools/133/teams/48421/games/159227
END:VEVENT
BEGIN:VEVENT
DTSTAMP:20260421T105615Z
UID:https://www.schedulegalaxy.com/schools/133/teams/48421/games/159241
DTSTART;TZID=America/New_York:20190116T190000
CREATED;TZID=America/New_York:20180615T125048
LAST-MODIFIED;TZID=America/New_York:20180615T130200
LOCATION:CVCS O'Connor Gym
SUMMARY:Boys (Gilboa Conesville/Roxbury) Varsity Basketball @ Charlotte Val
 ley
URL:https://www.schedulegalaxy.com/schools/133/teams/48421/games/159241
END:VEVENT
BEGIN:VEVENT
DTSTAMP:20260421T105615Z
UID:https://www.schedulegalaxy.com/schools/133/teams/48421/games/193848
DTSTART;TZID=America/New_York:20181227T170000
DTEND;TZID=America/New_York:20181227T190000
CREATED;TZID=America/New_York:20181010T085659
LAST-MODIFIED;TZID=America/New_York:20190103T103201
LOCATION:Oneonta Boy's &  Girl's Club
SUMMARY:Boys Varsity Basketball @ Gilbertsville-Mount Upton
URL:https://www.schedulegalaxy.com/schools/133/teams/48421/games/193848
END:VEVENT
BEGIN:VEVENT
DTSTAMP:20260421T105615Z
UID:https://www.schedulegalaxy.com/schools/133/teams/48421/games/198653
DTSTART;TZID=America/New_York:20181228T190000
CREATED;TZID=America/New_York:20181019T083136
LAST-MODIFIED;TZID=America/New_York:20181228T094407
LOCATION:
SUMMARY:Boys Varsity Basketball @ Milford
URL:https://www.schedulegalaxy.com/schools/133/teams/48421/games/198653
END:VEVENT
BEGIN:VEVENT
DTSTAMP:20260421T105615Z
UID:https://www.schedulegalaxy.com/schools/133/teams/48421/games/236805
DTSTART;TZID=America/New_York:20190211T190000
CREATED;TZID=America/New_York:20190208T222005
LAST-MODIFIED;TZID=America/New_York:20190209T172234
LOCATION:CVCS O'Connor Gym
SUMMARY:Boys Varsity Basketball @ Charlotte Valley
URL:https://www.schedulegalaxy.com/schools/133/teams/48421/games/236805
END:VEVENT
END:VCALENDAR
