BEGIN:VCALENDAR
VERSION:2.0
PRODID:icalendar-ruby
CALSCALE:GREGORIAN
METHOD:PUBLISH
BEGIN:VTIMEZONE
TZID:America/New_York
BEGIN:DAYLIGHT
DTSTART:20260308T030000
TZOFFSETFROM:-0500
TZOFFSETTO:-0400
RRULE:FREQ=YEARLY;BYDAY=2SU;BYMONTH=3
TZNAME:EDT
END:DAYLIGHT
BEGIN:STANDARD
DTSTART:20251102T010000
TZOFFSETFROM:-0400
TZOFFSETTO:-0500
RRULE:FREQ=YEARLY;BYDAY=1SU;BYMONTH=11
TZNAME:EST
END:STANDARD
END:VTIMEZONE
BEGIN:VTIMEZONE
TZID:America/New_York
BEGIN:DAYLIGHT
DTSTART:20260308T030000
TZOFFSETFROM:-0500
TZOFFSETTO:-0400
RRULE:FREQ=YEARLY;BYDAY=2SU;BYMONTH=3
TZNAME:EDT
END:DAYLIGHT
BEGIN:STANDARD
DTSTART:20251102T010000
TZOFFSETFROM:-0400
TZOFFSETTO:-0500
RRULE:FREQ=YEARLY;BYDAY=1SU;BYMONTH=11
TZNAME:EST
END:STANDARD
END:VTIMEZONE
BEGIN:VTIMEZONE
TZID:America/New_York
BEGIN:DAYLIGHT
DTSTART:20260308T030000
TZOFFSETFROM:-0500
TZOFFSETTO:-0400
RRULE:FREQ=YEARLY;BYDAY=2SU;BYMONTH=3
TZNAME:EDT
END:DAYLIGHT
BEGIN:STANDARD
DTSTART:20251102T010000
TZOFFSETFROM:-0400
TZOFFSETTO:-0500
RRULE:FREQ=YEARLY;BYDAY=1SU;BYMONTH=11
TZNAME:EST
END:STANDARD
END:VTIMEZONE
BEGIN:VTIMEZONE
TZID:America/New_York
BEGIN:DAYLIGHT
DTSTART:20260308T030000
TZOFFSETFROM:-0500
TZOFFSETTO:-0400
RRULE:FREQ=YEARLY;BYDAY=2SU;BYMONTH=3
TZNAME:EDT
END:DAYLIGHT
BEGIN:STANDARD
DTSTART:20251102T010000
TZOFFSETFROM:-0400
TZOFFSETTO:-0500
RRULE:FREQ=YEARLY;BYDAY=1SU;BYMONTH=11
TZNAME:EST
END:STANDARD
END:VTIMEZONE
BEGIN:VTIMEZONE
TZID:America/New_York
BEGIN:DAYLIGHT
DTSTART:20260308T030000
TZOFFSETFROM:-0500
TZOFFSETTO:-0400
RRULE:FREQ=YEARLY;BYDAY=2SU;BYMONTH=3
TZNAME:EDT
END:DAYLIGHT
BEGIN:STANDARD
DTSTART:20251102T010000
TZOFFSETFROM:-0400
TZOFFSETTO:-0500
RRULE:FREQ=YEARLY;BYDAY=1SU;BYMONTH=11
TZNAME:EST
END:STANDARD
END:VTIMEZONE
BEGIN:VTIMEZONE
TZID:America/New_York
BEGIN:DAYLIGHT
DTSTART:20260308T030000
TZOFFSETFROM:-0500
TZOFFSETTO:-0400
RRULE:FREQ=YEARLY;BYDAY=2SU;BYMONTH=3
TZNAME:EDT
END:DAYLIGHT
BEGIN:STANDARD
DTSTART:20251102T010000
TZOFFSETFROM:-0400
TZOFFSETTO:-0500
RRULE:FREQ=YEARLY;BYDAY=1SU;BYMONTH=11
TZNAME:EST
END:STANDARD
END:VTIMEZONE
BEGIN:VTIMEZONE
TZID:America/New_York
BEGIN:DAYLIGHT
DTSTART:20250309T030000
TZOFFSETFROM:-0500
TZOFFSETTO:-0400
RRULE:FREQ=YEARLY;BYDAY=2SU;BYMONTH=3
TZNAME:EDT
END:DAYLIGHT
BEGIN:STANDARD
DTSTART:20251102T010000
TZOFFSETFROM:-0400
TZOFFSETTO:-0500
RRULE:FREQ=YEARLY;BYDAY=1SU;BYMONTH=11
TZNAME:EST
END:STANDARD
END:VTIMEZONE
BEGIN:VTIMEZONE
TZID:America/New_York
BEGIN:DAYLIGHT
DTSTART:20260308T030000
TZOFFSETFROM:-0500
TZOFFSETTO:-0400
RRULE:FREQ=YEARLY;BYDAY=2SU;BYMONTH=3
TZNAME:EDT
END:DAYLIGHT
BEGIN:STANDARD
DTSTART:20251102T010000
TZOFFSETFROM:-0400
TZOFFSETTO:-0500
RRULE:FREQ=YEARLY;BYDAY=1SU;BYMONTH=11
TZNAME:EST
END:STANDARD
END:VTIMEZONE
BEGIN:VTIMEZONE
TZID:America/New_York
BEGIN:DAYLIGHT
DTSTART:20260308T030000
TZOFFSETFROM:-0500
TZOFFSETTO:-0400
RRULE:FREQ=YEARLY;BYDAY=2SU;BYMONTH=3
TZNAME:EDT
END:DAYLIGHT
BEGIN:STANDARD
DTSTART:20251102T010000
TZOFFSETFROM:-0400
TZOFFSETTO:-0500
RRULE:FREQ=YEARLY;BYDAY=1SU;BYMONTH=11
TZNAME:EST
END:STANDARD
END:VTIMEZONE
BEGIN:VTIMEZONE
TZID:America/New_York
BEGIN:DAYLIGHT
DTSTART:20260308T030000
TZOFFSETFROM:-0500
TZOFFSETTO:-0400
RRULE:FREQ=YEARLY;BYDAY=2SU;BYMONTH=3
TZNAME:EDT
END:DAYLIGHT
BEGIN:STANDARD
DTSTART:20251102T010000
TZOFFSETFROM:-0400
TZOFFSETTO:-0500
RRULE:FREQ=YEARLY;BYDAY=1SU;BYMONTH=11
TZNAME:EST
END:STANDARD
END:VTIMEZONE
BEGIN:VTIMEZONE
TZID:America/New_York
BEGIN:DAYLIGHT
DTSTART:20260308T030000
TZOFFSETFROM:-0500
TZOFFSETTO:-0400
RRULE:FREQ=YEARLY;BYDAY=2SU;BYMONTH=3
TZNAME:EDT
END:DAYLIGHT
BEGIN:STANDARD
DTSTART:20251102T010000
TZOFFSETFROM:-0400
TZOFFSETTO:-0500
RRULE:FREQ=YEARLY;BYDAY=1SU;BYMONTH=11
TZNAME:EST
END:STANDARD
END:VTIMEZONE
BEGIN:VTIMEZONE
TZID:America/New_York
BEGIN:DAYLIGHT
DTSTART:20260308T030000
TZOFFSETFROM:-0500
TZOFFSETTO:-0400
RRULE:FREQ=YEARLY;BYDAY=2SU;BYMONTH=3
TZNAME:EDT
END:DAYLIGHT
BEGIN:STANDARD
DTSTART:20251102T010000
TZOFFSETFROM:-0400
TZOFFSETTO:-0500
RRULE:FREQ=YEARLY;BYDAY=1SU;BYMONTH=11
TZNAME:EST
END:STANDARD
END:VTIMEZONE
BEGIN:VTIMEZONE
TZID:America/New_York
BEGIN:DAYLIGHT
DTSTART:20260308T030000
TZOFFSETFROM:-0500
TZOFFSETTO:-0400
RRULE:FREQ=YEARLY;BYDAY=2SU;BYMONTH=3
TZNAME:EDT
END:DAYLIGHT
BEGIN:STANDARD
DTSTART:20251102T010000
TZOFFSETFROM:-0400
TZOFFSETTO:-0500
RRULE:FREQ=YEARLY;BYDAY=1SU;BYMONTH=11
TZNAME:EST
END:STANDARD
END:VTIMEZONE
BEGIN:VTIMEZONE
TZID:America/New_York
BEGIN:DAYLIGHT
DTSTART:20260308T030000
TZOFFSETFROM:-0500
TZOFFSETTO:-0400
RRULE:FREQ=YEARLY;BYDAY=2SU;BYMONTH=3
TZNAME:EDT
END:DAYLIGHT
BEGIN:STANDARD
DTSTART:20251102T010000
TZOFFSETFROM:-0400
TZOFFSETTO:-0500
RRULE:FREQ=YEARLY;BYDAY=1SU;BYMONTH=11
TZNAME:EST
END:STANDARD
END:VTIMEZONE
BEGIN:VTIMEZONE
TZID:America/New_York
BEGIN:DAYLIGHT
DTSTART:20260308T030000
TZOFFSETFROM:-0500
TZOFFSETTO:-0400
RRULE:FREQ=YEARLY;BYDAY=2SU;BYMONTH=3
TZNAME:EDT
END:DAYLIGHT
BEGIN:STANDARD
DTSTART:20251102T010000
TZOFFSETFROM:-0400
TZOFFSETTO:-0500
RRULE:FREQ=YEARLY;BYDAY=1SU;BYMONTH=11
TZNAME:EST
END:STANDARD
END:VTIMEZONE
BEGIN:VTIMEZONE
TZID:America/New_York
BEGIN:DAYLIGHT
DTSTART:20260308T030000
TZOFFSETFROM:-0500
TZOFFSETTO:-0400
RRULE:FREQ=YEARLY;BYDAY=2SU;BYMONTH=3
TZNAME:EDT
END:DAYLIGHT
BEGIN:STANDARD
DTSTART:20251102T010000
TZOFFSETFROM:-0400
TZOFFSETTO:-0500
RRULE:FREQ=YEARLY;BYDAY=1SU;BYMONTH=11
TZNAME:EST
END:STANDARD
END:VTIMEZONE
BEGIN:VTIMEZONE
TZID:America/New_York
BEGIN:DAYLIGHT
DTSTART:20260308T030000
TZOFFSETFROM:-0500
TZOFFSETTO:-0400
RRULE:FREQ=YEARLY;BYDAY=2SU;BYMONTH=3
TZNAME:EDT
END:DAYLIGHT
BEGIN:STANDARD
DTSTART:20251102T010000
TZOFFSETFROM:-0400
TZOFFSETTO:-0500
RRULE:FREQ=YEARLY;BYDAY=1SU;BYMONTH=11
TZNAME:EST
END:STANDARD
END:VTIMEZONE
BEGIN:VTIMEZONE
TZID:America/New_York
BEGIN:DAYLIGHT
DTSTART:20260308T030000
TZOFFSETFROM:-0500
TZOFFSETTO:-0400
RRULE:FREQ=YEARLY;BYDAY=2SU;BYMONTH=3
TZNAME:EDT
END:DAYLIGHT
BEGIN:STANDARD
DTSTART:20251102T010000
TZOFFSETFROM:-0400
TZOFFSETTO:-0500
RRULE:FREQ=YEARLY;BYDAY=1SU;BYMONTH=11
TZNAME:EST
END:STANDARD
END:VTIMEZONE
BEGIN:VTIMEZONE
TZID:America/New_York
BEGIN:DAYLIGHT
DTSTART:20260308T030000
TZOFFSETFROM:-0500
TZOFFSETTO:-0400
RRULE:FREQ=YEARLY;BYDAY=2SU;BYMONTH=3
TZNAME:EDT
END:DAYLIGHT
BEGIN:STANDARD
DTSTART:20251102T010000
TZOFFSETFROM:-0400
TZOFFSETTO:-0500
RRULE:FREQ=YEARLY;BYDAY=1SU;BYMONTH=11
TZNAME:EST
END:STANDARD
END:VTIMEZONE
BEGIN:VTIMEZONE
TZID:America/New_York
BEGIN:DAYLIGHT
DTSTART:20260308T030000
TZOFFSETFROM:-0500
TZOFFSETTO:-0400
RRULE:FREQ=YEARLY;BYDAY=2SU;BYMONTH=3
TZNAME:EDT
END:DAYLIGHT
BEGIN:STANDARD
DTSTART:20251102T010000
TZOFFSETFROM:-0400
TZOFFSETTO:-0500
RRULE:FREQ=YEARLY;BYDAY=1SU;BYMONTH=11
TZNAME:EST
END:STANDARD
END:VTIMEZONE
BEGIN:VTIMEZONE
TZID:America/New_York
BEGIN:DAYLIGHT
DTSTART:20260308T030000
TZOFFSETFROM:-0500
TZOFFSETTO:-0400
RRULE:FREQ=YEARLY;BYDAY=2SU;BYMONTH=3
TZNAME:EDT
END:DAYLIGHT
BEGIN:STANDARD
DTSTART:20251102T010000
TZOFFSETFROM:-0400
TZOFFSETTO:-0500
RRULE:FREQ=YEARLY;BYDAY=1SU;BYMONTH=11
TZNAME:EST
END:STANDARD
END:VTIMEZONE
BEGIN:VTIMEZONE
TZID:America/New_York
BEGIN:DAYLIGHT
DTSTART:20260308T030000
TZOFFSETFROM:-0500
TZOFFSETTO:-0400
RRULE:FREQ=YEARLY;BYDAY=2SU;BYMONTH=3
TZNAME:EDT
END:DAYLIGHT
BEGIN:STANDARD
DTSTART:20251102T010000
TZOFFSETFROM:-0400
TZOFFSETTO:-0500
RRULE:FREQ=YEARLY;BYDAY=1SU;BYMONTH=11
TZNAME:EST
END:STANDARD
END:VTIMEZONE
BEGIN:VTIMEZONE
TZID:America/New_York
BEGIN:DAYLIGHT
DTSTART:20260308T030000
TZOFFSETFROM:-0500
TZOFFSETTO:-0400
RRULE:FREQ=YEARLY;BYDAY=2SU;BYMONTH=3
TZNAME:EDT
END:DAYLIGHT
BEGIN:STANDARD
DTSTART:20251102T010000
TZOFFSETFROM:-0400
TZOFFSETTO:-0500
RRULE:FREQ=YEARLY;BYDAY=1SU;BYMONTH=11
TZNAME:EST
END:STANDARD
END:VTIMEZONE
BEGIN:VTIMEZONE
TZID:America/New_York
BEGIN:DAYLIGHT
DTSTART:20260308T030000
TZOFFSETFROM:-0500
TZOFFSETTO:-0400
RRULE:FREQ=YEARLY;BYDAY=2SU;BYMONTH=3
TZNAME:EDT
END:DAYLIGHT
BEGIN:STANDARD
DTSTART:20251102T010000
TZOFFSETFROM:-0400
TZOFFSETTO:-0500
RRULE:FREQ=YEARLY;BYDAY=1SU;BYMONTH=11
TZNAME:EST
END:STANDARD
END:VTIMEZONE
BEGIN:VEVENT
DTSTAMP:20260422T063042Z
UID:https://www.schedulegalaxy.com/schools/13/teams/3214/games/1301497
DTSTART;TZID=America/New_York:20251203T163000
CREATED;TZID=America/New_York:20250513T115930
LAST-MODIFIED;TZID=America/New_York:20251202T111637
LOCATION:WG-Shove Park Ice Rink
SUMMARY:Boys Varsity Ice Hockey v. Skaneateles
URL:https://www.schedulegalaxy.com/schools/13/teams/3214/games/1301497
END:VEVENT
BEGIN:VEVENT
DTSTAMP:20260422T063042Z
UID:https://www.schedulegalaxy.com/schools/13/teams/3214/games/1314459
DTSTART;TZID=America/New_York:20251218T183000
CREATED;TZID=America/New_York:20250610T153612
LAST-MODIFIED;TZID=America/New_York:20250610T154027
LOCATION:WG-Shove Park Ice Rink
SUMMARY:Boys Varsity Ice Hockey @ West Genesee
URL:https://www.schedulegalaxy.com/schools/13/teams/3214/games/1314459
END:VEVENT
BEGIN:VEVENT
DTSTAMP:20260422T063042Z
UID:https://www.schedulegalaxy.com/schools/13/teams/3214/games/1318237
DTSTART;TZID=America/New_York:20260108T193000
CREATED;TZID=America/New_York:20250618T092843
LAST-MODIFIED;TZID=America/New_York:20250708T082922
LOCATION:Haldane Center
SUMMARY:Boys Varsity Ice Hockey @ Pulaski (Ontario Bay)
URL:https://www.schedulegalaxy.com/schools/13/teams/3214/games/1318237
END:VEVENT
BEGIN:VEVENT
DTSTAMP:20260422T063042Z
UID:https://www.schedulegalaxy.com/schools/13/teams/3214/games/1318623
DTSTART;TZID=America/New_York:20251216T184500
DTEND;TZID=America/New_York:20251216T204500
CREATED;TZID=America/New_York:20250618T143948
LAST-MODIFIED;TZID=America/New_York:20250918T141702
LOCATION:Bville - Three Rivers Athletic Complex (TRAC)
SUMMARY:Boys Varsity Ice Hockey @ Baldwinsville
URL:https://www.schedulegalaxy.com/schools/13/teams/3214/games/1318623
END:VEVENT
BEGIN:VEVENT
DTSTAMP:20260422T063042Z
UID:https://www.schedulegalaxy.com/schools/13/teams/3214/games/1337162
DTSTART;TZID=America/New_York:20260103T120000
DTEND;TZID=America/New_York:20260103T140000
CREATED;TZID=America/New_York:20250804T132905
LAST-MODIFIED;TZID=America/New_York:20260102T083308
LOCATION:Meachem Ice Rink
SUMMARY:Boys Varsity Ice Hockey @ Syracuse City (Syracuse City)
URL:https://www.schedulegalaxy.com/schools/13/teams/3214/games/1337162
END:VEVENT
BEGIN:VEVENT
DTSTAMP:20260422T063042Z
UID:https://www.schedulegalaxy.com/schools/13/teams/3214/games/1366721
DTSTART;TZID=America/New_York:20260120T193500
CREATED;TZID=America/New_York:20250915T144503
LAST-MODIFIED;TZID=America/New_York:20250915T144503
LOCATION:MACC Cicero Twin Rinks
SUMMARY:Boys Varsity Ice Hockey v. Cazenovia (Caz/ME/Ham)
URL:https://www.schedulegalaxy.com/schools/13/teams/3214/games/1366721
END:VEVENT
BEGIN:VEVENT
DTSTAMP:20260422T063042Z
UID:https://www.schedulegalaxy.com/schools/13/teams/3367/games/1372075
DTSTART;TZID=America/New_York:20251030T170000
CREATED;TZID=America/New_York:20250923T132535
LAST-MODIFIED;TZID=America/New_York:20250923T132555
LOCATION:Homer High School
SUMMARY:Girls Varsity Volleyball @ Homer
URL:https://www.schedulegalaxy.com/schools/13/teams/3367/games/1372075
END:VEVENT
BEGIN:VEVENT
DTSTAMP:20260422T063042Z
UID:https://www.schedulegalaxy.com/schools/13/teams/3214/games/1372410
DTSTART;TZID=America/New_York:20260121T193500
DTEND;TZID=America/New_York:20260121T213500
CREATED;TZID=America/New_York:20250924T053335
LAST-MODIFIED;TZID=America/New_York:20250924T053343
LOCATION:CNS-Cicero Twin Ice Rink
SUMMARY:Boys Varsity Ice Hockey @ Cicero-North Syracuse
URL:https://www.schedulegalaxy.com/schools/13/teams/3214/games/1372410
END:VEVENT
BEGIN:VEVENT
DTSTAMP:20260422T063042Z
UID:https://www.schedulegalaxy.com/schools/13/teams/3214/games/1372519
DTSTART;TZID=America/New_York:20260127T193500
CREATED;TZID=America/New_York:20250924T093043
LAST-MODIFIED;TZID=America/New_York:20260128T134353
LOCATION:MACC Cicero Twin Rinks
SUMMARY:Boys Varsity Ice Hockey v. Ithaca
URL:https://www.schedulegalaxy.com/schools/13/teams/3214/games/1372519
END:VEVENT
BEGIN:VEVENT
DTSTAMP:20260422T063042Z
UID:https://www.schedulegalaxy.com/schools/13/teams/3214/games/1372522
DTSTART;TZID=America/New_York:20251205T194500
CREATED;TZID=America/New_York:20250924T093241
LAST-MODIFIED;TZID=America/New_York:20250924T093241
LOCATION:MACC Cicero Twin Rinks
SUMMARY:Boys Varsity Ice Hockey v. Saranac
URL:https://www.schedulegalaxy.com/schools/13/teams/3214/games/1372522
END:VEVENT
BEGIN:VEVENT
DTSTAMP:20260422T063042Z
UID:https://www.schedulegalaxy.com/schools/13/teams/3214/games/1372527
DTSTART;TZID=America/New_York:20251206T104500
CREATED;TZID=America/New_York:20250924T093414
LAST-MODIFIED;TZID=America/New_York:20251015T111810
LOCATION:MACC Cicero Twin Rinks
SUMMARY:Boys Varsity Ice Hockey v. Bethlehem High School
URL:https://www.schedulegalaxy.com/schools/13/teams/3214/games/1372527
END:VEVENT
BEGIN:VEVENT
DTSTAMP:20260422T063042Z
UID:https://www.schedulegalaxy.com/schools/13/teams/3214/games/1372528
DTSTART;TZID=America/New_York:20251128T170000
CREATED;TZID=America/New_York:20250924T093458
LAST-MODIFIED;TZID=America/New_York:20250924T093458
LOCATION:MACC Cicero Twin Rinks
SUMMARY:Boys Varsity Ice Hockey v. Auburn
URL:https://www.schedulegalaxy.com/schools/13/teams/3214/games/1372528
END:VEVENT
BEGIN:VEVENT
DTSTAMP:20260422T063042Z
UID:https://www.schedulegalaxy.com/schools/13/teams/3214/games/1372558
DTSTART;TZID=America/New_York:20260102T191500
CREATED;TZID=America/New_York:20250924T094044
LAST-MODIFIED;TZID=America/New_York:20250924T094044
LOCATION:MACC Cicero Twin Rinks
SUMMARY:Boys Varsity Ice Hockey v. Iroquois
URL:https://www.schedulegalaxy.com/schools/13/teams/3214/games/1372558
END:VEVENT
BEGIN:VEVENT
DTSTAMP:20260422T063042Z
UID:https://www.schedulegalaxy.com/schools/13/teams/3214/games/1372562
DTSTART;TZID=America/New_York:20260113T193500
CREATED;TZID=America/New_York:20250924T094143
LAST-MODIFIED;TZID=America/New_York:20260107T153653
LOCATION:MACC Cicero Twin Rinks
SUMMARY:Boys Varsity Ice Hockey v. Rome Free Academy
URL:https://www.schedulegalaxy.com/schools/13/teams/3214/games/1372562
END:VEVENT
BEGIN:VEVENT
DTSTAMP:20260422T063042Z
UID:https://www.schedulegalaxy.com/schools/13/teams/3214/games/1372567
DTSTART;TZID=America/New_York:20260130T183000
CREATED;TZID=America/New_York:20250924T094250
LAST-MODIFIED;TZID=America/New_York:20260129T142343
LOCATION:MACC Cicero Twin Rinks
SUMMARY:Boys Varsity Ice Hockey v. Cicero-North Syracuse
URL:https://www.schedulegalaxy.com/schools/13/teams/3214/games/1372567
END:VEVENT
BEGIN:VEVENT
DTSTAMP:20260422T063042Z
UID:https://www.schedulegalaxy.com/schools/13/teams/3214/games/1372568
DTSTART;TZID=America/New_York:20260203T193500
CREATED;TZID=America/New_York:20250924T094315
LAST-MODIFIED;TZID=America/New_York:20250924T094518
LOCATION:MACC Cicero Twin Rinks
SUMMARY:Boys Varsity Ice Hockey v. Utica Proctor (Mohawk Valley)
URL:https://www.schedulegalaxy.com/schools/13/teams/3214/games/1372568
END:VEVENT
BEGIN:VEVENT
DTSTAMP:20260422T063042Z
UID:https://www.schedulegalaxy.com/schools/13/teams/3214/games/1384829
DTSTART;TZID=America/New_York:20260124T110000
CREATED;TZID=America/New_York:20251015T112300
LAST-MODIFIED;TZID=America/New_York:20251015T112500
LOCATION:Tsha’ Hoñ’noñyeñ’dakhwa’ - Onondaga Nation Arena
SUMMARY:Boys Varsity Ice Hockey v. Northern Adirondack
URL:https://www.schedulegalaxy.com/schools/13/teams/3214/games/1384829
END:VEVENT
BEGIN:VEVENT
DTSTAMP:20260422T063042Z
UID:https://www.schedulegalaxy.com/schools/13/teams/3214/games/1384834
DTSTART;TZID=America/New_York:20260202T191500
CREATED;TZID=America/New_York:20251015T112845
LAST-MODIFIED;TZID=America/New_York:20260202T105458
LOCATION:Watertown Fairgounds Arena
SUMMARY:Boys Varsity Ice Hockey @ Immaculate Heart Central\, Watertown
URL:https://www.schedulegalaxy.com/schools/13/teams/3214/games/1384834
END:VEVENT
BEGIN:VEVENT
DTSTAMP:20260422T063042Z
UID:https://www.schedulegalaxy.com/schools/13/teams/3214/games/1384839
DTSTART;TZID=America/New_York:20260117T110000
CREATED;TZID=America/New_York:20251015T113133
LAST-MODIFIED;TZID=America/New_York:20251015T113143
LOCATION:
SUMMARY:Boys Varsity Ice Hockey v. TBD
URL:https://www.schedulegalaxy.com/schools/13/teams/3214/games/1384839
END:VEVENT
BEGIN:VEVENT
DTSTAMP:20260422T063042Z
UID:https://www.schedulegalaxy.com/schools/13/teams/3214/games/1384841
DTSTART;TZID=America/New_York:20260106T180000
CREATED;TZID=America/New_York:20251015T113325
LAST-MODIFIED;TZID=America/New_York:20251015T113325
LOCATION:Fulton Ice Rink
SUMMARY:Boys Varsity Ice Hockey @ Fulton
URL:https://www.schedulegalaxy.com/schools/13/teams/3214/games/1384841
END:VEVENT
BEGIN:VEVENT
DTSTAMP:20260422T063042Z
UID:https://www.schedulegalaxy.com/schools/13/teams/3214/games/1402380
DTSTART;TZID=America/New_York:20260116T170000
CREATED;TZID=America/New_York:20251110T150108
LAST-MODIFIED;TZID=America/New_York:20251110T150404
LOCATION:Cerow Rec Park - Ice Arena
SUMMARY:Boys Varsity Ice Hockey v. Thousand Islands (Islanders)\, Sweet Hom
 e
URL:https://www.schedulegalaxy.com/schools/13/teams/3214/games/1402380
END:VEVENT
BEGIN:VEVENT
DTSTAMP:20260422T063042Z
UID:https://www.schedulegalaxy.com/schools/13/teams/3214/games/1448799
DTSTART;TZID=America/New_York:20260206T171500
DTEND;TZID=America/New_York:20260206T191500
CREATED;TZID=America/New_York:20260202T132602
LAST-MODIFIED;TZID=America/New_York:20260202T132629
LOCATION:Bville - Three Rivers Athletic Complex (TRAC)
SUMMARY:Boys Varsity Ice Hockey @ Baldwinsville
URL:https://www.schedulegalaxy.com/schools/13/teams/3214/games/1448799
END:VEVENT
BEGIN:VEVENT
DTSTAMP:20260422T063042Z
UID:https://www.schedulegalaxy.com/schools/13/teams/3214/games/1452315
DTSTART;TZID=America/New_York:20260211T193500
DTEND;TZID=America/New_York:20260211T214500
CREATED;TZID=America/New_York:20260209T081109
LAST-MODIFIED;TZID=America/New_York:20260226T123909
LOCATION:MACC Cicero Twin Rinks
SUMMARY:Boys Varsity Ice Hockey v. Utica Proctor (Mohawk Valley)
URL:https://www.schedulegalaxy.com/schools/13/teams/3214/games/1452315
END:VEVENT
BEGIN:VEVENT
DTSTAMP:20260422T063042Z
UID:https://www.schedulegalaxy.com/schools/13/teams/3214/games/1455777
DTSTART;TZID=America/New_York:20260219T190000
CREATED;TZID=America/New_York:20260213T122236
LAST-MODIFIED;TZID=America/New_York:20260213T122304
LOCATION:JFK Ice Hockey Arena
SUMMARY:Boys Varsity Ice Hockey @ Rome Free Academy
URL:https://www.schedulegalaxy.com/schools/13/teams/3214/games/1455777
END:VEVENT
END:VCALENDAR
