BEGIN:VCALENDAR
VERSION:2.0
PRODID:icalendar-ruby
CALSCALE:GREGORIAN
METHOD:PUBLISH
BEGIN:VTIMEZONE
TZID:America/New_York
BEGIN:DAYLIGHT
DTSTART:20170312T030000
TZOFFSETFROM:-0500
TZOFFSETTO:-0400
RRULE:FREQ=YEARLY;BYDAY=2SU;BYMONTH=3
TZNAME:EDT
END:DAYLIGHT
BEGIN:STANDARD
DTSTART:20171105T010000
TZOFFSETFROM:-0400
TZOFFSETTO:-0500
RRULE:FREQ=YEARLY;BYDAY=1SU;BYMONTH=11
TZNAME:EST
END:STANDARD
END:VTIMEZONE
BEGIN:VEVENT
DTSTAMP:20260424T110642Z
UID:https://www.schedulegalaxy.com/schools/114/teams/41221/games/60140
DTSTART;TZID=America/New_York:20170519T163000
CREATED;TZID=America/New_York:20170516T084235
LAST-MODIFIED;TZID=America/New_York:20170516T084249
LOCATION:High School Baseball Field
SUMMARY:Boys (Harpursville / Afton) Varsity Baseball @ Moravia
URL:https://www.schedulegalaxy.com/schools/114/teams/41221/games/60140
END:VEVENT
END:VCALENDAR
