BEGIN:VCALENDAR
VERSION:2.0
PRODID:icalendar-ruby
CALSCALE:GREGORIAN
METHOD:PUBLISH
BEGIN:VTIMEZONE
TZID:America/New_York
BEGIN:DAYLIGHT
DTSTART:20250309T030000
TZOFFSETFROM:-0500
TZOFFSETTO:-0400
RRULE:FREQ=YEARLY;BYDAY=2SU;BYMONTH=3
TZNAME:EDT
END:DAYLIGHT
BEGIN:STANDARD
DTSTART:20251102T010000
TZOFFSETFROM:-0400
TZOFFSETTO:-0500
RRULE:FREQ=YEARLY;BYDAY=1SU;BYMONTH=11
TZNAME:EST
END:STANDARD
END:VTIMEZONE
BEGIN:VTIMEZONE
TZID:America/New_York
BEGIN:DAYLIGHT
DTSTART:20250309T030000
TZOFFSETFROM:-0500
TZOFFSETTO:-0400
RRULE:FREQ=YEARLY;BYDAY=2SU;BYMONTH=3
TZNAME:EDT
END:DAYLIGHT
BEGIN:STANDARD
DTSTART:20251102T010000
TZOFFSETFROM:-0400
TZOFFSETTO:-0500
RRULE:FREQ=YEARLY;BYDAY=1SU;BYMONTH=11
TZNAME:EST
END:STANDARD
END:VTIMEZONE
BEGIN:VTIMEZONE
TZID:America/New_York
BEGIN:DAYLIGHT
DTSTART:20250309T030000
TZOFFSETFROM:-0500
TZOFFSETTO:-0400
RRULE:FREQ=YEARLY;BYDAY=2SU;BYMONTH=3
TZNAME:EDT
END:DAYLIGHT
BEGIN:STANDARD
DTSTART:20251102T010000
TZOFFSETFROM:-0400
TZOFFSETTO:-0500
RRULE:FREQ=YEARLY;BYDAY=1SU;BYMONTH=11
TZNAME:EST
END:STANDARD
END:VTIMEZONE
BEGIN:VTIMEZONE
TZID:America/New_York
BEGIN:DAYLIGHT
DTSTART:20250309T030000
TZOFFSETFROM:-0500
TZOFFSETTO:-0400
RRULE:FREQ=YEARLY;BYDAY=2SU;BYMONTH=3
TZNAME:EDT
END:DAYLIGHT
BEGIN:STANDARD
DTSTART:20251102T010000
TZOFFSETFROM:-0400
TZOFFSETTO:-0500
RRULE:FREQ=YEARLY;BYDAY=1SU;BYMONTH=11
TZNAME:EST
END:STANDARD
END:VTIMEZONE
BEGIN:VTIMEZONE
TZID:America/New_York
BEGIN:DAYLIGHT
DTSTART:20250309T030000
TZOFFSETFROM:-0500
TZOFFSETTO:-0400
RRULE:FREQ=YEARLY;BYDAY=2SU;BYMONTH=3
TZNAME:EDT
END:DAYLIGHT
BEGIN:STANDARD
DTSTART:20251102T010000
TZOFFSETFROM:-0400
TZOFFSETTO:-0500
RRULE:FREQ=YEARLY;BYDAY=1SU;BYMONTH=11
TZNAME:EST
END:STANDARD
END:VTIMEZONE
BEGIN:VTIMEZONE
TZID:America/New_York
BEGIN:DAYLIGHT
DTSTART:20250309T030000
TZOFFSETFROM:-0500
TZOFFSETTO:-0400
RRULE:FREQ=YEARLY;BYDAY=2SU;BYMONTH=3
TZNAME:EDT
END:DAYLIGHT
BEGIN:STANDARD
DTSTART:20251102T010000
TZOFFSETFROM:-0400
TZOFFSETTO:-0500
RRULE:FREQ=YEARLY;BYDAY=1SU;BYMONTH=11
TZNAME:EST
END:STANDARD
END:VTIMEZONE
BEGIN:VTIMEZONE
TZID:America/New_York
BEGIN:DAYLIGHT
DTSTART:20250309T030000
TZOFFSETFROM:-0500
TZOFFSETTO:-0400
RRULE:FREQ=YEARLY;BYDAY=2SU;BYMONTH=3
TZNAME:EDT
END:DAYLIGHT
BEGIN:STANDARD
DTSTART:20251102T010000
TZOFFSETFROM:-0400
TZOFFSETTO:-0500
RRULE:FREQ=YEARLY;BYDAY=1SU;BYMONTH=11
TZNAME:EST
END:STANDARD
END:VTIMEZONE
BEGIN:VTIMEZONE
TZID:America/New_York
BEGIN:DAYLIGHT
DTSTART:20250309T030000
TZOFFSETFROM:-0500
TZOFFSETTO:-0400
RRULE:FREQ=YEARLY;BYDAY=2SU;BYMONTH=3
TZNAME:EDT
END:DAYLIGHT
BEGIN:STANDARD
DTSTART:20251102T010000
TZOFFSETFROM:-0400
TZOFFSETTO:-0500
RRULE:FREQ=YEARLY;BYDAY=1SU;BYMONTH=11
TZNAME:EST
END:STANDARD
END:VTIMEZONE
BEGIN:VTIMEZONE
TZID:America/New_York
BEGIN:DAYLIGHT
DTSTART:20250309T030000
TZOFFSETFROM:-0500
TZOFFSETTO:-0400
RRULE:FREQ=YEARLY;BYDAY=2SU;BYMONTH=3
TZNAME:EDT
END:DAYLIGHT
BEGIN:STANDARD
DTSTART:20251102T010000
TZOFFSETFROM:-0400
TZOFFSETTO:-0500
RRULE:FREQ=YEARLY;BYDAY=1SU;BYMONTH=11
TZNAME:EST
END:STANDARD
END:VTIMEZONE
BEGIN:VTIMEZONE
TZID:America/New_York
BEGIN:DAYLIGHT
DTSTART:20250309T030000
TZOFFSETFROM:-0500
TZOFFSETTO:-0400
RRULE:FREQ=YEARLY;BYDAY=2SU;BYMONTH=3
TZNAME:EDT
END:DAYLIGHT
BEGIN:STANDARD
DTSTART:20251102T010000
TZOFFSETFROM:-0400
TZOFFSETTO:-0500
RRULE:FREQ=YEARLY;BYDAY=1SU;BYMONTH=11
TZNAME:EST
END:STANDARD
END:VTIMEZONE
BEGIN:VTIMEZONE
TZID:America/New_York
BEGIN:DAYLIGHT
DTSTART:20250309T030000
TZOFFSETFROM:-0500
TZOFFSETTO:-0400
RRULE:FREQ=YEARLY;BYDAY=2SU;BYMONTH=3
TZNAME:EDT
END:DAYLIGHT
BEGIN:STANDARD
DTSTART:20251102T010000
TZOFFSETFROM:-0400
TZOFFSETTO:-0500
RRULE:FREQ=YEARLY;BYDAY=1SU;BYMONTH=11
TZNAME:EST
END:STANDARD
END:VTIMEZONE
BEGIN:VTIMEZONE
TZID:America/New_York
BEGIN:DAYLIGHT
DTSTART:20250309T030000
TZOFFSETFROM:-0500
TZOFFSETTO:-0400
RRULE:FREQ=YEARLY;BYDAY=2SU;BYMONTH=3
TZNAME:EDT
END:DAYLIGHT
BEGIN:STANDARD
DTSTART:20251102T010000
TZOFFSETFROM:-0400
TZOFFSETTO:-0500
RRULE:FREQ=YEARLY;BYDAY=1SU;BYMONTH=11
TZNAME:EST
END:STANDARD
END:VTIMEZONE
BEGIN:VTIMEZONE
TZID:America/New_York
BEGIN:DAYLIGHT
DTSTART:20250309T030000
TZOFFSETFROM:-0500
TZOFFSETTO:-0400
RRULE:FREQ=YEARLY;BYDAY=2SU;BYMONTH=3
TZNAME:EDT
END:DAYLIGHT
BEGIN:STANDARD
DTSTART:20251102T010000
TZOFFSETFROM:-0400
TZOFFSETTO:-0500
RRULE:FREQ=YEARLY;BYDAY=1SU;BYMONTH=11
TZNAME:EST
END:STANDARD
END:VTIMEZONE
BEGIN:VTIMEZONE
TZID:America/New_York
BEGIN:DAYLIGHT
DTSTART:20250309T030000
TZOFFSETFROM:-0500
TZOFFSETTO:-0400
RRULE:FREQ=YEARLY;BYDAY=2SU;BYMONTH=3
TZNAME:EDT
END:DAYLIGHT
BEGIN:STANDARD
DTSTART:20251102T010000
TZOFFSETFROM:-0400
TZOFFSETTO:-0500
RRULE:FREQ=YEARLY;BYDAY=1SU;BYMONTH=11
TZNAME:EST
END:STANDARD
END:VTIMEZONE
BEGIN:VTIMEZONE
TZID:America/New_York
BEGIN:DAYLIGHT
DTSTART:20250309T030000
TZOFFSETFROM:-0500
TZOFFSETTO:-0400
RRULE:FREQ=YEARLY;BYDAY=2SU;BYMONTH=3
TZNAME:EDT
END:DAYLIGHT
BEGIN:STANDARD
DTSTART:20251102T010000
TZOFFSETFROM:-0400
TZOFFSETTO:-0500
RRULE:FREQ=YEARLY;BYDAY=1SU;BYMONTH=11
TZNAME:EST
END:STANDARD
END:VTIMEZONE
BEGIN:VTIMEZONE
TZID:America/New_York
BEGIN:DAYLIGHT
DTSTART:20250309T030000
TZOFFSETFROM:-0500
TZOFFSETTO:-0400
RRULE:FREQ=YEARLY;BYDAY=2SU;BYMONTH=3
TZNAME:EDT
END:DAYLIGHT
BEGIN:STANDARD
DTSTART:20251102T010000
TZOFFSETFROM:-0400
TZOFFSETTO:-0500
RRULE:FREQ=YEARLY;BYDAY=1SU;BYMONTH=11
TZNAME:EST
END:STANDARD
END:VTIMEZONE
BEGIN:VTIMEZONE
TZID:America/New_York
BEGIN:DAYLIGHT
DTSTART:20250309T030000
TZOFFSETFROM:-0500
TZOFFSETTO:-0400
RRULE:FREQ=YEARLY;BYDAY=2SU;BYMONTH=3
TZNAME:EDT
END:DAYLIGHT
BEGIN:STANDARD
DTSTART:20251102T010000
TZOFFSETFROM:-0400
TZOFFSETTO:-0500
RRULE:FREQ=YEARLY;BYDAY=1SU;BYMONTH=11
TZNAME:EST
END:STANDARD
END:VTIMEZONE
BEGIN:VTIMEZONE
TZID:America/New_York
BEGIN:DAYLIGHT
DTSTART:20250309T030000
TZOFFSETFROM:-0500
TZOFFSETTO:-0400
RRULE:FREQ=YEARLY;BYDAY=2SU;BYMONTH=3
TZNAME:EDT
END:DAYLIGHT
BEGIN:STANDARD
DTSTART:20251102T010000
TZOFFSETFROM:-0400
TZOFFSETTO:-0500
RRULE:FREQ=YEARLY;BYDAY=1SU;BYMONTH=11
TZNAME:EST
END:STANDARD
END:VTIMEZONE
BEGIN:VTIMEZONE
TZID:America/New_York
BEGIN:DAYLIGHT
DTSTART:20250309T030000
TZOFFSETFROM:-0500
TZOFFSETTO:-0400
RRULE:FREQ=YEARLY;BYDAY=2SU;BYMONTH=3
TZNAME:EDT
END:DAYLIGHT
BEGIN:STANDARD
DTSTART:20251102T010000
TZOFFSETFROM:-0400
TZOFFSETTO:-0500
RRULE:FREQ=YEARLY;BYDAY=1SU;BYMONTH=11
TZNAME:EST
END:STANDARD
END:VTIMEZONE
BEGIN:VTIMEZONE
TZID:America/New_York
BEGIN:DAYLIGHT
DTSTART:20250309T030000
TZOFFSETFROM:-0500
TZOFFSETTO:-0400
RRULE:FREQ=YEARLY;BYDAY=2SU;BYMONTH=3
TZNAME:EDT
END:DAYLIGHT
BEGIN:STANDARD
DTSTART:20251102T010000
TZOFFSETFROM:-0400
TZOFFSETTO:-0500
RRULE:FREQ=YEARLY;BYDAY=1SU;BYMONTH=11
TZNAME:EST
END:STANDARD
END:VTIMEZONE
BEGIN:VTIMEZONE
TZID:America/New_York
BEGIN:DAYLIGHT
DTSTART:20250309T030000
TZOFFSETFROM:-0500
TZOFFSETTO:-0400
RRULE:FREQ=YEARLY;BYDAY=2SU;BYMONTH=3
TZNAME:EDT
END:DAYLIGHT
BEGIN:STANDARD
DTSTART:20251102T010000
TZOFFSETFROM:-0400
TZOFFSETTO:-0500
RRULE:FREQ=YEARLY;BYDAY=1SU;BYMONTH=11
TZNAME:EST
END:STANDARD
END:VTIMEZONE
BEGIN:VTIMEZONE
TZID:America/New_York
BEGIN:DAYLIGHT
DTSTART:20250309T030000
TZOFFSETFROM:-0500
TZOFFSETTO:-0400
RRULE:FREQ=YEARLY;BYDAY=2SU;BYMONTH=3
TZNAME:EDT
END:DAYLIGHT
BEGIN:STANDARD
DTSTART:20251102T010000
TZOFFSETFROM:-0400
TZOFFSETTO:-0500
RRULE:FREQ=YEARLY;BYDAY=1SU;BYMONTH=11
TZNAME:EST
END:STANDARD
END:VTIMEZONE
BEGIN:VTIMEZONE
TZID:America/New_York
BEGIN:DAYLIGHT
DTSTART:20250309T030000
TZOFFSETFROM:-0500
TZOFFSETTO:-0400
RRULE:FREQ=YEARLY;BYDAY=2SU;BYMONTH=3
TZNAME:EDT
END:DAYLIGHT
BEGIN:STANDARD
DTSTART:20251102T010000
TZOFFSETFROM:-0400
TZOFFSETTO:-0500
RRULE:FREQ=YEARLY;BYDAY=1SU;BYMONTH=11
TZNAME:EST
END:STANDARD
END:VTIMEZONE
BEGIN:VTIMEZONE
TZID:America/New_York
BEGIN:DAYLIGHT
DTSTART:20250309T030000
TZOFFSETFROM:-0500
TZOFFSETTO:-0400
RRULE:FREQ=YEARLY;BYDAY=2SU;BYMONTH=3
TZNAME:EDT
END:DAYLIGHT
BEGIN:STANDARD
DTSTART:20251102T010000
TZOFFSETFROM:-0400
TZOFFSETTO:-0500
RRULE:FREQ=YEARLY;BYDAY=1SU;BYMONTH=11
TZNAME:EST
END:STANDARD
END:VTIMEZONE
BEGIN:VTIMEZONE
TZID:America/New_York
BEGIN:DAYLIGHT
DTSTART:20250309T030000
TZOFFSETFROM:-0500
TZOFFSETTO:-0400
RRULE:FREQ=YEARLY;BYDAY=2SU;BYMONTH=3
TZNAME:EDT
END:DAYLIGHT
BEGIN:STANDARD
DTSTART:20251102T010000
TZOFFSETFROM:-0400
TZOFFSETTO:-0500
RRULE:FREQ=YEARLY;BYDAY=1SU;BYMONTH=11
TZNAME:EST
END:STANDARD
END:VTIMEZONE
BEGIN:VTIMEZONE
TZID:America/New_York
BEGIN:DAYLIGHT
DTSTART:20250309T030000
TZOFFSETFROM:-0500
TZOFFSETTO:-0400
RRULE:FREQ=YEARLY;BYDAY=2SU;BYMONTH=3
TZNAME:EDT
END:DAYLIGHT
BEGIN:STANDARD
DTSTART:20251102T010000
TZOFFSETFROM:-0400
TZOFFSETTO:-0500
RRULE:FREQ=YEARLY;BYDAY=1SU;BYMONTH=11
TZNAME:EST
END:STANDARD
END:VTIMEZONE
BEGIN:VTIMEZONE
TZID:America/New_York
BEGIN:DAYLIGHT
DTSTART:20250309T030000
TZOFFSETFROM:-0500
TZOFFSETTO:-0400
RRULE:FREQ=YEARLY;BYDAY=2SU;BYMONTH=3
TZNAME:EDT
END:DAYLIGHT
BEGIN:STANDARD
DTSTART:20251102T010000
TZOFFSETFROM:-0400
TZOFFSETTO:-0500
RRULE:FREQ=YEARLY;BYDAY=1SU;BYMONTH=11
TZNAME:EST
END:STANDARD
END:VTIMEZONE
BEGIN:VTIMEZONE
TZID:America/New_York
BEGIN:DAYLIGHT
DTSTART:20250309T030000
TZOFFSETFROM:-0500
TZOFFSETTO:-0400
RRULE:FREQ=YEARLY;BYDAY=2SU;BYMONTH=3
TZNAME:EDT
END:DAYLIGHT
BEGIN:STANDARD
DTSTART:20251102T010000
TZOFFSETFROM:-0400
TZOFFSETTO:-0500
RRULE:FREQ=YEARLY;BYDAY=1SU;BYMONTH=11
TZNAME:EST
END:STANDARD
END:VTIMEZONE
BEGIN:VTIMEZONE
TZID:America/New_York
BEGIN:DAYLIGHT
DTSTART:20250309T030000
TZOFFSETFROM:-0500
TZOFFSETTO:-0400
RRULE:FREQ=YEARLY;BYDAY=2SU;BYMONTH=3
TZNAME:EDT
END:DAYLIGHT
BEGIN:STANDARD
DTSTART:20251102T010000
TZOFFSETFROM:-0400
TZOFFSETTO:-0500
RRULE:FREQ=YEARLY;BYDAY=1SU;BYMONTH=11
TZNAME:EST
END:STANDARD
END:VTIMEZONE
BEGIN:VTIMEZONE
TZID:America/New_York
BEGIN:DAYLIGHT
DTSTART:20250309T030000
TZOFFSETFROM:-0500
TZOFFSETTO:-0400
RRULE:FREQ=YEARLY;BYDAY=2SU;BYMONTH=3
TZNAME:EDT
END:DAYLIGHT
BEGIN:STANDARD
DTSTART:20251102T010000
TZOFFSETFROM:-0400
TZOFFSETTO:-0500
RRULE:FREQ=YEARLY;BYDAY=1SU;BYMONTH=11
TZNAME:EST
END:STANDARD
END:VTIMEZONE
BEGIN:VTIMEZONE
TZID:America/New_York
BEGIN:DAYLIGHT
DTSTART:20250309T030000
TZOFFSETFROM:-0500
TZOFFSETTO:-0400
RRULE:FREQ=YEARLY;BYDAY=2SU;BYMONTH=3
TZNAME:EDT
END:DAYLIGHT
BEGIN:STANDARD
DTSTART:20251102T010000
TZOFFSETFROM:-0400
TZOFFSETTO:-0500
RRULE:FREQ=YEARLY;BYDAY=1SU;BYMONTH=11
TZNAME:EST
END:STANDARD
END:VTIMEZONE
BEGIN:VTIMEZONE
TZID:America/New_York
BEGIN:DAYLIGHT
DTSTART:20250309T030000
TZOFFSETFROM:-0500
TZOFFSETTO:-0400
RRULE:FREQ=YEARLY;BYDAY=2SU;BYMONTH=3
TZNAME:EDT
END:DAYLIGHT
BEGIN:STANDARD
DTSTART:20251102T010000
TZOFFSETFROM:-0400
TZOFFSETTO:-0500
RRULE:FREQ=YEARLY;BYDAY=1SU;BYMONTH=11
TZNAME:EST
END:STANDARD
END:VTIMEZONE
BEGIN:VTIMEZONE
TZID:America/New_York
BEGIN:DAYLIGHT
DTSTART:20250309T030000
TZOFFSETFROM:-0500
TZOFFSETTO:-0400
RRULE:FREQ=YEARLY;BYDAY=2SU;BYMONTH=3
TZNAME:EDT
END:DAYLIGHT
BEGIN:STANDARD
DTSTART:20251102T010000
TZOFFSETFROM:-0400
TZOFFSETTO:-0500
RRULE:FREQ=YEARLY;BYDAY=1SU;BYMONTH=11
TZNAME:EST
END:STANDARD
END:VTIMEZONE
BEGIN:VTIMEZONE
TZID:America/New_York
BEGIN:DAYLIGHT
DTSTART:20250309T030000
TZOFFSETFROM:-0500
TZOFFSETTO:-0400
RRULE:FREQ=YEARLY;BYDAY=2SU;BYMONTH=3
TZNAME:EDT
END:DAYLIGHT
BEGIN:STANDARD
DTSTART:20251102T010000
TZOFFSETFROM:-0400
TZOFFSETTO:-0500
RRULE:FREQ=YEARLY;BYDAY=1SU;BYMONTH=11
TZNAME:EST
END:STANDARD
END:VTIMEZONE
BEGIN:VEVENT
DTSTAMP:20260422T180110Z
UID:https://www.schedulegalaxy.com/schools/104/teams/373821/games/1310953
DTSTART;TZID=America/New_York:20250919T161500
CREATED;TZID=America/New_York:20250604T123644
LAST-MODIFIED;TZID=America/New_York:20250714T110241
LOCATION:Hughes Soccer Field
SUMMARY:Boys (DMS) 7th/8th Soccer @ New Hartford
URL:https://www.schedulegalaxy.com/schools/104/teams/373821/games/1310953
END:VEVENT
BEGIN:VEVENT
DTSTAMP:20260422T180110Z
UID:https://www.schedulegalaxy.com/schools/104/teams/373821/games/1310962
DTSTART;TZID=America/New_York:20251010T161500
CREATED;TZID=America/New_York:20250604T124028
LAST-MODIFIED;TZID=America/New_York:20251008T074003
LOCATION:Donovan Soccer Field
SUMMARY:Boys (DMS) 7th/8th Soccer v. New Hartford
URL:https://www.schedulegalaxy.com/schools/104/teams/373821/games/1310962
END:VEVENT
BEGIN:VEVENT
DTSTAMP:20260422T180110Z
UID:https://www.schedulegalaxy.com/schools/104/teams/373821/games/1310973
DTSTART;TZID=America/New_York:20251003T163000
CREATED;TZID=America/New_York:20250604T124809
LAST-MODIFIED;TZID=America/New_York:20250728T103212
LOCATION:Stokes E S
SUMMARY:Boys (DMS) 7th/8th Soccer @ Rome Free Academy
URL:https://www.schedulegalaxy.com/schools/104/teams/373821/games/1310973
END:VEVENT
BEGIN:VEVENT
DTSTAMP:20260422T180110Z
UID:https://www.schedulegalaxy.com/schools/104/teams/373821/games/1311222
DTSTART;TZID=America/New_York:20250924T161500
CREATED;TZID=America/New_York:20250605T080055
LAST-MODIFIED;TZID=America/New_York:20250918T155717
LOCATION:Donovan Soccer Field
SUMMARY:Boys (DMS) 7th/8th Soccer v. Rome Free Academy
URL:https://www.schedulegalaxy.com/schools/104/teams/373821/games/1311222
END:VEVENT
BEGIN:VEVENT
DTSTAMP:20260422T180110Z
UID:https://www.schedulegalaxy.com/schools/104/teams/373821/games/1311238
DTSTART;TZID=America/New_York:20251017T161500
CREATED;TZID=America/New_York:20250605T080934
LAST-MODIFIED;TZID=America/New_York:20250623T150939
LOCATION:Donovan Soccer Field
SUMMARY:Boys (DMS) 7th/8th Soccer v. Holland Patent
URL:https://www.schedulegalaxy.com/schools/104/teams/373821/games/1311238
END:VEVENT
BEGIN:VEVENT
DTSTAMP:20260422T180110Z
UID:https://www.schedulegalaxy.com/schools/104/teams/373821/games/1311240
DTSTART;TZID=America/New_York:20250926T163000
CREATED;TZID=America/New_York:20250605T081309
LAST-MODIFIED;TZID=America/New_York:20250827T134556
LOCATION:Shortell Soccer Field
SUMMARY:Boys (DMS) 7th/8th Soccer @ Oneida
URL:https://www.schedulegalaxy.com/schools/104/teams/373821/games/1311240
END:VEVENT
BEGIN:VEVENT
DTSTAMP:20260422T180110Z
UID:https://www.schedulegalaxy.com/schools/104/teams/373821/games/1311244
DTSTART;TZID=America/New_York:20251022T161500
CREATED;TZID=America/New_York:20250605T081454
LAST-MODIFIED;TZID=America/New_York:20251024T091609
LOCATION:Donovan Soccer Field
SUMMARY:Boys (DMS) 7th/8th Soccer v. Utica Proctor (JFK)
URL:https://www.schedulegalaxy.com/schools/104/teams/373821/games/1311244
END:VEVENT
BEGIN:VEVENT
DTSTAMP:20260422T180110Z
UID:https://www.schedulegalaxy.com/schools/104/teams/373821/games/1311257
DTSTART;TZID=America/New_York:20251006T161500
CREATED;TZID=America/New_York:20250605T082015
LAST-MODIFIED;TZID=America/New_York:20251009T132018
LOCATION:Donovan Soccer Field
SUMMARY:Boys (DMS) 7th/8th Soccer v. Whitesboro
URL:https://www.schedulegalaxy.com/schools/104/teams/373821/games/1311257
END:VEVENT
BEGIN:VEVENT
DTSTAMP:20260422T180110Z
UID:https://www.schedulegalaxy.com/schools/104/teams/373821/games/1311263
DTSTART;TZID=America/New_York:20250917T161500
CREATED;TZID=America/New_York:20250605T082448
LAST-MODIFIED;TZID=America/New_York:20250918T090924
LOCATION:JFK Soccer Field
SUMMARY:Boys (DMS) 7th/8th Soccer @ Utica Proctor (JFK)
URL:https://www.schedulegalaxy.com/schools/104/teams/373821/games/1311263
END:VEVENT
BEGIN:VEVENT
DTSTAMP:20260422T180110Z
UID:https://www.schedulegalaxy.com/schools/104/teams/373821/games/1311264
DTSTART;TZID=America/New_York:20251024T161500
CREATED;TZID=America/New_York:20250605T082519
LAST-MODIFIED;TZID=America/New_York:20250721T080014
LOCATION:Donovan Soccer Field
SUMMARY:Boys (DMS) 7th/8th Soccer v. Central Valley Academy
URL:https://www.schedulegalaxy.com/schools/104/teams/373821/games/1311264
END:VEVENT
BEGIN:VEVENT
DTSTAMP:20260422T180110Z
UID:https://www.schedulegalaxy.com/schools/104/teams/373821/games/1329433
DTSTART;TZID=America/New_York:20250922T163000
CREATED;TZID=America/New_York:20250717T142121
LAST-MODIFIED;TZID=America/New_York:20250923T062730
LOCATION:Marcy Elementary  Soccer/Lacrosse Field
SUMMARY:Boys (DMS) 7th/8th Soccer @ Whitesboro
URL:https://www.schedulegalaxy.com/schools/104/teams/373821/games/1329433
END:VEVENT
BEGIN:VEVENT
DTSTAMP:20260422T180110Z
UID:https://www.schedulegalaxy.com/schools/104/teams/373821/practices/13624
 36
DTSTART;TZID=America/New_York:20250908T150000
DTEND;TZID=America/New_York:20250908T163000
CREATED;TZID=America/New_York:20250908T101956
LAST-MODIFIED;TZID=America/New_York:20250908T101956
LOCATION:Donovan Middle School
SUMMARY:(B) 7/8TH Soccer (DMS) - Practice (3:00 PM)
URL:https://www.schedulegalaxy.com/schools/104/teams/373821/practices/13624
 36
END:VEVENT
BEGIN:VEVENT
DTSTAMP:20260422T180110Z
UID:https://www.schedulegalaxy.com/schools/104/teams/373821/practices/13624
 37
DTSTART;TZID=America/New_York:20250909T150000
DTEND;TZID=America/New_York:20250909T163000
CREATED;TZID=America/New_York:20250908T101956
LAST-MODIFIED;TZID=America/New_York:20250908T101956
LOCATION:Donovan Middle School
SUMMARY:(B) 7/8TH Soccer (DMS) - Practice (3:00 PM)
URL:https://www.schedulegalaxy.com/schools/104/teams/373821/practices/13624
 37
END:VEVENT
BEGIN:VEVENT
DTSTAMP:20260422T180110Z
UID:https://www.schedulegalaxy.com/schools/104/teams/373821/practices/13624
 38
DTSTART;TZID=America/New_York:20250910T150000
DTEND;TZID=America/New_York:20250910T163000
CREATED;TZID=America/New_York:20250908T101956
LAST-MODIFIED;TZID=America/New_York:20250908T101956
LOCATION:Donovan Middle School
SUMMARY:(B) 7/8TH Soccer (DMS) - Practice (3:00 PM)
URL:https://www.schedulegalaxy.com/schools/104/teams/373821/practices/13624
 38
END:VEVENT
BEGIN:VEVENT
DTSTAMP:20260422T180110Z
UID:https://www.schedulegalaxy.com/schools/104/teams/373821/practices/13624
 39
DTSTART;TZID=America/New_York:20250911T150000
DTEND;TZID=America/New_York:20250911T163000
CREATED;TZID=America/New_York:20250908T101956
LAST-MODIFIED;TZID=America/New_York:20250908T101956
LOCATION:Donovan Middle School
SUMMARY:(B) 7/8TH Soccer (DMS) - Practice (3:00 PM)
URL:https://www.schedulegalaxy.com/schools/104/teams/373821/practices/13624
 39
END:VEVENT
BEGIN:VEVENT
DTSTAMP:20260422T180110Z
UID:https://www.schedulegalaxy.com/schools/104/teams/373821/practices/13624
 40
DTSTART;TZID=America/New_York:20250912T150000
DTEND;TZID=America/New_York:20250912T163000
CREATED;TZID=America/New_York:20250908T101956
LAST-MODIFIED;TZID=America/New_York:20250912T090532
LOCATION:Donovan Middle School
SUMMARY:CANCELLED: (B) 7/8TH Soccer (DMS) - Practice (3:00 PM)
URL:https://www.schedulegalaxy.com/schools/104/teams/373821/practices/13624
 40
END:VEVENT
BEGIN:VEVENT
DTSTAMP:20260422T180110Z
UID:https://www.schedulegalaxy.com/schools/104/teams/373821/practices/13624
 41
DTSTART;TZID=America/New_York:20250915T150000
DTEND;TZID=America/New_York:20250915T163000
CREATED;TZID=America/New_York:20250908T102104
LAST-MODIFIED;TZID=America/New_York:20250908T102104
LOCATION:Donovan Middle School
SUMMARY:(B) 7/8TH Soccer (DMS) - Practice (3:00 PM)
URL:https://www.schedulegalaxy.com/schools/104/teams/373821/practices/13624
 41
END:VEVENT
BEGIN:VEVENT
DTSTAMP:20260422T180110Z
UID:https://www.schedulegalaxy.com/schools/104/teams/373821/practices/13624
 42
DTSTART;TZID=America/New_York:20250916T150000
DTEND;TZID=America/New_York:20250916T163000
CREATED;TZID=America/New_York:20250908T102104
LAST-MODIFIED;TZID=America/New_York:20250908T102104
LOCATION:Donovan Middle School
SUMMARY:(B) 7/8TH Soccer (DMS) - Practice (3:00 PM)
URL:https://www.schedulegalaxy.com/schools/104/teams/373821/practices/13624
 42
END:VEVENT
BEGIN:VEVENT
DTSTAMP:20260422T180110Z
UID:https://www.schedulegalaxy.com/schools/104/teams/373821/practices/13624
 43
DTSTART;TZID=America/New_York:20250918T150000
DTEND;TZID=America/New_York:20250918T163000
CREATED;TZID=America/New_York:20250908T102218
LAST-MODIFIED;TZID=America/New_York:20250908T102218
LOCATION:Donovan Middle School
SUMMARY:(B) 7/8TH Soccer (DMS) - Practice (3:00 PM)
URL:https://www.schedulegalaxy.com/schools/104/teams/373821/practices/13624
 43
END:VEVENT
BEGIN:VEVENT
DTSTAMP:20260422T180110Z
UID:https://www.schedulegalaxy.com/schools/104/teams/373821/practices/13624
 44
DTSTART;TZID=America/New_York:20250923T150000
DTEND;TZID=America/New_York:20250923T163000
CREATED;TZID=America/New_York:20250908T102342
LAST-MODIFIED;TZID=America/New_York:20250923T095459
LOCATION:Donovan Middle School
SUMMARY:CANCELLED: (B) 7/8TH Soccer (DMS) - Practice (3:00 PM)
URL:https://www.schedulegalaxy.com/schools/104/teams/373821/practices/13624
 44
END:VEVENT
BEGIN:VEVENT
DTSTAMP:20260422T180110Z
UID:https://www.schedulegalaxy.com/schools/104/teams/373821/practices/13624
 45
DTSTART;TZID=America/New_York:20250925T150000
DTEND;TZID=America/New_York:20250925T163000
CREATED;TZID=America/New_York:20250908T102425
LAST-MODIFIED;TZID=America/New_York:20250908T102425
LOCATION:Donovan Middle School
SUMMARY:(B) 7/8TH Soccer (DMS) - Practice (3:00 PM)
URL:https://www.schedulegalaxy.com/schools/104/teams/373821/practices/13624
 45
END:VEVENT
BEGIN:VEVENT
DTSTAMP:20260422T180110Z
UID:https://www.schedulegalaxy.com/schools/104/teams/373821/practices/13624
 46
DTSTART;TZID=America/New_York:20250929T150000
DTEND;TZID=America/New_York:20250929T163000
CREATED;TZID=America/New_York:20250908T102541
LAST-MODIFIED;TZID=America/New_York:20250929T082832
LOCATION:Donovan Middle School
SUMMARY:CANCELLED: (B) 7/8TH Soccer (DMS) - Practice (3:00 PM)
URL:https://www.schedulegalaxy.com/schools/104/teams/373821/practices/13624
 46
END:VEVENT
BEGIN:VEVENT
DTSTAMP:20260422T180110Z
UID:https://www.schedulegalaxy.com/schools/104/teams/373821/practices/13624
 47
DTSTART;TZID=America/New_York:20250930T150000
DTEND;TZID=America/New_York:20250930T163000
CREATED;TZID=America/New_York:20250908T102541
LAST-MODIFIED;TZID=America/New_York:20250908T102541
LOCATION:Donovan Middle School
SUMMARY:(B) 7/8TH Soccer (DMS) - Practice (3:00 PM)
URL:https://www.schedulegalaxy.com/schools/104/teams/373821/practices/13624
 47
END:VEVENT
BEGIN:VEVENT
DTSTAMP:20260422T180110Z
UID:https://www.schedulegalaxy.com/schools/104/teams/373821/practices/13624
 48
DTSTART;TZID=America/New_York:20251001T150000
DTEND;TZID=America/New_York:20251001T163000
CREATED;TZID=America/New_York:20250908T102541
LAST-MODIFIED;TZID=America/New_York:20250908T102541
LOCATION:Donovan Middle School
SUMMARY:(B) 7/8TH Soccer (DMS) - Practice (3:00 PM)
URL:https://www.schedulegalaxy.com/schools/104/teams/373821/practices/13624
 48
END:VEVENT
BEGIN:VEVENT
DTSTAMP:20260422T180110Z
UID:https://www.schedulegalaxy.com/schools/104/teams/373821/practices/13624
 49
DTSTART;TZID=America/New_York:20251002T150000
DTEND;TZID=America/New_York:20251002T163000
CREATED;TZID=America/New_York:20250908T102541
LAST-MODIFIED;TZID=America/New_York:20250908T102541
LOCATION:Donovan Middle School
SUMMARY:(B) 7/8TH Soccer (DMS) - Practice (3:00 PM)
URL:https://www.schedulegalaxy.com/schools/104/teams/373821/practices/13624
 49
END:VEVENT
BEGIN:VEVENT
DTSTAMP:20260422T180110Z
UID:https://www.schedulegalaxy.com/schools/104/teams/373821/practices/13624
 52
DTSTART;TZID=America/New_York:20251007T150000
DTEND;TZID=America/New_York:20251007T163000
CREATED;TZID=America/New_York:20250908T102641
LAST-MODIFIED;TZID=America/New_York:20250908T102641
LOCATION:Donovan Middle School
SUMMARY:(B) 7/8TH Soccer (DMS) - Practice (3:00 PM)
URL:https://www.schedulegalaxy.com/schools/104/teams/373821/practices/13624
 52
END:VEVENT
BEGIN:VEVENT
DTSTAMP:20260422T180110Z
UID:https://www.schedulegalaxy.com/schools/104/teams/373821/practices/13624
 53
DTSTART;TZID=America/New_York:20251008T150000
DTEND;TZID=America/New_York:20251008T163000
CREATED;TZID=America/New_York:20250908T102641
LAST-MODIFIED;TZID=America/New_York:20250908T102641
LOCATION:Donovan Middle School
SUMMARY:(B) 7/8TH Soccer (DMS) - Practice (3:00 PM)
URL:https://www.schedulegalaxy.com/schools/104/teams/373821/practices/13624
 53
END:VEVENT
BEGIN:VEVENT
DTSTAMP:20260422T180110Z
UID:https://www.schedulegalaxy.com/schools/104/teams/373821/practices/13624
 54
DTSTART;TZID=America/New_York:20251009T150000
DTEND;TZID=America/New_York:20251009T163000
CREATED;TZID=America/New_York:20250908T102641
LAST-MODIFIED;TZID=America/New_York:20250908T102641
LOCATION:Donovan Middle School
SUMMARY:(B) 7/8TH Soccer (DMS) - Practice (3:00 PM)
URL:https://www.schedulegalaxy.com/schools/104/teams/373821/practices/13624
 54
END:VEVENT
BEGIN:VEVENT
DTSTAMP:20260422T180110Z
UID:https://www.schedulegalaxy.com/schools/104/teams/373821/practices/13624
 61
DTSTART;TZID=America/New_York:20251013T150000
DTEND;TZID=America/New_York:20251013T163000
CREATED;TZID=America/New_York:20250908T102824
LAST-MODIFIED;TZID=America/New_York:20251013T104143
LOCATION:Donovan Middle School
SUMMARY:CANCELLED: (B) 7/8TH Soccer (DMS) - Practice (3:00 PM)
URL:https://www.schedulegalaxy.com/schools/104/teams/373821/practices/13624
 61
END:VEVENT
BEGIN:VEVENT
DTSTAMP:20260422T180110Z
UID:https://www.schedulegalaxy.com/schools/104/teams/373821/practices/13624
 62
DTSTART;TZID=America/New_York:20251014T150000
DTEND;TZID=America/New_York:20251014T163000
CREATED;TZID=America/New_York:20250908T102824
LAST-MODIFIED;TZID=America/New_York:20250908T102824
LOCATION:Donovan Middle School
SUMMARY:(B) 7/8TH Soccer (DMS) - Practice (3:00 PM)
URL:https://www.schedulegalaxy.com/schools/104/teams/373821/practices/13624
 62
END:VEVENT
BEGIN:VEVENT
DTSTAMP:20260422T180110Z
UID:https://www.schedulegalaxy.com/schools/104/teams/373821/practices/13624
 63
DTSTART;TZID=America/New_York:20251015T150000
DTEND;TZID=America/New_York:20251015T163000
CREATED;TZID=America/New_York:20250908T102824
LAST-MODIFIED;TZID=America/New_York:20250908T102824
LOCATION:Donovan Middle School
SUMMARY:(B) 7/8TH Soccer (DMS) - Practice (3:00 PM)
URL:https://www.schedulegalaxy.com/schools/104/teams/373821/practices/13624
 63
END:VEVENT
BEGIN:VEVENT
DTSTAMP:20260422T180110Z
UID:https://www.schedulegalaxy.com/schools/104/teams/373821/practices/13624
 64
DTSTART;TZID=America/New_York:20251016T150000
DTEND;TZID=America/New_York:20251016T163000
CREATED;TZID=America/New_York:20250908T102824
LAST-MODIFIED;TZID=America/New_York:20250908T102824
LOCATION:Donovan Middle School
SUMMARY:(B) 7/8TH Soccer (DMS) - Practice (3:00 PM)
URL:https://www.schedulegalaxy.com/schools/104/teams/373821/practices/13624
 64
END:VEVENT
BEGIN:VEVENT
DTSTAMP:20260422T180110Z
UID:https://www.schedulegalaxy.com/schools/104/teams/373821/practices/13624
 65
DTSTART;TZID=America/New_York:20251020T150000
DTEND;TZID=America/New_York:20251020T163000
CREATED;TZID=America/New_York:20250908T102913
LAST-MODIFIED;TZID=America/New_York:20250908T102913
LOCATION:Donovan Middle School
SUMMARY:(B) 7/8TH Soccer (DMS) - Practice (3:00 PM)
URL:https://www.schedulegalaxy.com/schools/104/teams/373821/practices/13624
 65
END:VEVENT
BEGIN:VEVENT
DTSTAMP:20260422T180110Z
UID:https://www.schedulegalaxy.com/schools/104/teams/373821/practices/13624
 66
DTSTART;TZID=America/New_York:20251023T150000
DTEND;TZID=America/New_York:20251023T163000
CREATED;TZID=America/New_York:20250908T102953
LAST-MODIFIED;TZID=America/New_York:20251022T140800
LOCATION:Donovan Middle School
SUMMARY:CANCELLED: (B) 7/8TH Soccer (DMS) - Practice (3:00 PM)
URL:https://www.schedulegalaxy.com/schools/104/teams/373821/practices/13624
 66
END:VEVENT
END:VCALENDAR
