BEGIN:VCALENDAR
VERSION:2.0
PRODID:icalendar-ruby
CALSCALE:GREGORIAN
METHOD:PUBLISH
BEGIN:VTIMEZONE
TZID:America/New_York
BEGIN:DAYLIGHT
DTSTART:20180311T030000
TZOFFSETFROM:-0500
TZOFFSETTO:-0400
RRULE:FREQ=YEARLY;BYDAY=2SU;BYMONTH=3
TZNAME:EDT
END:DAYLIGHT
BEGIN:STANDARD
DTSTART:20181104T010000
TZOFFSETFROM:-0400
TZOFFSETTO:-0500
RRULE:FREQ=YEARLY;BYDAY=1SU;BYMONTH=11
TZNAME:EST
END:STANDARD
END:VTIMEZONE
BEGIN:VTIMEZONE
TZID:America/New_York
BEGIN:DAYLIGHT
DTSTART:20180311T030000
TZOFFSETFROM:-0500
TZOFFSETTO:-0400
RRULE:FREQ=YEARLY;BYDAY=2SU;BYMONTH=3
TZNAME:EDT
END:DAYLIGHT
BEGIN:STANDARD
DTSTART:20181104T010000
TZOFFSETFROM:-0400
TZOFFSETTO:-0500
RRULE:FREQ=YEARLY;BYDAY=1SU;BYMONTH=11
TZNAME:EST
END:STANDARD
END:VTIMEZONE
BEGIN:VTIMEZONE
TZID:America/New_York
BEGIN:DAYLIGHT
DTSTART:20180311T030000
TZOFFSETFROM:-0500
TZOFFSETTO:-0400
RRULE:FREQ=YEARLY;BYDAY=2SU;BYMONTH=3
TZNAME:EDT
END:DAYLIGHT
BEGIN:STANDARD
DTSTART:20181104T010000
TZOFFSETFROM:-0400
TZOFFSETTO:-0500
RRULE:FREQ=YEARLY;BYDAY=1SU;BYMONTH=11
TZNAME:EST
END:STANDARD
END:VTIMEZONE
BEGIN:VTIMEZONE
TZID:America/New_York
BEGIN:DAYLIGHT
DTSTART:20180311T030000
TZOFFSETFROM:-0500
TZOFFSETTO:-0400
RRULE:FREQ=YEARLY;BYDAY=2SU;BYMONTH=3
TZNAME:EDT
END:DAYLIGHT
BEGIN:STANDARD
DTSTART:20181104T010000
TZOFFSETFROM:-0400
TZOFFSETTO:-0500
RRULE:FREQ=YEARLY;BYDAY=1SU;BYMONTH=11
TZNAME:EST
END:STANDARD
END:VTIMEZONE
BEGIN:VTIMEZONE
TZID:America/New_York
BEGIN:DAYLIGHT
DTSTART:20180311T030000
TZOFFSETFROM:-0500
TZOFFSETTO:-0400
RRULE:FREQ=YEARLY;BYDAY=2SU;BYMONTH=3
TZNAME:EDT
END:DAYLIGHT
BEGIN:STANDARD
DTSTART:20181104T010000
TZOFFSETFROM:-0400
TZOFFSETTO:-0500
RRULE:FREQ=YEARLY;BYDAY=1SU;BYMONTH=11
TZNAME:EST
END:STANDARD
END:VTIMEZONE
BEGIN:VTIMEZONE
TZID:America/New_York
BEGIN:DAYLIGHT
DTSTART:20180311T030000
TZOFFSETFROM:-0500
TZOFFSETTO:-0400
RRULE:FREQ=YEARLY;BYDAY=2SU;BYMONTH=3
TZNAME:EDT
END:DAYLIGHT
BEGIN:STANDARD
DTSTART:20181104T010000
TZOFFSETFROM:-0400
TZOFFSETTO:-0500
RRULE:FREQ=YEARLY;BYDAY=1SU;BYMONTH=11
TZNAME:EST
END:STANDARD
END:VTIMEZONE
BEGIN:VTIMEZONE
TZID:America/New_York
BEGIN:DAYLIGHT
DTSTART:20180311T030000
TZOFFSETFROM:-0500
TZOFFSETTO:-0400
RRULE:FREQ=YEARLY;BYDAY=2SU;BYMONTH=3
TZNAME:EDT
END:DAYLIGHT
BEGIN:STANDARD
DTSTART:20181104T010000
TZOFFSETFROM:-0400
TZOFFSETTO:-0500
RRULE:FREQ=YEARLY;BYDAY=1SU;BYMONTH=11
TZNAME:EST
END:STANDARD
END:VTIMEZONE
BEGIN:VTIMEZONE
TZID:America/New_York
BEGIN:DAYLIGHT
DTSTART:20180311T030000
TZOFFSETFROM:-0500
TZOFFSETTO:-0400
RRULE:FREQ=YEARLY;BYDAY=2SU;BYMONTH=3
TZNAME:EDT
END:DAYLIGHT
BEGIN:STANDARD
DTSTART:20181104T010000
TZOFFSETFROM:-0400
TZOFFSETTO:-0500
RRULE:FREQ=YEARLY;BYDAY=1SU;BYMONTH=11
TZNAME:EST
END:STANDARD
END:VTIMEZONE
BEGIN:VEVENT
DTSTAMP:20260422T062019Z
UID:https://www.schedulegalaxy.com/schools/102/teams/36899/games/117286
DTSTART;TZID=America/New_York:20180507T163000
CREATED;TZID=America/New_York:20180117T160258
LAST-MODIFIED;TZID=America/New_York:20180503T102129
LOCATION:Tully H S
SUMMARY:Girls 7th/8th Outdoor Track v. Fabius-Pompey\, Bishop Grimes
URL:https://www.schedulegalaxy.com/schools/102/teams/36899/games/117286
END:VEVENT
BEGIN:VEVENT
DTSTAMP:20260422T062019Z
UID:https://www.schedulegalaxy.com/schools/102/teams/36899/games/117353
DTSTART;TZID=America/New_York:20180515T164500
CREATED;TZID=America/New_York:20180118T084827
LAST-MODIFIED;TZID=America/New_York:20210302T145444
LOCATION:Cato-Meridian Jr. Sr H S Gym
SUMMARY:Girls 7th/8th Outdoor Track Syracuse Academy of Science @ TBD
URL:https://www.schedulegalaxy.com/schools/102/teams/36899/games/117353
END:VEVENT
BEGIN:VEVENT
DTSTAMP:20260422T062019Z
UID:https://www.schedulegalaxy.com/schools/102/teams/36899/games/117657
DTSTART;TZID=America/New_York:20180509T163000
CREATED;TZID=America/New_York:20180119T082336
LAST-MODIFIED;TZID=America/New_York:20180119T083553
LOCATION:Tully HS Track
SUMMARY:Girls 7th/8th Outdoor Track v. Manlius Pebble Hill
URL:https://www.schedulegalaxy.com/schools/102/teams/36899/games/117657
END:VEVENT
BEGIN:VEVENT
DTSTAMP:20260422T062020Z
UID:https://www.schedulegalaxy.com/schools/102/teams/36899/games/117709
DTSTART;TZID=America/New_York:20180522T163000
CREATED;TZID=America/New_York:20180119T095254
LAST-MODIFIED;TZID=America/New_York:20180119T095639
LOCATION:Fabius-Pompey Track
SUMMARY:Girls 7th/8th Outdoor Track Faith Heritage @ Fabius-Pompey
URL:https://www.schedulegalaxy.com/schools/102/teams/36899/games/117709
END:VEVENT
BEGIN:VEVENT
DTSTAMP:20260422T062020Z
UID:https://www.schedulegalaxy.com/schools/102/teams/36899/games/118192
DTSTART;TZID=America/New_York:20180430T163000
CREATED;TZID=America/New_York:20180122T105044
LAST-MODIFIED;TZID=America/New_York:20180122T105256
LOCATION:Tully HS Track
SUMMARY:Girls 7th/8th Outdoor Track v. Port Byron\, Southside Academy Chart
 er School\, Syracuse
URL:https://www.schedulegalaxy.com/schools/102/teams/36899/games/118192
END:VEVENT
BEGIN:VEVENT
DTSTAMP:20260422T062020Z
UID:https://www.schedulegalaxy.com/schools/102/teams/36899/games/126204
DTSTART;TZID=America/New_York:20180509T163000
CREATED;TZID=America/New_York:20180215T133141
LAST-MODIFIED;TZID=America/New_York:20180504T133416
LOCATION:Tully H S
SUMMARY:Girls 7th/8th Outdoor Track v. Onondaga Central
URL:https://www.schedulegalaxy.com/schools/102/teams/36899/games/126204
END:VEVENT
BEGIN:VEVENT
DTSTAMP:20260422T062020Z
UID:https://www.schedulegalaxy.com/schools/102/teams/36899/games/128109
DTSTART;TZID=America/New_York:20180503T163000
CREATED;TZID=America/New_York:20180227T130249
LAST-MODIFIED;TZID=America/New_York:20180322T150322
LOCATION:Tully HS Track
SUMMARY:Girls 7th/8th Outdoor Track v. Faith Heritage\, Weedsport
URL:https://www.schedulegalaxy.com/schools/102/teams/36899/games/128109
END:VEVENT
BEGIN:VEVENT
DTSTAMP:20260422T062020Z
UID:https://www.schedulegalaxy.com/schools/102/teams/36899/games/141090
DTSTART;TZID=America/New_York:20180509T163000
CREATED;TZID=America/New_York:20180410T105925
LAST-MODIFIED;TZID=America/New_York:20180410T110104
LOCATION:Tully HS Track
SUMMARY:Girls 7th/8th Outdoor Track v. Cincinnatus
URL:https://www.schedulegalaxy.com/schools/102/teams/36899/games/141090
END:VEVENT
END:VCALENDAR
